BEGIN:VCALENDAR
VERSION:2.0
PRODID:-//digitalHUB Aachen - ECPv6.15.20//NONSGML v1.0//EN
CALSCALE:GREGORIAN
METHOD:PUBLISH
X-ORIGINAL-URL:https://www.aachen.digital/en/
X-WR-CALDESC:Events for digitalHUB Aachen
REFRESH-INTERVAL;VALUE=DURATION:PT1H
X-Robots-Tag:noindex
X-PUBLISHED-TTL:PT1H
BEGIN:VTIMEZONE
TZID:Europe/Berlin
BEGIN:DAYLIGHT
TZOFFSETFROM:+0100
TZOFFSETTO:+0200
TZNAME:CEST
DTSTART:20220327T010000
END:DAYLIGHT
BEGIN:STANDARD
TZOFFSETFROM:+0200
TZOFFSETTO:+0100
TZNAME:CET
DTSTART:20221030T010000
END:STANDARD
BEGIN:DAYLIGHT
TZOFFSETFROM:+0100
TZOFFSETTO:+0200
TZNAME:CEST
DTSTART:20230326T010000
END:DAYLIGHT
BEGIN:STANDARD
TZOFFSETFROM:+0200
TZOFFSETTO:+0100
TZNAME:CET
DTSTART:20231029T010000
END:STANDARD
BEGIN:DAYLIGHT
TZOFFSETFROM:+0100
TZOFFSETTO:+0200
TZNAME:CEST
DTSTART:20240331T010000
END:DAYLIGHT
BEGIN:STANDARD
TZOFFSETFROM:+0200
TZOFFSETTO:+0100
TZNAME:CET
DTSTART:20241027T010000
END:STANDARD
END:VTIMEZONE
BEGIN:VEVENT
DTSTART;TZID=Europe/Berlin:20230523T110000
DTEND;TZID=Europe/Berlin:20230523T120000
DTSTAMP:20260423T235824
CREATED:20230405T132523Z
LAST-MODIFIED:20230508T094857Z
UID:10005860-1684839600-1684843200@www.aachen.digital
SUMMARY:Tim Berresheim - Aus alter Wurzel neue Kraft?
DESCRIPTION:Die Veranstaltungssprache ist Deutsch. \nWie zeitgenössische Kunst das Verständnis für den Wandel der Welt schärfen kann . Ein kleiner Einblick in die Konzeption und Umsetzung von computerbasierten Kunstprojekten und identifikationsstiftende Momente im digitalen Raum. \nEin Blick auf die Entwicklungsschritte vom selbstständigen\, bildenden Künstler\, der erste Bilder mit dem Computer macht\, zum Geschäftsführer einer GmbH\, die große Kunstprojekte und -Ausstellungen für Museen\, Städte und Länder umsetzt.\nWie Kunst im Verbindung mit dem Computer als Schmelztiegel genutzt werden kann\, um sich in der neuen Zeit zu orientieren\, den Transit zu begleiten und Identifikationsmomente zu erschaffen. \nZUR ANMELDUNG \nDieses Event findet im Rahmen der STARTUP WEEK AACHEN 2023 statt.
URL:https://www.aachen.digital/en/event/tim-berresheim-aus-alter-wurzel-neue-kraft/
LOCATION:digitalHUB Aachen\, Jülicher Str. 72a\, Aachen\, Nordrhein-Westfalen\, 52070\, Germany
ATTACH;FMTTYPE=image/jpeg:https://www.aachen.digital/wp-content/uploads/2023/03/SUW-Stage-1632-×-644-px.jpg
END:VEVENT
END:VCALENDAR