BEGIN:VCALENDAR
VERSION:2.0
PRODID:-//digitalHUB Aachen - ECPv6.15.20//NONSGML v1.0//EN
CALSCALE:GREGORIAN
METHOD:PUBLISH
X-WR-CALNAME:digitalHUB Aachen
X-ORIGINAL-URL:https://www.aachen.digital/en/
X-WR-CALDESC:Events for digitalHUB Aachen
REFRESH-INTERVAL;VALUE=DURATION:PT1H
X-Robots-Tag:noindex
X-PUBLISHED-TTL:PT1H
BEGIN:VTIMEZONE
TZID:Europe/Berlin
BEGIN:DAYLIGHT
TZOFFSETFROM:+0100
TZOFFSETTO:+0200
TZNAME:CEST
DTSTART:20180325T010000
END:DAYLIGHT
BEGIN:STANDARD
TZOFFSETFROM:+0200
TZOFFSETTO:+0100
TZNAME:CET
DTSTART:20181028T010000
END:STANDARD
BEGIN:DAYLIGHT
TZOFFSETFROM:+0100
TZOFFSETTO:+0200
TZNAME:CEST
DTSTART:20190331T010000
END:DAYLIGHT
BEGIN:STANDARD
TZOFFSETFROM:+0200
TZOFFSETTO:+0100
TZNAME:CET
DTSTART:20191027T010000
END:STANDARD
BEGIN:DAYLIGHT
TZOFFSETFROM:+0100
TZOFFSETTO:+0200
TZNAME:CEST
DTSTART:20200329T010000
END:DAYLIGHT
BEGIN:STANDARD
TZOFFSETFROM:+0200
TZOFFSETTO:+0100
TZNAME:CET
DTSTART:20201025T010000
END:STANDARD
END:VTIMEZONE
BEGIN:VEVENT
DTSTART;TZID=Europe/Berlin:20190219T190000
DTEND;TZID=Europe/Berlin:20190219T220000
DTSTAMP:20260424T000625
CREATED:20190206T093257Z
LAST-MODIFIED:20190214T143729Z
UID:10004920-1550602800-1550613600@www.aachen.digital
SUMMARY:Toastmasters meets Digitalhub Aachen
DESCRIPTION:Am 19. Februar 2019 findet ein außergewöhnlicher Toastmasters Abend im digitalHUB Aachen statt! \nDas Toastmasters Konzept stammt aus Amerika und ermöglicht es in wohlwollender Atmosphäre seine Präsentations- und Führungsfähigkeiten auszuprobieren. Für die junge Startup Szene ist es umso wichtiger\, sich adäquat präsentieren zu können – an diesem Abend habt ihr die Möglichkeit eure Skills zu testen und Feedback vom ganzen Publikum zu kriegen! \nHier kriegen mutige Unternehmer auch die Möglichkeit\, eine 5-8 minütige\, vorbereitete Rede zu geben – bei Interesse meldet Euch bei den Toastmasters! Diese wird wie jede andere Rede von einem erfahrenen Mitglieder bewertet. Aber auch durch die thematisch passenden Stegreifreden könnt ihr eure Bühnenerfahrung an diesem Abend erweitern. \nToastmasters Aachen e.V. hat sich als Ziel gesetzt\, die lokalen Communities miteinander zu vernetzen. Für Getränke und eine Wohlfühlatmosphäre ist gesorgt! \n  \nHier kommt Ihr zur Anmeldung und zur Facebook-Veranstaltung für weitere Infos:\nToastmasters meets Digitalhub Aachen
URL:https://www.aachen.digital/en/event/toastmasters-meets-digitalhub-aachen/
LOCATION:digitalHUB Aachen\, Jülicher Str. 72a\, Aachen\, Nordrhein-Westfalen\, 52070\, Germany
ATTACH;FMTTYPE=image/jpeg:https://www.aachen.digital/wp-content/uploads/2019/02/Toastmasters-meets-Digitalhub-Aachen_19022019.jpg
END:VEVENT
END:VCALENDAR