BEGIN:VCALENDAR
VERSION:2.0
PRODID:-//digitalHUB Aachen - ECPv6.15.20//NONSGML v1.0//EN
CALSCALE:GREGORIAN
METHOD:PUBLISH
X-WR-CALNAME:digitalHUB Aachen
X-ORIGINAL-URL:https://www.aachen.digital/en/
X-WR-CALDESC:Events for digitalHUB Aachen
REFRESH-INTERVAL;VALUE=DURATION:PT1H
X-Robots-Tag:noindex
X-PUBLISHED-TTL:PT1H
BEGIN:VTIMEZONE
TZID:Europe/Berlin
BEGIN:DAYLIGHT
TZOFFSETFROM:+0100
TZOFFSETTO:+0200
TZNAME:CEST
DTSTART:20210328T010000
END:DAYLIGHT
BEGIN:STANDARD
TZOFFSETFROM:+0200
TZOFFSETTO:+0100
TZNAME:CET
DTSTART:20211031T010000
END:STANDARD
BEGIN:DAYLIGHT
TZOFFSETFROM:+0100
TZOFFSETTO:+0200
TZNAME:CEST
DTSTART:20220327T010000
END:DAYLIGHT
BEGIN:STANDARD
TZOFFSETFROM:+0200
TZOFFSETTO:+0100
TZNAME:CET
DTSTART:20221030T010000
END:STANDARD
BEGIN:DAYLIGHT
TZOFFSETFROM:+0100
TZOFFSETTO:+0200
TZNAME:CEST
DTSTART:20230326T010000
END:DAYLIGHT
BEGIN:STANDARD
TZOFFSETFROM:+0200
TZOFFSETTO:+0100
TZNAME:CET
DTSTART:20231029T010000
END:STANDARD
END:VTIMEZONE
BEGIN:VEVENT
DTSTART;TZID=Europe/Berlin:20220519T153000
DTEND;TZID=Europe/Berlin:20220519T170000
DTSTAMP:20260423T230356
CREATED:20220503T120133Z
LAST-MODIFIED:20220503T120133Z
UID:10005663-1652974200-1652979600@www.aachen.digital
SUMMARY:How to start\, fund and flip a start-up right
DESCRIPTION:Three perspectives of founders turned business angels\, lawyers and VCs\n\n\n\n\n\n\n\nDie Frage:“How to start\, fund and flip a startup right” ist sehr vielschichtig\, und alles andere als trivial\, denn es geht darum\, die richtigen Schritte zur richtigen Zeit mit den richtigen Menschen und dem nötigen Kapital zu gehen. \nAls Experten kennen wir diesen Prozess und geben Euch bei unserem “open talk” gerne unsere Erfahrungen und Empfehlungen direkt aus drei Perspektiven: Gründer\, Investor und Rechtsberater\, aus erster Hand weiter. \nWir\, das sind \n\nMax Odendahl\, Founder und eh. CEO der Silexica GmbH. Mit seiner Silexica hat er den gesamten Gründungsprozess bis zum erfolgreichen Exit erlebt und ist jetzt als gefragter Business Angel unterwegs. Infos hier: linkedin.com/in/maximilianodendahl\n\n\nDr. Philipp Wüllrich\, Partner bei Mazars Law\, Rechtsanwalt und Experte für Handels- und Gesellschaftsrecht weiss\, worauf es beim Gründen und der Beteiligung von Investoren aus rechtlicher Sicht ankommt. Infos hier: www.mazars.de/Users/Our-team/Dr.-Philipp-Wuellrich\n\n\nDr. Ansgar Schleicher und Björn Lang aus dem Team TechVision Fonds: Als Frühphaseninvestor im westlichen Rheinland haben wir mit 55 Learnings aus regionalen startups schon die ein oder andere Gründung begleitet. Infos hier: www.tvf.vc\n\nMit Success-Storys aus unseren Netzwerk geben wir Euch Impulse und Einblicke in startups die sich mit uns auf den Weg gemacht haben und dabei sind\, etwas ganz großes zu erschaffen. \nBringt all Eure Fragen mit! Wir freuen uns auf den offenen Austausch! \nJETZT ANMELDEN!
URL:https://www.aachen.digital/en/event/how-to-start-fund-and-flip-a-start-up-right/
LOCATION:Jülicher Strasse 72a\, Aachen\, 52070\, Germany
ATTACH;FMTTYPE=image/jpeg:https://www.aachen.digital/wp-content/uploads/2022/05/TVF_visual.jpg
END:VEVENT
END:VCALENDAR