BEGIN:VCALENDAR
VERSION:2.0
PRODID:-//digitalHUB Aachen - ECPv6.15.20//NONSGML v1.0//EN
CALSCALE:GREGORIAN
METHOD:PUBLISH
X-WR-CALNAME:digitalHUB Aachen
X-ORIGINAL-URL:https://www.aachen.digital/en/
X-WR-CALDESC:Events for digitalHUB Aachen
REFRESH-INTERVAL;VALUE=DURATION:PT1H
X-Robots-Tag:noindex
X-PUBLISHED-TTL:PT1H
BEGIN:VTIMEZONE
TZID:Europe/Berlin
BEGIN:DAYLIGHT
TZOFFSETFROM:+0100
TZOFFSETTO:+0200
TZNAME:CEST
DTSTART:20210328T010000
END:DAYLIGHT
BEGIN:STANDARD
TZOFFSETFROM:+0200
TZOFFSETTO:+0100
TZNAME:CET
DTSTART:20211031T010000
END:STANDARD
BEGIN:DAYLIGHT
TZOFFSETFROM:+0100
TZOFFSETTO:+0200
TZNAME:CEST
DTSTART:20220327T010000
END:DAYLIGHT
BEGIN:STANDARD
TZOFFSETFROM:+0200
TZOFFSETTO:+0100
TZNAME:CET
DTSTART:20221030T010000
END:STANDARD
BEGIN:DAYLIGHT
TZOFFSETFROM:+0100
TZOFFSETTO:+0200
TZNAME:CEST
DTSTART:20230326T010000
END:DAYLIGHT
BEGIN:STANDARD
TZOFFSETFROM:+0200
TZOFFSETTO:+0100
TZNAME:CET
DTSTART:20231029T010000
END:STANDARD
END:VTIMEZONE
BEGIN:VEVENT
DTSTART;TZID=Europe/Berlin:20220907T100000
DTEND;TZID=Europe/Berlin:20220907T120000
DTSTAMP:20260424T000517
CREATED:20220817T122233Z
LAST-MODIFIED:20220817T122506Z
UID:10006298-1662544800-1662552000@www.aachen.digital
SUMMARY:Künstliche Intelligenz im Maschinenbau
DESCRIPTION:Unterstützung bei der Informationssuche im Unternehmen\nWie KI\, Machine Learning und Co. Einzug in den betrieblichen Alltag finden\, welche Gedanken sich Unternehmen zu diesem Thema gemacht haben und wie eine erfolgreiche Umsetzung gelingen kann\, wird in dieser Veranstaltung anhand von Umsetzungsbeispielen vorgestellt. \nKünstliche Intelligenz (KI) ist eine Technologie zur Umsetzung der Zukunftsvision „Industrie 4.0“. Dabei handelt es sich nicht mehr um eine abstrakte Idee\, sondern um Lösungen\, die in Produkten und im Unternehmen zum Einsatz kommen können. Sowohl die Technologie als auch deren Tools werden stetig weiterentwickelt und sind nicht nur ferne und abstrakte Ideen\, sondern im Produktionsalltag einsetzbare Instrumente. \nDie richtigen Informationen in einem Unternehmen zu finden\, ist trotz bereits vielfach digitalisierter Daten aufgrund der zahlreichen unterschiedlichen Datenquellen oft noch zeitaufwändig – egal ob diese Informationen für ein Projekt benötigt werden oder produktspezifische Details im Mittelpunkt der Suche stehen. KI-Algorithmen bieten hierfür geeignete Lösungsansätze\, um ein schnelleres und zielgerichtetes Finden zu ermöglichen. \nZur Veranstaltungsreihe „Künstliche Intelligenz im Maschinenbau“ \nWie die Umsetzung Einzug in den betrieblichen Alltag finden kann und welche Gedanken sich Unternehmen zu diesem Thema gemacht haben\, wird in dieser Online-Veranstaltung anhand von Umsetzungsbeispielen vorgestellt. Die Unternehmen zeigen\, wie sie die Potenziale für sich und andere nutzbar machen. \nWas können Teilnehmerinnen und Teilnehmer von der Veranstaltungsreihe erwarten? Ziel ist es\, die Relevanz des Einsatzes von KI im Unternehmenskontext zu verdeutlichen. Die Lösungen sind für Unternehmen dabei oft mehrfach von Nutzen: Zum einen mit Blick auf die Weiterentwicklung bestehender Dienstleistungen und zum anderen bezüglich der Optimierung der eigenen Unternehmensprozesse. \nDie Veranstaltungsreihe richtet sich unter anderem an Fach- und Führungskräfte aus den Bereichen Digitalisierung\, IT\, Business Development und Produkt Management sowie an die Geschäftsführung. \nDie Teilnahme an der Veranstaltung ist kostenfrei. \nWeitere Informationen hier. \nZUR ANMELDUNG
URL:https://www.aachen.digital/en/event/kuenstliche-intelligenz-im-maschinenbau/
LOCATION:Jülicher Strasse 72a\, Aachen\, 52070\, Germany
ATTACH;FMTTYPE=image/jpeg:https://www.aachen.digital/wp-content/uploads/2022/08/AdobeStock_358683095-scaled-1.jpeg
END:VEVENT
END:VCALENDAR