BEGIN:VCALENDAR
VERSION:2.0
PRODID:-//digitalHUB Aachen - ECPv6.15.20//NONSGML v1.0//EN
CALSCALE:GREGORIAN
METHOD:PUBLISH
X-WR-CALNAME:digitalHUB Aachen
X-ORIGINAL-URL:https://www.aachen.digital/en/
X-WR-CALDESC:Events for digitalHUB Aachen
REFRESH-INTERVAL;VALUE=DURATION:PT1H
X-Robots-Tag:noindex
X-PUBLISHED-TTL:PT1H
BEGIN:VTIMEZONE
TZID:Europe/Berlin
BEGIN:DAYLIGHT
TZOFFSETFROM:+0100
TZOFFSETTO:+0200
TZNAME:CEST
DTSTART:20180325T010000
END:DAYLIGHT
BEGIN:STANDARD
TZOFFSETFROM:+0200
TZOFFSETTO:+0100
TZNAME:CET
DTSTART:20181028T010000
END:STANDARD
BEGIN:DAYLIGHT
TZOFFSETFROM:+0100
TZOFFSETTO:+0200
TZNAME:CEST
DTSTART:20190331T010000
END:DAYLIGHT
BEGIN:STANDARD
TZOFFSETFROM:+0200
TZOFFSETTO:+0100
TZNAME:CET
DTSTART:20191027T010000
END:STANDARD
BEGIN:DAYLIGHT
TZOFFSETFROM:+0100
TZOFFSETTO:+0200
TZNAME:CEST
DTSTART:20200329T010000
END:DAYLIGHT
BEGIN:STANDARD
TZOFFSETFROM:+0200
TZOFFSETTO:+0100
TZNAME:CET
DTSTART:20201025T010000
END:STANDARD
END:VTIMEZONE
BEGIN:VEVENT
DTSTART;TZID=Europe/Berlin:20190528T080000
DTEND;TZID=Europe/Berlin:20190528T170000
DTSTAMP:20260423T230357
CREATED:20190528T095703Z
LAST-MODIFIED:20190528T100235Z
UID:10005030-1559030400-1559062800@www.aachen.digital
SUMMARY:ViertelvorachtViertelvoracht - das Unternehmerfrühstück in Euskirchen
DESCRIPTION:Auch in 2019 stellt die Struktur- und Wirtschaftsförderung wieder eine Plattform für wichtige Netzwerkarbeit zur Verfügung. In zwangloser Atmosphäre\, mit reichhaltigem Frühstück und großen Mengen Kaffee sind Sie als Unternehmer und Unternehmerin herzlich eingeladen. \nMerken Sie sich die Termine schon jetzt in Ihrem Kalender vor. Es könnten wieder interessante Geschäftspartnerschaften gefunden oder geschaffen werden. \nVeranstaltungspartner ist die Kreissparkasse Euskirchen. \nKostenlos anmelden können Sie sich auf der Homepage: \nWeitere Informationen
URL:https://www.aachen.digital/en/event/viertelvorachtviertelvoracht-das-unternehmerfruehstueck-in-euskirchen/
LOCATION:Seminar- und Tagungshaus Kloster Schweinheim\, Kloster Schweinheim\, Euskirchen\, NRW\, 53881\, Deutschland
ATTACH;FMTTYPE=image/jpeg:https://www.aachen.digital/wp-content/uploads/2019/05/AdobeStock_178232458.jpeg
END:VEVENT
END:VCALENDAR