BEGIN:VCALENDAR
VERSION:2.0
PRODID:-//digitalHUB Aachen - ECPv6.15.20//NONSGML v1.0//EN
CALSCALE:GREGORIAN
METHOD:PUBLISH
X-ORIGINAL-URL:https://www.aachen.digital/en/
X-WR-CALDESC:Events for digitalHUB Aachen
REFRESH-INTERVAL;VALUE=DURATION:PT1H
X-Robots-Tag:noindex
X-PUBLISHED-TTL:PT1H
BEGIN:VTIMEZONE
TZID:Europe/Berlin
BEGIN:DAYLIGHT
TZOFFSETFROM:+0100
TZOFFSETTO:+0200
TZNAME:CEST
DTSTART:20210328T010000
END:DAYLIGHT
BEGIN:STANDARD
TZOFFSETFROM:+0200
TZOFFSETTO:+0100
TZNAME:CET
DTSTART:20211031T010000
END:STANDARD
BEGIN:DAYLIGHT
TZOFFSETFROM:+0100
TZOFFSETTO:+0200
TZNAME:CEST
DTSTART:20220327T010000
END:DAYLIGHT
BEGIN:STANDARD
TZOFFSETFROM:+0200
TZOFFSETTO:+0100
TZNAME:CET
DTSTART:20221030T010000
END:STANDARD
BEGIN:DAYLIGHT
TZOFFSETFROM:+0100
TZOFFSETTO:+0200
TZNAME:CEST
DTSTART:20230326T010000
END:DAYLIGHT
BEGIN:STANDARD
TZOFFSETFROM:+0200
TZOFFSETTO:+0100
TZNAME:CET
DTSTART:20231029T010000
END:STANDARD
END:VTIMEZONE
BEGIN:VEVENT
DTSTART;TZID=Europe/Berlin:20220509T160000
DTEND;TZID=Europe/Berlin:20220509T200000
DTSTAMP:20260423T191616
CREATED:20220420T103526Z
LAST-MODIFIED:20220420T103745Z
UID:10006217-1652112000-1652126400@www.aachen.digital
SUMMARY:Wirtschaftsregion Aachen - nachhaltig & zukunftsfähig
DESCRIPTION:Informations- und Vernetzungsveranstaltung zu nachhaltigem Unternehmertum in Aachen und der Städteregion.\n„Nachhaltigkeit“ ein Begriff der in den letzten Jahren immer stärker an Präsenz gewonnen hat. Der European Green Deal steht in den Startlöchern\, CO2-Besteuerung und Lieferkettengesetz sind im Gespräch. Gleichzeitig sind regionale Unternehmen betroffen vom Hochwasser\, der Corona-Pandemie sowie Preissteigerungen von Rohstoffen. Das sorgt für viel Unsicherheit: Wo anfangen? Welchen Handlungsspielraum habe ich als Unternehmer:in? Mit welcher kommunalen Unterstützung kann man rechnen? \nAuf dieser Informations- und Vernetzungsveranstaltung möchten wir mit Ihnen die derzeitigen Herausforderungen für das Unternehmertum diskutieren\, über politische Entwicklungen und Rahmenbedingungen informieren sowie die damit verbundene Auswirkungen\, Chancen und Potenziale beleuchten. \nIm Fachvortrag hören Sie Dr. Raphaela Kell\, Botschafterin für den European Green Deal. Auf der anschließenden Podiumsdiskussion wagen wir den Transfer der komplexen Nachhaltigkeitsziele (SDGs) auf die praktische Unternehmensebene und lassen uns von konkreten Praxisbeispielen und Erfolgsgeschichten lokaler Unternehmer:innen inspirieren. \nEin „Markt der Möglichkeiten“ lädt im Anschluss – bei Fingerfood und Getränken – zum Austausch mit lokalen Multiplikator:innen ein. Er dient als Ort der Begegnung & Vernetzung\, als zusätzliches Informationsangebot und dazu konkrete Umsetzungspotenziale erkennbar und Synergieeffekte nutzbar zu machen. \nWeitere Informationen und Anmeldung: hier \n 
URL:https://www.aachen.digital/en/event/wirtschaftsregion-aachen-nachhaltig-zukunftsfaehig/
LOCATION:IHK Aachen\, Theaterstraße 6 - 10\, Aachen\, 52062\, Deutschland
ATTACH;FMTTYPE=image/jpeg:https://www.aachen.digital/wp-content/uploads/2022/04/weataachen_stage.jpg
END:VEVENT
END:VCALENDAR