BEGIN:VCALENDAR
VERSION:2.0
PRODID:-//digitalHUB Aachen - ECPv6.15.20//NONSGML v1.0//EN
CALSCALE:GREGORIAN
METHOD:PUBLISH
X-WR-CALNAME:digitalHUB Aachen
X-ORIGINAL-URL:https://www.aachen.digital/en/
X-WR-CALDESC:Events for digitalHUB Aachen
REFRESH-INTERVAL;VALUE=DURATION:PT1H
X-Robots-Tag:noindex
X-PUBLISHED-TTL:PT1H
BEGIN:VTIMEZONE
TZID:Europe/Berlin
BEGIN:DAYLIGHT
TZOFFSETFROM:+0100
TZOFFSETTO:+0200
TZNAME:CEST
DTSTART:20180325T010000
END:DAYLIGHT
BEGIN:STANDARD
TZOFFSETFROM:+0200
TZOFFSETTO:+0100
TZNAME:CET
DTSTART:20181028T010000
END:STANDARD
BEGIN:DAYLIGHT
TZOFFSETFROM:+0100
TZOFFSETTO:+0200
TZNAME:CEST
DTSTART:20190331T010000
END:DAYLIGHT
BEGIN:STANDARD
TZOFFSETFROM:+0200
TZOFFSETTO:+0100
TZNAME:CET
DTSTART:20191027T010000
END:STANDARD
BEGIN:DAYLIGHT
TZOFFSETFROM:+0100
TZOFFSETTO:+0200
TZNAME:CEST
DTSTART:20200329T010000
END:DAYLIGHT
BEGIN:STANDARD
TZOFFSETFROM:+0200
TZOFFSETTO:+0100
TZNAME:CET
DTSTART:20201025T010000
END:STANDARD
END:VTIMEZONE
BEGIN:VEVENT
DTSTART;TZID=Europe/Berlin:20190315T180000
DTEND;TZID=Europe/Berlin:20190315T210000
DTSTAMP:20260425T042621
CREATED:20190319T111602Z
LAST-MODIFIED:20190319T111602Z
UID:10004750-1552672800-1552683600@www.aachen.digital
SUMMARY:Auftaktveranstaltung: Düren.Digital Network
DESCRIPTION:Am Freitag\, 15.03.2019 um 18:00 Uhr wird im neuen Coworking Space hauptcwartier (powered by WIN.DN) das Düren.Digital Network gestartet! \nIn diesem Netzwerk können sich Digitale Gründer und Dürener Unternehmen\, die ein digitales Geschäftsmodell entwickeln\, treffen um gemeinsam Ideen auszutauschen und einfach loszulegen.\nÜbrigens: Mitglieder des Düren.Digital Network erhalten einen kostenlosen Coworking-Platz! \nWinfried Kranz-Pitre\, Geschäftsführer der WIN.DN GmbH führt durch den Abend mit folgenden spannenden Programmpunkten: \n\nPressefoto „Feierliche Eröffnung“\nBegrüßung durch Bürgermeister Paul Larue\nBegrüßung durch Thomas Hissel (1. Beigeordneter Stadt Düren)\nProjektvorstellung Düren.Digital Network durch Winfried Kranz-Pitre (Geschäftsführer WIN.DN GmbH)\nTalk-Runde: “Was sind die Erwartungen der Gründer und Kooperationspartner an das D.DN?”\n– Oliver Grün (DigitalHub Aachen)\n– Eugen Voth (Naduria\, Digitales Bestandsunternehmen)\n– Christian Dietz (Digitalisierungsagentur Neublck)\nPressegespräch\n\nWeitere Informationen finden Sie hier:\nStart – Düren.Digital Network
URL:https://www.aachen.digital/en/event/auftaktveranstaltung-dueren-digital-network/
ATTACH;FMTTYPE=image/jpeg:https://www.aachen.digital/wp-content/uploads/2019/03/20190315_Auftaktveranstaltung-Düren.Digital-Network-1.jpg
END:VEVENT
END:VCALENDAR