BEGIN:VCALENDAR
VERSION:2.0
PRODID:-//digitalHUB Aachen - ECPv6.15.20//NONSGML v1.0//EN
CALSCALE:GREGORIAN
METHOD:PUBLISH
X-ORIGINAL-URL:https://www.aachen.digital/en/
X-WR-CALDESC:Events for digitalHUB Aachen
REFRESH-INTERVAL;VALUE=DURATION:PT1H
X-Robots-Tag:noindex
X-PUBLISHED-TTL:PT1H
BEGIN:VTIMEZONE
TZID:Europe/Berlin
BEGIN:DAYLIGHT
TZOFFSETFROM:+0100
TZOFFSETTO:+0200
TZNAME:CEST
DTSTART:20180325T010000
END:DAYLIGHT
BEGIN:STANDARD
TZOFFSETFROM:+0200
TZOFFSETTO:+0100
TZNAME:CET
DTSTART:20181028T010000
END:STANDARD
BEGIN:DAYLIGHT
TZOFFSETFROM:+0100
TZOFFSETTO:+0200
TZNAME:CEST
DTSTART:20190331T010000
END:DAYLIGHT
BEGIN:STANDARD
TZOFFSETFROM:+0200
TZOFFSETTO:+0100
TZNAME:CET
DTSTART:20191027T010000
END:STANDARD
BEGIN:DAYLIGHT
TZOFFSETFROM:+0100
TZOFFSETTO:+0200
TZNAME:CEST
DTSTART:20200329T010000
END:DAYLIGHT
BEGIN:STANDARD
TZOFFSETFROM:+0200
TZOFFSETTO:+0100
TZNAME:CET
DTSTART:20201025T010000
END:STANDARD
BEGIN:DAYLIGHT
TZOFFSETFROM:+0100
TZOFFSETTO:+0200
TZNAME:CEST
DTSTART:20210328T010000
END:DAYLIGHT
BEGIN:STANDARD
TZOFFSETFROM:+0200
TZOFFSETTO:+0100
TZNAME:CET
DTSTART:20211031T010000
END:STANDARD
BEGIN:DAYLIGHT
TZOFFSETFROM:+0100
TZOFFSETTO:+0200
TZNAME:CEST
DTSTART:20220327T010000
END:DAYLIGHT
BEGIN:STANDARD
TZOFFSETFROM:+0200
TZOFFSETTO:+0100
TZNAME:CET
DTSTART:20221030T010000
END:STANDARD
BEGIN:DAYLIGHT
TZOFFSETFROM:+0100
TZOFFSETTO:+0200
TZNAME:CEST
DTSTART:20230326T010000
END:DAYLIGHT
BEGIN:STANDARD
TZOFFSETFROM:+0200
TZOFFSETTO:+0100
TZNAME:CET
DTSTART:20231029T010000
END:STANDARD
BEGIN:DAYLIGHT
TZOFFSETFROM:+0100
TZOFFSETTO:+0200
TZNAME:CEST
DTSTART:20240331T010000
END:DAYLIGHT
BEGIN:STANDARD
TZOFFSETFROM:+0200
TZOFFSETTO:+0100
TZNAME:CET
DTSTART:20241027T010000
END:STANDARD
BEGIN:DAYLIGHT
TZOFFSETFROM:+0100
TZOFFSETTO:+0200
TZNAME:CEST
DTSTART:20250330T010000
END:DAYLIGHT
BEGIN:STANDARD
TZOFFSETFROM:+0200
TZOFFSETTO:+0100
TZNAME:CET
DTSTART:20251026T010000
END:STANDARD
BEGIN:DAYLIGHT
TZOFFSETFROM:+0100
TZOFFSETTO:+0200
TZNAME:CEST
DTSTART:20260329T010000
END:DAYLIGHT
BEGIN:STANDARD
TZOFFSETFROM:+0200
TZOFFSETTO:+0100
TZNAME:CET
DTSTART:20261025T010000
END:STANDARD
BEGIN:DAYLIGHT
TZOFFSETFROM:+0100
TZOFFSETTO:+0200
TZNAME:CEST
DTSTART:20270328T010000
END:DAYLIGHT
BEGIN:STANDARD
TZOFFSETFROM:+0200
TZOFFSETTO:+0100
TZNAME:CET
DTSTART:20271031T010000
END:STANDARD
END:VTIMEZONE
BEGIN:VEVENT
DTSTART;TZID=Europe/Berlin:20260226T100000
DTEND;TZID=Europe/Berlin:20260226T120000
DTSTAMP:20260423T165253
CREATED:20260127T084607Z
LAST-MODIFIED:20260203T104107Z
UID:10007673-1772100000-1772107200@www.aachen.digital
SUMMARY:Stammtisch GründerINspire
DESCRIPTION:In den vergangenen Monaten hat die Wirtschaftsförderung Aachen sich intensiv mit der regionalen Gründungsszene beschäftigt und analysiert\, wo konkretes Verbesserungspotenzial besteht. Dabei wurde ein Aspekt besonders deutlich:\nEin starkes\, strukturiertes Netzwerk für Frauen\, Mütter & FLINTA* ist bislang nicht ausreichend vorhanden. \nIm Gründungsumfeld besteht weitgehend Einigkeit darüber\, dass belastbare Netzwerke zu den zentralen Erfolgsfaktoren einer Gründung zählen. \nVor diesem Hintergrund freut sich die Wirtschaftsförderung Aachen\, das Netzwerk GründerINspire ins Leben zu rufen. \nGründerINspire richtet sich an Personen mit einer Gründungsidee ebenso wie an bereits selbstständig tätige Frauen\, Mütter & FLINTA*\, die sich einen offenen Austausch auf Augenhöhe wünschen. \nAm 26.02.2026 lädt die Wirtschaftsförderung Aachen zum ersten GründerINspire Stammtisch ein. Ziel ist es\, einen geschützten Raum für Vernetzung\, Erfahrungsaustausch und gegenseitige Unterstützung zu schaffen. \nInhalte des ersten Treffens\n– Kennenlernen und Vernetzung\n– Austausch zu Bedarfen\, Herausforderungen und Erwartungen\n– Gemeinsame Entwicklung von Ideen zur zukünftigen Ausgestaltung des Netzwerks \nGründerINspire richtet sich bewusst an Frauen\, Mütter & FLINTA*\, um einen offenen und unterstützenden Rahmen für fachlichen und persönlichen Austausch zu ermöglichen. \nKinder sind herzlich willkommen. Für eine angenehme Atmosphäre stehen Kaffee und Frühstücksgebäck bereit. \nAnmeldung bis zum 22. Februar per E-Mail an:\n📩 jilviktoria.essing@mail.aachen.de \nZUR ANMELDUNG
URL:https://www.aachen.digital/en/event/stammtisch-netzwerk-fuer-frauen-gruenderinspire/
LOCATION:OecherLab\, Kapuzinergraben 19D\, 52062 Aachen
ATTACH;FMTTYPE=image/jpeg:https://www.aachen.digital/wp-content/uploads/2026/01/Design-ohne-Titel-44.jpg
END:VEVENT
BEGIN:VEVENT
DTSTART;TZID=Europe/Berlin:20250311T110000
DTEND;TZID=Europe/Berlin:20250311T140000
DTSTAMP:20260423T165253
CREATED:20250129T112623Z
LAST-MODIFIED:20250227T083411Z
UID:10007193-1741690800-1741701600@www.aachen.digital
SUMMARY:Fördermittel nutzen – Innovationskraft stärken: Chancen für den Mittelstand
DESCRIPTION:Fördermittel für KMU in der Region Aachen\n\n\nDer EDIH Rheinland lädt Sie gemeinsam mit dem digitalHUB und der Wirtschaftsförderung der Stadt Aachen herzlich zur Informationsveranstaltung über Fördermöglichkeiten für kleine und mittelständische Unternehmen in Aachen und der Region ein! \nFreuen Sie sich auf einen informativen Vortrag von Claudia Brendt (Direktorin Förderberatung Rheinland) und Hanna Schillings (Förderberaterin NRW.Bank). Sie werden Ihnen das Fördermittel „Regionaleswirtschaftförderungsprogramm NRW” (RWP) vorstellen und und erklären\, wie Sie dieses effektiv nutzen können. \nHerr Sergej Pavevliev (Fördermittelberater ZENIT GmbH) wird Ihnen im Anschluss die Forschungszulage vorstellen. Diese Förderung stellt für viele Unternehmen eine äußerst spannende Möglichkeit dar\, um eigene Entwicklungstätigkeiten (auch rückwirkend) fördern zu lassen. Hiernach wird er in Kürze die EU Cascade Calls erläutern\, die einen unbürokratischen Zugang zu EU-Fördergeldern ermöglichen. \nDanach haben Sie die Gelegenheit\, sich in entspannter Atmosphäre mit anderen Teilnehmer:innen bei Snacks und Getränken zu vernetzen. Ansprechpartner der Wirtschaftsförderung der Stadt Aachen\, der Wirtschaftsförderung der Städteregion Aachen\, der Stabsstelle Wirtschaftsförderung des Kreises Euskirchen\, der IHK Aachen\, der EURA AG\, AGIT GmbH und des EDIH Rheinland stehen Ihnen für Fragen und einen intensiven Austausch zur Verfügung. \nNutzen Sie diese Chance\, um wertvolle Informationen zu erhalten und neue Kontakte zu knüpfen\, die Ihnen bei der Weiterentwicklung Ihrer Projekte und Ideen helfen können. \n  \nWir freuen uns auf Ihre Teilnahme! \nANMELDUNG \n\n\nDiese Veranstaltung findet statt in Kooperation mit:
URL:https://www.aachen.digital/en/event/foerdermittel-nutzen-innovationskraft-staerken-chancen-fuer-den-mittelstand/
LOCATION:digitalHUB Aachen e.V. in der digitalCHURCH\, Jülicher Straße 72a\, Aachen\, NRW\, 52070\, Germany
ATTACH;FMTTYPE=image/jpeg:https://www.aachen.digital/wp-content/uploads/2025/01/43a56e020f31b98e7476e8b19b26c7e5.jpg
END:VEVENT
BEGIN:VEVENT
DTSTART;TZID=Europe/Berlin:20230525T170000
DTEND;TZID=Europe/Berlin:20230525T190000
DTSTAMP:20260423T165253
CREATED:20230515T071641Z
LAST-MODIFIED:20230515T080844Z
UID:10005893-1685034000-1685041200@www.aachen.digital
SUMMARY:Best Practices im Bereich Klimaschutz
DESCRIPTION:Zum Auftakt der neuen Veranstaltungsreihe „Best Practices im Bereich Klimaschutz“ lädt die INTEWA GmbH am 25. Mai ab 17 Uhr zu einer Besichtigung des energie- und wasserautarken Firmengebäudes ein. Nachhaltigkeit ist ein bedeutendes Thema für die Bau- und Immobilienbranche. Doch wie umfassend und kosteneffizient kann diese Nachhaltigkeit in Bezug auf Energie- und Wasserneutralität in Gebäuden tatsächlich umgesetzt werden? Dieser spannenden Frage widmet sich das auf Wassertechnik spezialisierte Unternehmen INTEWA in Aachen anhand des eigenen Firmengebäude-Neubaus und lädt Sie zu einer persönlichen Führung durch den Gründer und Geschäftsführer Oliver Ringelstein ein. \nDie Teilnehmendenzahl ist auf zwölf Personen begrenzt. Für weitere Informationen und zur Anmeldung zum Event \nZUR ANMELDUNG
URL:https://www.aachen.digital/en/event/best-practices-im-bereich-klimaschutz/
LOCATION:INTEWA GmbH\, Auf der Hüls 182\, Aachen\, 52068
ATTACH;FMTTYPE=image/jpeg:https://www.aachen.digital/wp-content/uploads/2023/05/intewa_stage.jpg
END:VEVENT
BEGIN:VEVENT
DTSTART;TZID=Europe/Berlin:20200917T090000
DTEND;TZID=Europe/Berlin:20200917T170000
DTSTAMP:20260423T165253
CREATED:20191210T094611Z
LAST-MODIFIED:20200903T130227Z
UID:10005477-1600333200-1600362000@www.aachen.digital
SUMMARY:#3 Open Office der Wirtschaftsförderung der Stadt Aachen
DESCRIPTION:Sie suchen den passenden Standort für Ihr Unternehmen? Und/oder sind Sie auf der Suche nach der passenden Förderung für Ihr Vorhaben? \nEgal welche Fragestellung Sie aktuell beschäftigt\, wir finden mit Ihnen gemeinsam die richtigen Antworten.\nDamit Sie sich schon heute über diverse Möglichkeiten für Ihre zukünftigen und bestehenden Projekte informieren können\, laden wir Sie zu unserem Sprechtag ein\, der gemeinsam vom digitalHUB und der Wirtschaftsförderung der Stadt Aachen ausgerichtet wird. \nIn persönlichen Gesprächen werden Ihre konkreten Handlungsbedarfe abgeklärt und die Mitarbeiterinnen und Mitarbeiter der Wirtschaftsförderung der Stadt Aachen informieren Sie rund um die Themen: \n\nStandortsuche bzw. -verlagerung sowie Gewerbeflächen\, sowohl zur Miete als auch zum Kauf\nFinanzierungs- und Fördermittelberatung\, insbesondere zur Markteinführung innovativer Produkte in der Gründungsphase im Rahmen des Regionalen Wirtschaftsförderungsprogramms (RWP) NRW\n\nWir unterstützen Sie bei generellen Fragestellungen\, die Sie als Unternehmerinnen und Unternehmer rund um die Stadt Aachen beschäftigen. \nWirtschaftsförderung in Aachen: Wir bündeln Angebote für Sie\, richten unsere Beratungsleistungen individuell auf Sie aus und suchen für Sie nach pragmatischen Lösungen auf kurzen Wegen! \nBitte melden Sie sich direkt unter philicia.dickmeis@hubaachen.de an. Um den Austausch so effizient wie möglich zu gestalten\, bitten wir Sie\, bei der Anmeldung mitzuteilen\, welche Themenschwerpunkte Sie gerne ansprechen möchten. Der Termin findet über ZOOM statt. \n 
URL:https://www.aachen.digital/en/event/3-open-office-der-wirtschaftsfoerderung-der-stadt-aachen-2/
LOCATION:ZOOM
ATTACH;FMTTYPE=image/jpeg:https://www.aachen.digital/wp-content/uploads/2019/02/AdobeStock_214455476-12_6-1.jpeg
END:VEVENT
BEGIN:VEVENT
DTSTART;TZID=Europe/Berlin:20191106T140000
DTEND;TZID=Europe/Berlin:20191106T180000
DTSTAMP:20260423T165253
CREATED:20190726T103106Z
LAST-MODIFIED:20190815T091043Z
UID:10004812-1573048800-1573063200@www.aachen.digital
SUMMARY:Open Office der Wirtschaftsförderung der Stadt Aachen
DESCRIPTION:Sie suchen den passenden Standort für Ihr Unternehmen? Und/oder sind Sie auf der Suche nach der passenden Förderung für Ihr Vorhaben? \nEgal welche Fragestellung Sie aktuell beschäftigt\, wir finden mit Ihnen gemeinsam die richtigen Antworten.\nDamit Sie sich schon heute über diverse Möglichkeiten für Ihre zukünftigen und bestehenden Projekte informieren können\, laden wir Sie zu unserem Sprechtag ein\, der gemeinsam vom digitalHUB und der Wirtschaftsförderung der Stadt Aachen ausgerichtet wird. \nIn persönlichen Gesprächen werden Ihre konkreten Handlungsbedarfe abgeklärt und die Mitarbeiterinnen und Mitarbeiter der Wirtschaftsförderung der Stadt Aachen informieren Sie rund um die Themen: \n\nStandortsuche bzw. -verlagerung sowie Gewerbeflächen\, sowohl zur Miete als auch zum Kauf\nFinanzierungs- und Fördermittelberatung\, insbesondere zur Markteinführung innovativer Produkte in der Gründungsphase im Rahmen des Regionalen Wirtschaftsförderungsprogramms (RWP) NRW\n\nWir unterstützen Sie bei generellen Fragestellungen\, die Sie als Unternehmerinnen und Unternehmer rund um die Stadt Aachen beschäftigen. \nWirtschaftsförderung in Aachen: Wir bündeln Angebote für Sie\, richten unsere Beratungsleistungen individuell auf Sie aus und suchen für Sie nach pragmatischen Lösungen auf kurzen Wegen! \nBitte melden Sie sich direkt unter philicia.dickmeis@hubaachen.de an. Um den Austausch so effizient wie möglich zu gestalten\, bitten wir Sie\, bei der Anmeldung mitzuteilen\, welche Themenschwerpunkte Sie gerne ansprechen möchten. \n  \n 
URL:https://www.aachen.digital/en/event/open-office-der-wirtschaftsfoerderung-der-stadt-aachen-november/
LOCATION:digitalHUB Aachen\, Jülicher Str. 72a\, Aachen\, Nordrhein-Westfalen\, 52070\, Germany
ATTACH;FMTTYPE=image/jpeg:https://www.aachen.digital/wp-content/uploads/2019/02/AdobeStock_214455476-12_6-1.jpeg
END:VEVENT
BEGIN:VEVENT
DTSTART;TZID=Europe/Berlin:20190919T140000
DTEND;TZID=Europe/Berlin:20190919T180000
DTSTAMP:20260423T165253
CREATED:20190726T103156Z
LAST-MODIFIED:20190815T090852Z
UID:10004815-1568901600-1568916000@www.aachen.digital
SUMMARY:Open Office der Wirtschaftsförderung der Stadt Aachen
DESCRIPTION:Sie suchen den passenden Standort für Ihr Unternehmen? Und/oder sind Sie auf der Suche nach der passenden Förderung für Ihr Vorhaben? \nEgal welche Fragestellung Sie aktuell beschäftigt\, wir finden mit Ihnen gemeinsam die richtigen Antworten.\nDamit Sie sich schon heute über diverse Möglichkeiten für Ihre zukünftigen und bestehenden Projekte informieren können\, laden wir Sie zu unserem Sprechtag ein\, der gemeinsam vom digitalHUB und der Wirtschaftsförderung der Stadt Aachen ausgerichtet wird. \nIn persönlichen Gesprächen werden Ihre konkreten Handlungsbedarfe abgeklärt und die Mitarbeiterinnen und Mitarbeiter der Wirtschaftsförderung der Stadt Aachen informieren Sie rund um die Themen: \n\nStandortsuche bzw. -verlagerung sowie Gewerbeflächen\, sowohl zur Miete als auch zum Kauf\nFinanzierungs- und Fördermittelberatung\, insbesondere zur Markteinführung innovativer Produkte in der Gründungsphase im Rahmen des Regionalen Wirtschaftsförderungsprogramms (RWP) NRW\n\nWir unterstützen Sie bei generellen Fragestellungen\, die Sie als Unternehmerinnen und Unternehmer rund um die Stadt Aachen beschäftigen. \nWirtschaftsförderung in Aachen: Wir bündeln Angebote für Sie\, richten unsere Beratungsleistungen individuell auf Sie aus und suchen für Sie nach pragmatischen Lösungen auf kurzen Wegen! \nBitte melden Sie sich direkt unter philicia.dickmeis@hubaachen.de an. Um den Austausch so effizient wie möglich zu gestalten\, bitten wir Sie\, bei der Anmeldung mitzuteilen\, welche Themenschwerpunkte Sie gerne ansprechen möchten. \n  \n 
URL:https://www.aachen.digital/en/event/open-office-der-wirtschaftsfoerderung-der-stadt-aachen-september/
LOCATION:digitalHUB Aachen\, Jülicher Str. 72a\, Aachen\, Nordrhein-Westfalen\, 52070\, Germany
ATTACH;FMTTYPE=image/jpeg:https://www.aachen.digital/wp-content/uploads/2019/02/AdobeStock_214455476-12_6-1.jpeg
END:VEVENT
BEGIN:VEVENT
DTSTART;TZID=Europe/Berlin:20190529T140000
DTEND;TZID=Europe/Berlin:20190529T180000
DTSTAMP:20260423T165253
CREATED:20190501T102553Z
LAST-MODIFIED:20190510T104346Z
UID:10004769-1559138400-1559152800@www.aachen.digital
SUMMARY:Open Office der Wirtschaftsförderung der Stadt Aachen
DESCRIPTION:Liebe Unternehmerinnen und Unternehmer\, \nSie suchen den passenden Standort für Ihr Unternehmen? Und/oder sind Sie auf der Suche nach der passenden Förderung für Ihr Vorhaben? \nEgal welche Fragestellung Sie aktuell beschäftigt\, wir finden mit Ihnen gemeinsam die richtigen Antworten.\nDamit Sie sich schon heute über diverse Möglichkeiten für Ihre zukünftigen und bestehenden Projekte informieren können\, laden wir Sie zu unserem Sprechtag ein\, der gemeinsam vom digitalHUB und der Wirtschaftsförderung der Stadt Aachen ausgerichtet wird. \nIn persönlichen Gesprächen werden Ihre konkreten Handlungsbedarfe abgeklärt und die Mitarbeiterinnen und Mitarbeiter der Wirtschaftsförderung der Stadt Aachen informieren Sie rund um die Themen: \n\nStandortsuche bzw. -verlagerung sowie Gewerbeflächen\, sowohl zur Miete als auch zum Kauf\nFinanzierungs- und Fördermittelberatung\, insbesondere zur Markteinführung innovativer Produkte in der Gründungsphase im Rahmen des Regionalen Wirtschaftsförderungsprogramms (RWP) NRW\n\nWir unterstützen Sie bei generellen Fragestellungen\, die Sie als Unternehmerinnen und Unternehmer rund um die Stadt Aachen beschäftigen. \nWirtschaftsförderung in Aachen: Wir bündeln Angebote für Sie\, richten unsere Beratungsleistungen individuell auf Sie aus und suchen für Sie nach pragmatischen Lösungen auf kurzen Wegen! \nBitte melden Sie sich direkt unter philicia.dickmeis@hubaachen.de an. Um den Austausch so effizient wie möglich zu gestalten\, bitten wir Sie\, bei der Anmeldung mitzuteilen\, welche Themenschwerpunkte Sie gerne ansprechen möchten. \n  \n 
URL:https://www.aachen.digital/en/event/open-office-wirtschaftsfoerderung-05-19/
LOCATION:digitalHUB Aachen\, Jülicher Str. 72a\, Aachen\, Nordrhein-Westfalen\, 52070\, Germany
ATTACH;FMTTYPE=image/jpeg:https://www.aachen.digital/wp-content/uploads/2019/02/AdobeStock_214455476-12_6-1.jpeg
END:VEVENT
END:VCALENDAR