BEGIN:VCALENDAR
VERSION:2.0
PRODID:-//digitalHUB Aachen - ECPv6.15.20//NONSGML v1.0//EN
CALSCALE:GREGORIAN
METHOD:PUBLISH
X-WR-CALNAME:digitalHUB Aachen
X-ORIGINAL-URL:https://www.aachen.digital/en/
X-WR-CALDESC:Events for digitalHUB Aachen
REFRESH-INTERVAL;VALUE=DURATION:PT1H
X-Robots-Tag:noindex
X-PUBLISHED-TTL:PT1H
BEGIN:VTIMEZONE
TZID:Europe/Berlin
BEGIN:DAYLIGHT
TZOFFSETFROM:+0100
TZOFFSETTO:+0200
TZNAME:CEST
DTSTART:20220327T010000
END:DAYLIGHT
BEGIN:STANDARD
TZOFFSETFROM:+0200
TZOFFSETTO:+0100
TZNAME:CET
DTSTART:20221030T010000
END:STANDARD
BEGIN:DAYLIGHT
TZOFFSETFROM:+0100
TZOFFSETTO:+0200
TZNAME:CEST
DTSTART:20230326T010000
END:DAYLIGHT
BEGIN:STANDARD
TZOFFSETFROM:+0200
TZOFFSETTO:+0100
TZNAME:CET
DTSTART:20231029T010000
END:STANDARD
BEGIN:DAYLIGHT
TZOFFSETFROM:+0100
TZOFFSETTO:+0200
TZNAME:CEST
DTSTART:20240331T010000
END:DAYLIGHT
BEGIN:STANDARD
TZOFFSETFROM:+0200
TZOFFSETTO:+0100
TZNAME:CET
DTSTART:20241027T010000
END:STANDARD
BEGIN:DAYLIGHT
TZOFFSETFROM:+0100
TZOFFSETTO:+0200
TZNAME:CEST
DTSTART:20250330T010000
END:DAYLIGHT
BEGIN:STANDARD
TZOFFSETFROM:+0200
TZOFFSETTO:+0100
TZNAME:CET
DTSTART:20251026T010000
END:STANDARD
BEGIN:DAYLIGHT
TZOFFSETFROM:+0100
TZOFFSETTO:+0200
TZNAME:CEST
DTSTART:20260329T010000
END:DAYLIGHT
BEGIN:STANDARD
TZOFFSETFROM:+0200
TZOFFSETTO:+0100
TZNAME:CET
DTSTART:20261025T010000
END:STANDARD
END:VTIMEZONE
BEGIN:VEVENT
DTSTART;TZID=Europe/Berlin:20250129T140000
DTEND;TZID=Europe/Berlin:20250129T173000
DTSTAMP:20260423T165140
CREATED:20241223T125922Z
LAST-MODIFIED:20241223T125922Z
UID:10007128-1738159200-1738171800@www.aachen.digital
SUMMARY:Take-Off 2.0 in Euskirchen: Ihre Chance für den digitalen Durchbruch!
DESCRIPTION:Der Kreis Euskirchen (Stabsstelle Struktur und Wirtschaftsförderung) lädt Sie gemeinsam mit der AGIT und dem European Digital Innovation Hub (EDIH) Rheinland herzlich ein zum Take-Off 2.0 in Euskirchen: Ihre Chance für den digitalen Durchbruch! \nIst das etwas für Sie? Finden Sie es heraus: \n  \nMöchten Sie Ihre internen Prozesse digitalisieren\, vereinfachen und dabei Kosten senken? \nWollen Sie Ihre Produktionsdaten in echtes Potenzial verwandeln? \nDenken Sie über den Einsatz von KI in Ihrem Unternehmen nach\, wissen aber nicht\, wie Sie starten sollen? \nSagen Sie Ja – und profitieren Sie! \nNutzen Sie die kostenlosen Angebote des EDIH Rheinland und knüpfen Sie wertvolle Verbindungen zu unseren starken Projektpartnern. \nSeien Sie dabei – gestalten Sie die digitale Zukunft mit! \nDie Teilnahme an der Veranstaltung kann bis zum 27.01.2025 online gebucht werden. \nHier anmelden und mehr erfahren!
URL:https://www.aachen.digital/en/event/take-off-2-0-in-euskirchen/
LOCATION:Ideenfabrik Nachhaltige Wirtschaft\, Josef-Ruhr-Straße 30\, Euskirchen\, Nordrhein-Westfalen\, 53879\, Germany
ATTACH;FMTTYPE=image/jpeg:https://www.aachen.digital/wp-content/uploads/2024/12/Take-Off-Euskirchen.jpg
END:VEVENT
BEGIN:VEVENT
DTSTART;TZID=Europe/Berlin:20231025T170000
DTEND;TZID=Europe/Berlin:20231025T200000
DTSTAMP:20260423T165140
CREATED:20230926T105838Z
LAST-MODIFIED:20230926T105838Z
UID:10005962-1698253200-1698264000@www.aachen.digital
SUMMARY:After-Work-Café für Unternehmerinnen und Gründerinnen aus dem Kreis Euskirchen
DESCRIPTION:Das After-Work-Café\, das zweimal im Jahr in wechselnden Locations stattfindet\, bietet Unternehmerinnen und Gründerinnen neben einem fachlichen Input die Möglichkeit\, in lockerer Atmosphäre Kontakte zu knüpfen und zu netzwerken. \nFür die Organisatoren Wirtschaftsförderung Kreis Euskirchen\, Kompetenzzentrum Frau und Beruf Region Aachen\, Agentur für Arbeit Brühl und Jobcenter EU-aktiv ist klar: Erfolgreiche Frauen stärken den Wirtschaftsstandort Kreis Euskirchen. \nIm Netzwerk teilen die Frauen Wissen und Erfahrungen\, damit aus Kontakten Beziehungen entstehen. \nZUR ANMELDUNG
URL:https://www.aachen.digital/en/event/after-work-cafe-fuer-unternehmerinnen-und-gruenderinnen-aus-dem-kreis-euskirchen/
LOCATION:Krewelshof Eifel
ATTACH;FMTTYPE=image/jpeg:https://www.aachen.digital/wp-content/uploads/2023/09/after-work-cafe-stage.jpg
END:VEVENT
END:VCALENDAR