BEGIN:VCALENDAR
VERSION:2.0
PRODID:-//digitalHUB Aachen - ECPv6.15.20//NONSGML v1.0//EN
CALSCALE:GREGORIAN
METHOD:PUBLISH
X-WR-CALNAME:digitalHUB Aachen
X-ORIGINAL-URL:https://www.aachen.digital/en/
X-WR-CALDESC:Events for digitalHUB Aachen
REFRESH-INTERVAL;VALUE=DURATION:PT1H
X-Robots-Tag:noindex
X-PUBLISHED-TTL:PT1H
BEGIN:VTIMEZONE
TZID:Europe/Berlin
BEGIN:DAYLIGHT
TZOFFSETFROM:+0100
TZOFFSETTO:+0200
TZNAME:CEST
DTSTART:20240331T010000
END:DAYLIGHT
BEGIN:STANDARD
TZOFFSETFROM:+0200
TZOFFSETTO:+0100
TZNAME:CET
DTSTART:20241027T010000
END:STANDARD
BEGIN:DAYLIGHT
TZOFFSETFROM:+0100
TZOFFSETTO:+0200
TZNAME:CEST
DTSTART:20250330T010000
END:DAYLIGHT
BEGIN:STANDARD
TZOFFSETFROM:+0200
TZOFFSETTO:+0100
TZNAME:CET
DTSTART:20251026T010000
END:STANDARD
BEGIN:DAYLIGHT
TZOFFSETFROM:+0100
TZOFFSETTO:+0200
TZNAME:CEST
DTSTART:20260329T010000
END:DAYLIGHT
BEGIN:STANDARD
TZOFFSETFROM:+0200
TZOFFSETTO:+0100
TZNAME:CET
DTSTART:20261025T010000
END:STANDARD
END:VTIMEZONE
BEGIN:VEVENT
DTSTART;TZID=Europe/Berlin:20251119T180000
DTEND;TZID=Europe/Berlin:20251119T203000
DTSTAMP:20260423T165709
CREATED:20251007T075541Z
LAST-MODIFIED:20251007T080830Z
UID:10007444-1763575200-1763584200@www.aachen.digital
SUMMARY:futuRE Lounge 2025
DESCRIPTION:ZUKUNFT IM RHEIN-ERFT-KREIS. \nDie Wirtschaftsförderung Rhein-Erft GmbH lädt Sie herzlich zu der diesjährigen „futuRE Lounge“\, am Mittwoch den 19. November 2025 um 18.00 Uhr in das MEDIO.RHEIN.ERFT nach Bergheim ein.\nDer Wandel im Rhein-Erft-Kreis – von der Braunkohle hin zur Digitalregion – ist in vollem Gange und wird durch das Handeln zahlreicher Akteure aus der Unternehmerschaft\,\nPolitik und Verwaltung aktiv gestaltet. Im Zentrum stehen dabei nach wie vor die Ansiedlung der Microsoft-Hyperscale-Rechenzentren mit ihren Anziehungseffekten auf\nUnternehmen aus der Digitalwirtschaft\, sowie die damit verbundene Entwicklung der Digitalparks im Rhein-Erft-Kreis. Sie sind entscheidende Faktoren\, um neue Arbeitsplätze\nzu schaffen. \nLernen Sie interessante Projekte und Gründungskonzepte kennen und entscheiden Sie mit\, wer mit dem diesjährigen „EXISTENZGRÜNDUNGSPREIS RHEIN-ERFT-KREIS 2025“ prämiert werden soll. \nZukunftsmanager Dr. Pero Mićić blickt in seiner Keynote auf die Wirtschaftswelt der Zukunft\, welche Trends auf sie einwirken werden und welche Eigenschaften\ndabei ein zukunftsfähiges Unternehmen mitbringen sollte. Dabei wird er auf die gegenwärtige Entwicklung des Rhein-Erft-Kreises zur „Digitalregion“ eingehen.\nTauschen Sie sich mit der Rhein-Erft GmbH bei der „futuRE Lounge 2025“ in gewohnt entspannter Atmosphäre aus und seien Sie Teil der Zukunft des Rhein-Erft-Kreises.\nDie Wirtschaftsförderung Rhein-Erft GmbH freut sich auf Sie! \n\nab 17:30 Uhr EINTREFFEN & SNACKS\n18:00 Uhr BEGRÜßUNG\nfutuRE AKTUELL –  Aktuelle Themen & Projekte\nKEYNOTE – Bright Future Business\, Dr. Pero Mićić\, führender Experte für Zukunftsmanagement\nTALK – Austausch mit verschiedenen Akteuren über aktuelle Projekte\, Anwendungsfelder und Ansätze für kleine und mittelständische Unternehmen\nEXISTENZGRÜNDUNGSPREIS RHEIN-ERFT-KREIS 2025 – Das Finale – Pitch der drei besten Vorhaben\nab 20:00 Uhr AUSKLANG IN DER FUTURE LOUNGE – Durch die Veranstaltung führt Moderator Henning Quanz.\n\nDie Teilnahme ist kostenfrei\, die Wirtschaftsförderung Rhein-Erft GmbH bittet um verbindliche Anmeldung bis zum 30. Oktober 2025. \nANMELDUNG
URL:https://www.aachen.digital/en/event/future-lounge-2025/
LOCATION:Medio.Rhein.Erft
ATTACH;FMTTYPE=image/jpeg:https://www.aachen.digital/wp-content/uploads/2025/10/Design-ohne-Titel-5.jpg
END:VEVENT
BEGIN:VEVENT
DTSTART;VALUE=DATE:20250908
DTEND;VALUE=DATE:20250913
DTSTAMP:20260423T165709
CREATED:20250331T074717Z
LAST-MODIFIED:20250731T102132Z
UID:10007292-1757289600-1757721599@www.aachen.digital
SUMMARY:Digitale Woche Rhein-Erft
DESCRIPTION:Eine ganze Woche voller attraktiver Veranstaltungen rund um Zukunfts- und Digitalisierungsthemen: Das bietet die Digitale Woche Rhein-Erft zwischen dem 8. und 12. September. Unternehmen\, Organisationen sowie Vereine aus dem Rhein-Erft-Kreis und der Region veranstalten Events in allen 10 Städten des Kreises. \nHier mehr erfahren!
URL:https://www.aachen.digital/en/event/digitale-woche-rhein-erft/
LOCATION:Rhein-Erft-Kreis\, Willy-Brandt-Platz 1\, Bergheim\, 50126\, Deutschland
ATTACH;FMTTYPE=image/jpeg:https://www.aachen.digital/wp-content/uploads/2025/03/Design-ohne-Titel-64.jpg
END:VEVENT
BEGIN:VEVENT
DTSTART;TZID=Europe/Berlin:20250627T150000
DTEND;TZID=Europe/Berlin:20250627T183000
DTSTAMP:20260423T165709
CREATED:20250617T140242Z
LAST-MODIFIED:20250617T140242Z
UID:10007366-1751036400-1751049000@www.aachen.digital
SUMMARY:9. Treffen „Netzwerk Digital Rhein-Erft“
DESCRIPTION:Die Wirtschaftsförderung Rhein-Erft GmbH und ihre Partner laden dich ein zum \n9. Treffen „Netzwerk Digital Rhein-Erft“ am Freitag\, 27. Juni 2025\, ab 15 Uhr bei INSIGMA IT Engineering GmbH in der Europaallee 31\, 50226 Frechen. \nBei diesem erfolgreichen Networking-Format treffen sich Digitalisierer\, IT-Entscheider und Unternehmerinnen und Unternehmer aus der Region zum Erfahrungsaustausch bei Limo\, Kölsch und Snacks. Diesmal präsentiert sich INSIGMA IT Engineering GmbH. Bei schönem Wetter findet das Treffen auf dem Open-Air-Grillplatz hinter dem INSIGMA Headquarter statt. Der inhaltliche Austausch dreht sich um das Thema Business Continuity Management (BCM) und Desaster Recovery (DR) anhand eines praktischen Erfahrungsberichts. \nFreue dich auf den Austausch mit weiteren Akteuren\, um die Digitalisierung im Rhein-Erft-Kreis am bundesweiten Digitaltag 2025 einen weiteren Schritt voranzubringen. Die Veranstaltung wird in Kooperation mit der Wirtschaftsförderung der Stadt Frechen sowie Brühl digital e.V. durchgeführt. \nZUR ANMELDUNG
URL:https://www.aachen.digital/en/event/9-treffen-netzwerk-digital-rhein-erft/
LOCATION:INSIGMA IT Engineering GmbH\, Europaallee 31\, Frechen\, NRW\, 50226\, Germany
ATTACH;FMTTYPE=image/jpeg:https://www.aachen.digital/wp-content/uploads/2025/06/20250321_Netzwerk_Digital412.jpg
END:VEVENT
BEGIN:VEVENT
DTSTART;TZID=Europe/Berlin:20250321T150000
DTEND;TZID=Europe/Berlin:20250321T183000
DTSTAMP:20260423T165709
CREATED:20250226T122024Z
LAST-MODIFIED:20250226T122719Z
UID:10007245-1742569200-1742581800@www.aachen.digital
SUMMARY:8. Treffen „Netzwerk Digital Rhein-Erft“
DESCRIPTION:Bei diesem erfolgreichen Networking-Format treffen sich Digitalisierer\, IT-Entscheider und Unternehmerinnen und Unternehmer aus der Region zum Erfahrungsaustausch. Diesmal macht das Format an einem weiteren Hotspot der Digitalisierung im Rhein-Erft-Kreis Station: Im QUIRINUS Forum in Heppendorf\, wo unter anderem die SME Management GmbH ihren Sitz hat. Dazu passend sind diesmal die Schwerpunktthemen die veränderten Strombedarfe durch KI und die digitale Transformation des Rheinischen Reviers. \nHier anmelden und mehr erfahren \n 
URL:https://www.aachen.digital/en/event/8-treffen-netzwerk-digital-rhein-erft/
LOCATION:QUIRINUS Forum Heppendorf\, Am Schlehdorn 5-7\, Elsdorf\, 50189
ATTACH;FMTTYPE=image/jpeg:https://www.aachen.digital/wp-content/uploads/2025/02/Design-ohne-Titel-61.jpg
END:VEVENT
END:VCALENDAR