BEGIN:VCALENDAR
VERSION:2.0
PRODID:-//digitalHUB Aachen - ECPv6.15.20//NONSGML v1.0//EN
CALSCALE:GREGORIAN
METHOD:PUBLISH
X-ORIGINAL-URL:https://www.aachen.digital/en/
X-WR-CALDESC:Events for digitalHUB Aachen
REFRESH-INTERVAL;VALUE=DURATION:PT1H
X-Robots-Tag:noindex
X-PUBLISHED-TTL:PT1H
BEGIN:VTIMEZONE
TZID:Europe/Berlin
BEGIN:DAYLIGHT
TZOFFSETFROM:+0100
TZOFFSETTO:+0200
TZNAME:CEST
DTSTART:20230326T010000
END:DAYLIGHT
BEGIN:STANDARD
TZOFFSETFROM:+0200
TZOFFSETTO:+0100
TZNAME:CET
DTSTART:20231029T010000
END:STANDARD
BEGIN:DAYLIGHT
TZOFFSETFROM:+0100
TZOFFSETTO:+0200
TZNAME:CEST
DTSTART:20240331T010000
END:DAYLIGHT
BEGIN:STANDARD
TZOFFSETFROM:+0200
TZOFFSETTO:+0100
TZNAME:CET
DTSTART:20241027T010000
END:STANDARD
BEGIN:DAYLIGHT
TZOFFSETFROM:+0100
TZOFFSETTO:+0200
TZNAME:CEST
DTSTART:20250330T010000
END:DAYLIGHT
BEGIN:STANDARD
TZOFFSETFROM:+0200
TZOFFSETTO:+0100
TZNAME:CET
DTSTART:20251026T010000
END:STANDARD
BEGIN:DAYLIGHT
TZOFFSETFROM:+0100
TZOFFSETTO:+0200
TZNAME:CEST
DTSTART:20260329T010000
END:DAYLIGHT
BEGIN:STANDARD
TZOFFSETFROM:+0200
TZOFFSETTO:+0100
TZNAME:CET
DTSTART:20261025T010000
END:STANDARD
END:VTIMEZONE
BEGIN:VEVENT
DTSTART;TZID=Europe/Berlin:20250710T190000
DTEND;TZID=Europe/Berlin:20250710T210000
DTSTAMP:20260423T165821
CREATED:20250707T073838Z
LAST-MODIFIED:20250707T073838Z
UID:10007384-1752174000-1752181200@www.aachen.digital
SUMMARY:Gründerstammtisch im Kreis Heinsberg
DESCRIPTION:Thema des Abends: Das Barrierefreiheitsstärkungsgesetz (BFSG) – wer ist wie betroffen? \nKreis Heinsberg. Die Wirtschaftsförderungsgesellschaft für den Kreis Heinsberg mbH (WFG) und die Werkbank Heinsberg laden am Donnerstag\, 10. Juli 2025 zum nächsten Gründerstammtisch Kreis Heinsberg ein. Um 19.00 Uhr treffen sich Gründungsinteressierte\, Gründer:innen sowie Unternehmer:innen zum lockeren Erfahrungsaustausch in Sachen Unternehmensgründung und Unternehmensführung in der Werkbank Heinsberg. \nNeben dem für alle Teilnehmenden interessanten Austausch untereinander wird es einen kurzen Impulsvortrag zum am 28.6.2025 in Kraft getretenen Barrierefreiheitsstärkungsgesetz (BFSG) geben. Das BFSG verpflichtet Unternehmen\, bestimmte Produkte und Dienstleistungen barrierefrei zu gestalten und anzubieten. Dies betrifft sowohl physische Produkte als auch digitale Dienstleistungen\, wie Websites und Online-Shops\, sowie Selbstbedienungsterminals. \nWie so oft herrscht insbesondere unter den Soloselbständigen\, Freelancern und Kleinunternehmern ein große Verunsicherung\, ob sie in Bezug auf das BFSG tätig werden müssen. \nDeshalb wird die Texterin für soziale & inklusive Kommunikation und Übersetzerin für Einfache/Leichte Sprache Sara Henßen\, selbst regelmäßig Gast beim Gründerstammtisch\, an diesem Abend Licht ins Dunkel des BFSG bringen. Sie arbeitet tagtäglich mit Inhalten für barrierefreie Angebote. \nAlle\, die einen Beitrag zum Gründungsgeschehen leisten wollen\, sind herzlich eingeladen. Der Gründerstammtisch findet im Werkbank Coworking-Space\, Hochstraße 100\, 5225 Heinsberg statt. Eine Anmeldung per E-Mail an gruenderstammtisch@wfg-kreis-heinsberg.de ist zwingend erforderlich. Anmeldungen werden bis Dienstag\, 08. Juli 2025 entgegengenommen. \nWeite Informationen
URL:https://www.aachen.digital/en/event/gruenderstammtisch-im-kreis-heinsberg/
LOCATION:Werkbank Heinsberg\, Hochstraße 100\, Heinsberg\, 52525
ATTACH;FMTTYPE=image/jpeg:https://www.aachen.digital/wp-content/uploads/2025/07/Gruenderstammtisch.jpg
ORGANIZER;CN="Wirtschaftsf%C3%B6rderungsgesellschaft Kreis Heinsberg%2C Werkbank":MAILTO:info@wfg-kreis-heinsberg.de
END:VEVENT
BEGIN:VEVENT
DTSTART;TZID=Europe/Berlin:20250109T190000
DTEND;TZID=Europe/Berlin:20250109T210000
DTSTAMP:20260423T165821
CREATED:20241209T085135Z
LAST-MODIFIED:20250102T084757Z
UID:10006987-1736449200-1736456400@www.aachen.digital
SUMMARY:Gründerstammtisch Kreis Heinsberg
DESCRIPTION:Das Jahr ist noch jung\, doch die Wirtschaftsförderungsgesellschaft für den Kreis Heinsberg mbH (WFG) und die Werkbank Heinsberg laden gleich in der zweiten Januarwoche zum ersten Gründerstammtisch Kreis Heinsberg des Jahres 2025 ein. \nFür einen spannenden Impulsvortrag zum Thema „Pressearbeit als Marketinginstrument“ konnten die Organisatoren Arnd Thebrath und Frank Bärmann mehrere Gäste des Mediahuis Aachen (vormals Medienhaus Aachen) gewinnen. Sie werden den Anwesenden zeigen\, wie Gründerinnen und Gründer die Lokalmedien nutzen können\, um lokal und regional auf sich aufmerksam zu machen.\nUnter anderem wird ein Redakteur der Lokalredaktion Heinsberg dabei sein und Fragen beantworten. \n  \nAnmeldungen sowie Ideen und Anregungen zum Stammtisch werden per E-Mail an gruenderstammtisch@wfg-kreis-heinsberg.de entgegengenommen.\nDie Initiatoren freuen sich auf eine rege Teilnahme. \nAnsprechpartner bei Fragen zum Gründerstammtisch sind: \nfür die Wirtschaftsförderungsgesellschaft:\nArnd Thebrath (thebrath@wf g-kreis-heinsberg.de\, Telefon 02452 131821) \nund für die Werkbank:\nFrank Bärmann (fb@werkbank-heinsberg.de\, Telefon 02452 9576301) \nHier mehr erfahren \n 
URL:https://www.aachen.digital/en/event/gruenderstammtisch-kreis-heinsberg-6/
LOCATION:Werkbank Heinsberg\, Hochstraße 100\, Heinsberg\, 52525
ATTACH;FMTTYPE=image/jpeg:https://www.aachen.digital/wp-content/uploads/2024/09/Stammtisch-Heinsberg.jpg
ORGANIZER;CN="Wirtschaftsf%C3%B6rderungsgesellschaft Kreis Heinsberg%2C Werkbank":MAILTO:info@wfg-kreis-heinsberg.de
END:VEVENT
BEGIN:VEVENT
DTSTART;TZID=Europe/Berlin:20240711T190000
DTEND;TZID=Europe/Berlin:20240711T210000
DTSTAMP:20260423T165821
CREATED:20240703T083540Z
LAST-MODIFIED:20240703T083540Z
UID:10006829-1720724400-1720731600@www.aachen.digital
SUMMARY:Gründerstammtisch Kreis Heinsberg Juli 2024
DESCRIPTION:Themen des Abends: alkoholfreie Biere\, vorgestellt vom Biersommelier & Genusscoach Michael Steinbusch \nDie Wirtschaftsförderungsgesellschaft für den Kreis Heinsberg mbH (WFG) und die Werkbank Heinsberg laden für Donnerstag\, 11. Juli 2024\, zum Gründerstammtisch Kreis Heinsberg ein. Um 19.00 Uhr treffen sich Gründungsinteressierte\, GründerInnen sowie UnternehmerInnen zum lockeren Erfahrungsaustausch in Sachen Unternehmensgründung und Unternehmensführung in der Werkbank Heinsberg. \nNeben dem für alle Teilnehmenden interessanten Austausch untereinander\, haben die Organisatoren ein besonderes Highlight geplant. Der aus dem Kreis Heinsberg stammende Biersommelier & Genusscoach Michael Steinbusch wird an diesem Abend vier alkoholfreie Biere vorstellen und erklären\, wie diese hergestellt werden und wo die Unterschiede sind. Michael Steinbuch hat erst vor drei Jahren sein Unternehmen Hopfenkompass gegründet und sich bereits einen Namen als Bierexperte und Genussmensch gemacht. Mit dem Thema „alkoholfreie Biere“ greift er einem ungebrochenen Trend in Deutschland auf. Im Jahr 2023 wurden fast 5\,6 Millionen Hektoliter alkoholfreies Bier im Wert von rund 548\,2 Millionen Euro in der deutschen Brauwirtschaft erzeugt. Vor fünf Jahren waren es noch 3\,6 Millionen Hektoliter. Der neue Trend auf dem Biermarkt ist also alkoholfrei. \nAlle\, die einen Beitrag zum Gründungsgeschehen leisten wollen\, sind herzlich eingeladen. Der Gründerstammtisch findet im Werkbank Coworking-Space\, Hochstraße 100\, 5225 Heinsberg statt. \nEine Anmeldung per E-Mail an gruenderstammtisch@wfg-kreis-heinsberg.de ist zwingend erforderlich. Anmeldungen werden bis Dienstag\, 09. Juli 2024 entgegengenommen.\nAlle Infos sind unter werkbank-heinsberg.de verfügbar. \nAnsprechpartner bei Fragen zum Gründerstammtisch sind für die Wirtschaftsförderungsgesellschaft Arnd Thebrath (thebrath@wfg-kreis-heinsberg.de\, Telefon 0 24 52 / 13 – 1821) und für die Werkbank Frank Bärmann (fb@werkbank-heinsberg.de\, Telefon 0 24 52 / 95 76 301).
URL:https://www.aachen.digital/en/event/gruenderstammtisch-kreis-heinsberg-juli-2024/
ATTACH;FMTTYPE=image/jpeg:https://www.aachen.digital/wp-content/uploads/2024/07/gruenderstammtischHSjuli.jpg
ORGANIZER;CN="Wirtschaftsf%C3%B6rderungsgesellschaft Kreis Heinsberg%2C Werkbank":MAILTO:info@wfg-kreis-heinsberg.de
END:VEVENT
END:VCALENDAR