BEGIN:VCALENDAR
VERSION:2.0
PRODID:-//digitalHUB Aachen - ECPv6.15.20//NONSGML v1.0//EN
CALSCALE:GREGORIAN
METHOD:PUBLISH
X-ORIGINAL-URL:https://www.aachen.digital/en/
X-WR-CALDESC:Events for digitalHUB Aachen
REFRESH-INTERVAL;VALUE=DURATION:PT1H
X-Robots-Tag:noindex
X-PUBLISHED-TTL:PT1H
BEGIN:VTIMEZONE
TZID:Europe/Berlin
BEGIN:DAYLIGHT
TZOFFSETFROM:+0100
TZOFFSETTO:+0200
TZNAME:CEST
DTSTART:20220327T010000
END:DAYLIGHT
BEGIN:STANDARD
TZOFFSETFROM:+0200
TZOFFSETTO:+0100
TZNAME:CET
DTSTART:20221030T010000
END:STANDARD
BEGIN:DAYLIGHT
TZOFFSETFROM:+0100
TZOFFSETTO:+0200
TZNAME:CEST
DTSTART:20230326T010000
END:DAYLIGHT
BEGIN:STANDARD
TZOFFSETFROM:+0200
TZOFFSETTO:+0100
TZNAME:CET
DTSTART:20231029T010000
END:STANDARD
BEGIN:DAYLIGHT
TZOFFSETFROM:+0100
TZOFFSETTO:+0200
TZNAME:CEST
DTSTART:20240331T010000
END:DAYLIGHT
BEGIN:STANDARD
TZOFFSETFROM:+0200
TZOFFSETTO:+0100
TZNAME:CET
DTSTART:20241027T010000
END:STANDARD
END:VTIMEZONE
BEGIN:VEVENT
DTSTART;TZID=Europe/Berlin:20230109T160000
DTEND;TZID=Europe/Berlin:20230109T180000
DTSTAMP:20260424T041647
CREATED:20221222T130410Z
LAST-MODIFIED:20221222T131923Z
UID:10005796-1673280000-1673287200@www.aachen.digital
SUMMARY:NO LIMITS meets Start-up Center & FH Aachen - Teil 2
DESCRIPTION:Du fragst dich\, was dich und deine Persönlichkeit auszeichnet? Gern wollen wir dies gemeinsam mit dir herausfinden. Mit einem von Coachin Zerrin Börcek (fe:male Innovation Hub) angeleiteten Persönlichkeitstest findest du mehr über dich und deine Stärken heraus. \nNachdem du dich mit deinen Schlüsselqualifikationen auseinandergesetzt hast\, formulieren wir gemeinsam deine Vision\, die dich auf dem Weg der Gründung begleitet. Am Ende definieren wir nächste Schritte mit Hilfe der SMART-Methode\, die dich dabei unterstützt\, klare Ziele zu definieren und Schritte zu dieser Zielerreichung festzulegen. Diese kannst du sowohl auf deine Gründung\, dein Projekt oder aufs Studium und Privatleben übertragen. Denn: Der Weg ist das Ziel! \n\n\n\n\nLevel \n[x] Absolute Beginner/innen \n[x] Vorinformierte Teilnehmer/innen \n[x] Junior Experten/innen \n[ ] Profis \n  \n\n\n\n\n**Das Projekt Women Entrepreneurs in Science ist ein Netzwerk für Studierende\, Mitarbeiterinnen und Absolventinnen der NRW-Hochschulen. Unsere Angebote stehen kostenfrei zur Verfügung. Dieses Angebot richtet sich vorrangig an Frauen\, Männer sind jedoch nicht ausgeschlossen! Mehr Informationen zum Projekt findet ihr hier** \n\n\n\n\n*** Die Veranstaltung wird in Kooperation mit dem Start-up Center der Bergischen Universität Wuppertal. dem Gründungszentrum der FH Aachen und dem Projekt Women Entrepreneurs in Science durchgeführt. \nMehr Informationen zum Start-up Center der Bergischen Universität Wuppertal findet ihr hier \nMehr Informationen zum Gründungszentrum der FH Aachen findet ihr hier.***
URL:https://www.aachen.digital/en/event/no-limits-meets-start-up-center-fh-aachen-teil-2/
LOCATION:Jülicher Strasse 72a\, Aachen\, 52070\, Germany
ATTACH;FMTTYPE=image/jpeg:https://www.aachen.digital/wp-content/uploads/2022/12/nolimits.jpg
END:VEVENT
END:VCALENDAR