BEGIN:VCALENDAR
VERSION:2.0
PRODID:-//digitalHUB Aachen - ECPv6.15.20//NONSGML v1.0//EN
CALSCALE:GREGORIAN
METHOD:PUBLISH
X-ORIGINAL-URL:https://www.aachen.digital/en/
X-WR-CALDESC:Events for digitalHUB Aachen
REFRESH-INTERVAL;VALUE=DURATION:PT1H
X-Robots-Tag:noindex
X-PUBLISHED-TTL:PT1H
BEGIN:VTIMEZONE
TZID:Europe/Berlin
BEGIN:DAYLIGHT
TZOFFSETFROM:+0100
TZOFFSETTO:+0200
TZNAME:CEST
DTSTART:20180325T010000
END:DAYLIGHT
BEGIN:STANDARD
TZOFFSETFROM:+0200
TZOFFSETTO:+0100
TZNAME:CET
DTSTART:20181028T010000
END:STANDARD
BEGIN:DAYLIGHT
TZOFFSETFROM:+0100
TZOFFSETTO:+0200
TZNAME:CEST
DTSTART:20190331T010000
END:DAYLIGHT
BEGIN:STANDARD
TZOFFSETFROM:+0200
TZOFFSETTO:+0100
TZNAME:CET
DTSTART:20191027T010000
END:STANDARD
BEGIN:DAYLIGHT
TZOFFSETFROM:+0100
TZOFFSETTO:+0200
TZNAME:CEST
DTSTART:20200329T010000
END:DAYLIGHT
BEGIN:STANDARD
TZOFFSETFROM:+0200
TZOFFSETTO:+0100
TZNAME:CET
DTSTART:20201025T010000
END:STANDARD
END:VTIMEZONE
BEGIN:VEVENT
DTSTART;TZID=Europe/Berlin:20190225T180000
DTEND;TZID=Europe/Berlin:20190225T203000
DTSTAMP:20260423T204450
CREATED:20190107T111208Z
LAST-MODIFIED:20190214T150356Z
UID:10004680-1551117600-1551126600@www.aachen.digital
SUMMARY:Betriebsbesichtigung WWM
DESCRIPTION:Bei dem bei der Wirtschaftsförderung der Stadt Aachen angesiedelten Förderprojekt [STRG]+[A]+[C] handelt es sich um eine Qualifizierungsoffensive\, um Mitarbeiter/innen in Aachener Unternehmen durch gezielte Maßnahmen Instrumente und Fertigkeiten an die Hand zu geben\, um den digitalen Wandel in ihren Unternehmen aktiv mitzugestalten. Der zentrale Fokus liegt dabei auf Seminaren und Workshops\, bei denen es darum geht\, den digitalen Werkzeugkasten zu verstehen und anzuwenden sowie auf dem kreativen Analysieren digitaler Möglichkeiten zur Schaffung neuer betrieblicher Innovationen. Vielfältige Veranstaltungen (Fachvorträge\, Betriebsbesichtigungen sowie Anwendungsdemonstrationen) zur Information und Kommunikation mit anderen Unternehme(r)n runden das Projekt ab. \nWeitere Informationen zum Projekt finden Sie unter diesem Link. \nBei der Betriebsbesichtigung von der WWM GmbH & Co. KG lernen Sie die branchenübergreifenden Hürden auf dem Weg der Digitalisierung kennen. An Praxisbeispielen erfahren Sie mehr über den aktuellen Paradigmenwechsel in der Unternehmenskultur und sehen welche Digitalisierungsansätze funktionieren und welche nicht. \nAls Pionier gelebter digitaler Transformation in der eigenen Branche\, ist die WWM GmbH & Co. KG mit Auszeichnungen wie\, AC2-Innovationspreis Gewinner\, bundesweiter Sieger des WeDoDigital Awards der DIHK und Best of Branchensoftware der Initiative Mittelstand geehrt worden. Ein spannender Abend mit ausgezeichnetem Digitalisierungs-Know-how zum Anfassen! \nAgenda: \n18:00 – 18:15      Eintreffen der Gäste mit Sektempfang\n18:15 – 19:15      Vortrag in offener Diskussion\n19:15 – 19:45      Betriebsbesichtigung\n19:45 – 20:30      offene Gesprächsrunde bei Snacks und Getränken in der Cafeteria \nAls Vorreiter der digitalen Transformation in der Live-Kommunikation hat die WWM die erste webbasierte Software-Lösung „myWWM“ zur Planung\, Organisation und Ausführung von Messen und Events vorgestellt. \nTeilnahmegebühr: Die Teilnahme an der Betriebsführung ist kostenlos. \nAnmeldungen bitte bis zum 15. Februar an strg.ac@mail.aachen.de unter der Angabe von \n\n\n\nName Unternehmen\nName Teilnehmer\nFunktion des Teilnehmers im Unternehmen\nE-Mail-Adresse\nTelefonnummer\n\n\n\nVeranstalter: WWM GmbH & Co. KG\, Stadt Aachen \nOrt: WWM GmbH & Co. KG – Service Hub Alsdorf\nConrad-Zuse-Straße 39\n52477 Alsdorf \nDas Projekt [STRG]+[A]+[C] wird finanziell unterstützt durch das Land Nordrhein-Westfalen und den Europäischen Sozialfonds.
URL:https://www.aachen.digital/en/event/betriebsbesichtigung-wwm/
LOCATION:WWM GmbH & Co. KG\, Conrad-Zuse-Straße 39\, Alsdorf\, 52477\, Deutschland
ATTACH;FMTTYPE=image/png:https://www.aachen.digital/wp-content/uploads/2019/01/stadt-aachen-3.png
END:VEVENT
END:VCALENDAR