BEGIN:VCALENDAR
VERSION:2.0
PRODID:-//digitalHUB Aachen - ECPv6.15.20//NONSGML v1.0//EN
CALSCALE:GREGORIAN
METHOD:PUBLISH
X-ORIGINAL-URL:https://www.aachen.digital/en/
X-WR-CALDESC:Events for digitalHUB Aachen
REFRESH-INTERVAL;VALUE=DURATION:PT1H
X-Robots-Tag:noindex
X-PUBLISHED-TTL:PT1H
BEGIN:VTIMEZONE
TZID:Europe/Berlin
BEGIN:DAYLIGHT
TZOFFSETFROM:+0100
TZOFFSETTO:+0200
TZNAME:CEST
DTSTART:20180325T010000
END:DAYLIGHT
BEGIN:STANDARD
TZOFFSETFROM:+0200
TZOFFSETTO:+0100
TZNAME:CET
DTSTART:20181028T010000
END:STANDARD
BEGIN:DAYLIGHT
TZOFFSETFROM:+0100
TZOFFSETTO:+0200
TZNAME:CEST
DTSTART:20190331T010000
END:DAYLIGHT
BEGIN:STANDARD
TZOFFSETFROM:+0200
TZOFFSETTO:+0100
TZNAME:CET
DTSTART:20191027T010000
END:STANDARD
BEGIN:DAYLIGHT
TZOFFSETFROM:+0100
TZOFFSETTO:+0200
TZNAME:CEST
DTSTART:20200329T010000
END:DAYLIGHT
BEGIN:STANDARD
TZOFFSETFROM:+0200
TZOFFSETTO:+0100
TZNAME:CET
DTSTART:20201025T010000
END:STANDARD
BEGIN:DAYLIGHT
TZOFFSETFROM:+0100
TZOFFSETTO:+0200
TZNAME:CEST
DTSTART:20210328T010000
END:DAYLIGHT
BEGIN:STANDARD
TZOFFSETFROM:+0200
TZOFFSETTO:+0100
TZNAME:CET
DTSTART:20211031T010000
END:STANDARD
END:VTIMEZONE
BEGIN:VEVENT
DTSTART;TZID=Europe/Berlin:20200227T170000
DTEND;TZID=Europe/Berlin:20200227T203000
DTSTAMP:20260423T220753
CREATED:20200131T132523Z
LAST-MODIFIED:20200131T132523Z
UID:10005516-1582822800-1582835400@www.aachen.digital
SUMMARY:Aachen START UP TEENS
DESCRIPTION:#AACHEN START UP geht in die zweite Runde und lädt ein zum großen START UP TEENS Event in der digitalCHURCH!\nDu spielst mit dem Gedanken\, Dein eigenes Unternehmen zu gründen\, hast bereits eine konkrete Gründungsidee oder interessierst Dich einfach für eine weitere Alternative nach dem Schulabschluss? Du bist zwischen 14 – 19 Jahren alt und möchtest Dein unternehmerisches Denken und Handeln fördern? \nDann laden wir Dich ganz herzlich ein\, an der Initiative #AachenStartUp teilzunehmen. Das zdi-Netzwerk Aachen & Kreis Heinsberg veranstaltet hierzu in Kooperation mit dem digitalHUB Aachen\, der GründerRegion Aachen und der non-Profit Organisation #StartUpTeens eine Informationsveranstaltung.
URL:https://www.aachen.digital/en/event/aachen-start-up-teens/
LOCATION:digitalHUB Aachen\, Jülicher Str. 72a\, Aachen\, Nordrhein-Westfalen\, 52070\, Germany
ATTACH;FMTTYPE=image/jpeg:https://www.aachen.digital/wp-content/uploads/2020/01/stage-startupteens.jpg
END:VEVENT
BEGIN:VEVENT
DTSTART;TZID=Europe/Berlin:20191121T163000
DTEND;TZID=Europe/Berlin:20191121T183000
DTSTAMP:20260423T220753
CREATED:20191105T094426Z
LAST-MODIFIED:20191105T094426Z
UID:10004860-1574353800-1574361000@www.aachen.digital
SUMMARY:#BusinessSlam AC!
DESCRIPTION:Komm bei leckerer Pizza und einer coolen Location in direkten Austausch mit deinem zukünftigen Arbeitgeber & finde heraus… \n\nwie du deine digital Skills in der Arbeitswelt einsetzen kannst\nwas du mit deinem Können im Unternehmen erreichen kannst\n\n\nDas Verständnis über Digitalkompetenzen schärfen\nDer Megatrend der Digitalisierung hält in allen Lebensbereichen Einzug und prägt unsere Arbeits- und Berufswelt wie kaum ein anderer Trend. Geschultes und kompetentes Fachpersonal zu beschäftigen\, das neue Technologien gewinnbringend für das Unternehmen beherrscht\, stellt eine zentrale Herausforderung dar.\nUm das Verständnis von Schüler*innen über die Bedeutung von Digitalkompetenzen zu schärfen\, veranstaltet das zdi-Netzwerk gemeinsam mit dem digitalHUB Aachen erstmals den zdi-BusinessSlam. \nDer Name ist Programm!\nBinnen 5 Minuten präsentieren ausgewählte Unternehmen unterschiedlicher Branchen Schüler*innen den Kern ihrer Arbeit und die (digitalen) Anforderungen\, die sie an die Fachkräfte von morgen stellen. Die Schüler*innen erhalten die Möglichkeit\, unmittelbar und in ungezwungener Atmosphäre in Kontakt zu Unternehmen der Region zu kommen.\nEingeladen sind Schüler*innen ab der 8. Klasse aller weiterführenden Schulen in Aachen und dem Kreis Heinsberg. \n  \nUm Anmeldung per E-Mail (Name\, Name der Schule\, Klasse) bis zum 11. November 2019 an zdi@mail.aachen.de wird gebeten!
URL:https://www.aachen.digital/en/event/businessslam-ac/
LOCATION:digitalHUB Aachen\, Jülicher Str. 72a\, Aachen\, Nordrhein-Westfalen\, 52070\, Germany
ATTACH;FMTTYPE=image/jpeg:https://www.aachen.digital/wp-content/uploads/2019/11/BusinessSlam-AC-12zu5-1.jpg
END:VEVENT
BEGIN:VEVENT
DTSTART;TZID=Europe/Berlin:20190117T170000
DTEND;TZID=Europe/Berlin:20190117T190000
DTSTAMP:20260423T220753
CREATED:20190115T103449Z
LAST-MODIFIED:20190214T150257Z
UID:10004838-1547744400-1547751600@www.aachen.digital
SUMMARY:StartUp Teens kommt nach Aachen!
DESCRIPTION:
URL:https://www.aachen.digital/en/event/startup-teens-kommt-nach-aachen/
ATTACH;FMTTYPE=image/jpeg:https://www.aachen.digital/wp-content/uploads/2019/01/aktuelles_0007_image-1.jpg
END:VEVENT
END:VCALENDAR