BEGIN:VCALENDAR
VERSION:2.0
PRODID:-//digitalHUB Aachen - ECPv6.15.20//NONSGML v1.0//EN
CALSCALE:GREGORIAN
METHOD:PUBLISH
X-WR-CALNAME:digitalHUB Aachen
X-ORIGINAL-URL:https://www.aachen.digital/en/
X-WR-CALDESC:Events for digitalHUB Aachen
REFRESH-INTERVAL;VALUE=DURATION:PT1H
X-Robots-Tag:noindex
X-PUBLISHED-TTL:PT1H
BEGIN:VTIMEZONE
TZID:Europe/Berlin
BEGIN:DAYLIGHT
TZOFFSETFROM:+0100
TZOFFSETTO:+0200
TZNAME:CEST
DTSTART:20240331T010000
END:DAYLIGHT
BEGIN:STANDARD
TZOFFSETFROM:+0200
TZOFFSETTO:+0100
TZNAME:CET
DTSTART:20241027T010000
END:STANDARD
BEGIN:DAYLIGHT
TZOFFSETFROM:+0100
TZOFFSETTO:+0200
TZNAME:CEST
DTSTART:20250330T010000
END:DAYLIGHT
BEGIN:STANDARD
TZOFFSETFROM:+0200
TZOFFSETTO:+0100
TZNAME:CET
DTSTART:20251026T010000
END:STANDARD
BEGIN:DAYLIGHT
TZOFFSETFROM:+0100
TZOFFSETTO:+0200
TZNAME:CEST
DTSTART:20260329T010000
END:DAYLIGHT
BEGIN:STANDARD
TZOFFSETFROM:+0200
TZOFFSETTO:+0100
TZNAME:CET
DTSTART:20261025T010000
END:STANDARD
END:VTIMEZONE
BEGIN:VEVENT
DTSTART;TZID=Europe/Berlin:20250408T140000
DTEND;TZID=Europe/Berlin:20250408T163000
DTSTAMP:20260423T180240
CREATED:20250318T090544Z
LAST-MODIFIED:20250325T124232Z
UID:10007277-1744120800-1744129800@www.aachen.digital
SUMMARY:Auftaktveranstaltung „PowerUP IT-West“
DESCRIPTION:Du möchtest junge Talente für dein Unternehmen begeistern? Du hast das Ziel\, Schülerinnen und Schüler zu fördern\, die in ihren Schulen weniger mit IT und Programmierung in Berührung kommen? Du willst die Zielgruppe auf ihrem eigenen Level ansprechen? Dann bist du herzlich zur Auftaktveranstaltung „PowerUP IT-West“ eingeladen! Nutze die Gelegenheit\, dich mit Schulen zu vernetzen und deine kreativen Ideen einzubringen. \n Programm: \n 13:30 – Ankommen & Netzwerken \nWillkommen bei „PowerUp IT-West“! Nutze die Gelegenheit\, dich mit anderen Teilnehmenden auszutauschen. \n14:00 – Offizielle Begrüßung \nStartschuss für einen inspirierenden Nachmittag. \n14:05 – Projektvorstellung „PowerUp IT-West“  \n\nHajo Noerenberg\, Vorsitzender Regina e.V.\n\n\nJennifer Gramm\, Geschäftsführerin ANTalive e.V.\n\n14:15 – Best Practices: Erfolgsrezepte & Herausforderungen \nUnternehmen wie DSA Daten- und Systemtechnik GmbH und ITA academy GmbH\, Schulen und Experten und Expertinnen teilen ihre Erfahrungen \n15:10 – Kreativer Ideensprint:  \nInteraktive Session mit spannenden Fragestellungen: \n\nWelche Erwartungen haben Schulen an die Unternehmensangebote?\n\n\nWie lassen sich digitale Kompetenzen optimal in den Unterricht integrieren?\n\n\nWelche Skills sind auf welchen Levels bereits vorhanden?\n\n\nWelche Lernorte eignen sich besonders gut?\n\n16:15 – Abschluss & Verabschiedung \nModeration: Brigitte Capune-Kitka\, Vorstand ANTalive e.V. \nDas Projekt PowerUp IT-West wird in Kooperation von zdi-Zentrum ANTalive e.V. und REGINA e.V. durchgeführt und von der Europäischen Union und dem Ministerium für Wirtschaft\, Industrie\, Klimaschutz und Energie des Landes Nordrhein-Westfalen kofinanziert. \nBitte melde dich bis zum 3. April an. \nZUR ANMELDUNG
URL:https://www.aachen.digital/en/event/auftaktveranstaltung-powerup-it-west/
LOCATION:Gründungszentrum FH Aachen\, Eupener Straße 70 - Raum A103\, Aachen\, 52066
ATTACH;FMTTYPE=image/jpeg:https://www.aachen.digital/wp-content/uploads/2025/03/power-it-up-west.jpg
ORGANIZER;CN="REGINA e.V.":MAILTO:mail@regina.ac
END:VEVENT
END:VCALENDAR