BEGIN:VCALENDAR
VERSION:2.0
PRODID:-//digitalHUB Aachen - ECPv6.15.20//NONSGML v1.0//EN
CALSCALE:GREGORIAN
METHOD:PUBLISH
X-ORIGINAL-URL:https://www.aachen.digital/en/
X-WR-CALDESC:Events for digitalHUB Aachen
REFRESH-INTERVAL;VALUE=DURATION:PT1H
X-Robots-Tag:noindex
X-PUBLISHED-TTL:PT1H
BEGIN:VTIMEZONE
TZID:Europe/Berlin
BEGIN:DAYLIGHT
TZOFFSETFROM:+0100
TZOFFSETTO:+0200
TZNAME:CEST
DTSTART:20240331T010000
END:DAYLIGHT
BEGIN:STANDARD
TZOFFSETFROM:+0200
TZOFFSETTO:+0100
TZNAME:CET
DTSTART:20241027T010000
END:STANDARD
BEGIN:DAYLIGHT
TZOFFSETFROM:+0100
TZOFFSETTO:+0200
TZNAME:CEST
DTSTART:20250330T010000
END:DAYLIGHT
BEGIN:STANDARD
TZOFFSETFROM:+0200
TZOFFSETTO:+0100
TZNAME:CET
DTSTART:20251026T010000
END:STANDARD
BEGIN:DAYLIGHT
TZOFFSETFROM:+0100
TZOFFSETTO:+0200
TZNAME:CEST
DTSTART:20260329T010000
END:DAYLIGHT
BEGIN:STANDARD
TZOFFSETFROM:+0200
TZOFFSETTO:+0100
TZNAME:CET
DTSTART:20261025T010000
END:STANDARD
END:VTIMEZONE
BEGIN:VEVENT
DTSTART;TZID=Europe/Berlin:20250701T150000
DTEND;TZID=Europe/Berlin:20250701T163000
DTSTAMP:20260423T214015
CREATED:20250625T110535Z
LAST-MODIFIED:20250625T110535Z
UID:10007371-1751382000-1751387400@www.aachen.digital
SUMMARY:The Founder’s Guide: Scale your business with AI
DESCRIPTION:Join us for an interactive session where we explore how today’s startups can overcome common business challenges through integrated software solutions and AI-powered tools. We’ll discuss the critical pain points that startups face – from resource constraints and inefficient workflows to customer acquisition hurdles – and demonstrate how Zoho One’s comprehensive ecosystem provides practical solutions. \nThe session will showcase how Zoho’s AI assistant\, Zia\, transforms business operations across sales\, marketing\, customer support\, and development\, enabling startups to compete effectively despite limited resources. Through live demonstrations and a hands-on workshop\, participants will experience first-hand how Zoho’s 50+ integrated applications can streamline operations\, enhance productivity\, and drive growth. \nUnlock special benefits for startups available through our Zoho for Startups program in partnership with digitalHUB Aachen. \nWhat You’ll Learn? \n\nIdentify and address common startup challenges with integrated software solutions\nExperience practical demonstrations of Zoho One’s key applications\nParticipate in a hands-on workshop to apply these solutions to your business\nGet upto €4.000 worth Zoho Wallet credits through our partnership with digitalHUB Aachen.\n\nThis event takes place in the New Work Room of digitalHUB Aachen. \nREGISTRATION
URL:https://www.aachen.digital/en/event/the-founders-guide-scale-your-business-with-ai/
LOCATION:digitalHUB Aachen\, Jülicher Str. 72a\, Aachen\, Nordrhein-Westfalen\, 52070\, Germany
ATTACH;FMTTYPE=image/jpeg:https://www.aachen.digital/wp-content/uploads/2025/06/the-founders-guide-.jpg
END:VEVENT
END:VCALENDAR