BEGIN:VCALENDAR
VERSION:2.0
PRODID:-//digitalHUB Aachen - ECPv6.15.20//NONSGML v1.0//EN
CALSCALE:GREGORIAN
METHOD:PUBLISH
X-ORIGINAL-URL:https://www.aachen.digital/en/
X-WR-CALDESC:Events for digitalHUB Aachen
REFRESH-INTERVAL;VALUE=DURATION:PT1H
X-Robots-Tag:noindex
X-PUBLISHED-TTL:PT1H
BEGIN:VTIMEZONE
TZID:Europe/Berlin
BEGIN:DAYLIGHT
TZOFFSETFROM:+0100
TZOFFSETTO:+0200
TZNAME:CEST
DTSTART:20180325T010000
END:DAYLIGHT
BEGIN:STANDARD
TZOFFSETFROM:+0200
TZOFFSETTO:+0100
TZNAME:CET
DTSTART:20181028T010000
END:STANDARD
BEGIN:DAYLIGHT
TZOFFSETFROM:+0100
TZOFFSETTO:+0200
TZNAME:CEST
DTSTART:20190331T010000
END:DAYLIGHT
BEGIN:STANDARD
TZOFFSETFROM:+0200
TZOFFSETTO:+0100
TZNAME:CET
DTSTART:20191027T010000
END:STANDARD
BEGIN:DAYLIGHT
TZOFFSETFROM:+0100
TZOFFSETTO:+0200
TZNAME:CEST
DTSTART:20200329T010000
END:DAYLIGHT
BEGIN:STANDARD
TZOFFSETFROM:+0200
TZOFFSETTO:+0100
TZNAME:CET
DTSTART:20201025T010000
END:STANDARD
BEGIN:DAYLIGHT
TZOFFSETFROM:+0100
TZOFFSETTO:+0200
TZNAME:CEST
DTSTART:20210328T010000
END:DAYLIGHT
BEGIN:STANDARD
TZOFFSETFROM:+0200
TZOFFSETTO:+0100
TZNAME:CET
DTSTART:20211031T010000
END:STANDARD
BEGIN:DAYLIGHT
TZOFFSETFROM:+0100
TZOFFSETTO:+0200
TZNAME:CEST
DTSTART:20220327T010000
END:DAYLIGHT
BEGIN:STANDARD
TZOFFSETFROM:+0200
TZOFFSETTO:+0100
TZNAME:CET
DTSTART:20221030T010000
END:STANDARD
BEGIN:DAYLIGHT
TZOFFSETFROM:+0100
TZOFFSETTO:+0200
TZNAME:CEST
DTSTART:20230326T010000
END:DAYLIGHT
BEGIN:STANDARD
TZOFFSETFROM:+0200
TZOFFSETTO:+0100
TZNAME:CET
DTSTART:20231029T010000
END:STANDARD
BEGIN:DAYLIGHT
TZOFFSETFROM:+0100
TZOFFSETTO:+0200
TZNAME:CEST
DTSTART:20240331T010000
END:DAYLIGHT
BEGIN:STANDARD
TZOFFSETFROM:+0200
TZOFFSETTO:+0100
TZNAME:CET
DTSTART:20241027T010000
END:STANDARD
BEGIN:DAYLIGHT
TZOFFSETFROM:+0100
TZOFFSETTO:+0200
TZNAME:CEST
DTSTART:20250330T010000
END:DAYLIGHT
BEGIN:STANDARD
TZOFFSETFROM:+0200
TZOFFSETTO:+0100
TZNAME:CET
DTSTART:20251026T010000
END:STANDARD
BEGIN:DAYLIGHT
TZOFFSETFROM:+0100
TZOFFSETTO:+0200
TZNAME:CEST
DTSTART:20260329T010000
END:DAYLIGHT
BEGIN:STANDARD
TZOFFSETFROM:+0200
TZOFFSETTO:+0100
TZNAME:CET
DTSTART:20261025T010000
END:STANDARD
END:VTIMEZONE
BEGIN:VEVENT
DTSTART;TZID=Europe/Berlin:20250404T100000
DTEND;TZID=Europe/Berlin:20250404T130000
DTSTAMP:20260423T165756
CREATED:20250318T110645Z
LAST-MODIFIED:20250318T110645Z
UID:10007281-1743760800-1743771600@www.aachen.digital
SUMMARY:Mine ReWIR Netzwerkveranstaltung
DESCRIPTION:Diese Veranstaltung knüpft an die Ideen und die Dynamik des Auftaktfrühstücks an und zeigt dir konkret\, wie sich Mine ReWIR seitdem weiterentwickelt hat.  Zudem werden verschiedene Best-Practice Beispiele aus den Reihen der Mitgliedsunternehmen präsentiert\, die den Umgang mit dem Strukturwandel und den aktuellen Veränderungen veranschaulichen!  \nDoch es geht um mehr als nur Best Practices – das Eevent soll dich inspirieren\, eigene Wege zu gehen und den Wandel aktiv mitzugestalten. Lass dich von innovativen Ansätzen und mutigen Vorbildern der Mitgliedsunternehmen anstecken\, denn inmitten des Strukturwandels eröffnen sich vielfältige Gestaltungs- und Handlungsoptionen.  \nErgänzt wird das Programm durch einen Marktplatz mit vielseitigen Ausstellern und spannenden Möglichkeiten zur Vernetzung – inklusive eines gemeinsamen Mittagessens\, das Raum für den persönlichen Austausch bietet. \nNutze die Gelegenheit und sei am 4. April in Aachen dabei!  \nZUR ANMELDUNG
URL:https://www.aachen.digital/en/event/mine-rewir-netzwerkveranstaltung/
LOCATION:3win® Maschinenbau GmbH\, An der Schurzelter Brücke 11\, Aachen\, NRW\, 52074\, Deutschland
ATTACH;FMTTYPE=image/jpeg:https://www.aachen.digital/wp-content/uploads/2025/03/mine-reWIR.jpg
ORGANIZER;CN="Mine ReWIR e. V.":MAILTO:info@mine-rewir.de
END:VEVENT
BEGIN:VEVENT
DTSTART;VALUE=DATE:20220315
DTEND;VALUE=DATE:20220406
DTSTAMP:20260423T165756
CREATED:20211216T093403Z
LAST-MODIFIED:20211216T093403Z
UID:10006080-1647302400-1649203199@www.aachen.digital
SUMMARY:MACH 4.0 – Digitale Werkstatt für den Mittelstand
DESCRIPTION:Für Maschinenbau-Unternehmen in der StädteRegion Aachen (Aachen\, Alsdorf\, Baesweiler\, Eschweiler\, Herzogenrath\, Monschau\, Simmerath\, Stolberg\, Roetgen\, Würselen) haben wir gemeinsam mit unserem Projektpartner 3WIN Maschinenbau GmbH die „MACH 4.0 – Digitale Werkstatt für den Mittelstand“ entwickelt\, ein ganz neues Weiterbildungsangebot für kleine und mittelständische Unternehmen (KMU) mit Fokus auf Industrie 4.0 / Digitalisierung. \nIm Rahmen dieses Angebots werden Facharbeiter:innen in den Themen Montage\, Fertigung und Verwaltung schnell und effizient mit den neuesten digitalen Entwicklungen im Bereich Industrie 4.0 vertraut gemacht. Durch das erlernte Fachwissen\, welches die Mitarbeitenden anschließend in ihre Unternehmen mitnehmen\, erhalten diese einen direkten Mehrwert\, wodurch die Digitalisierung im Mittelstand insgesamt weiter vorangetrieben wird. \nDas Besondere an unserem Angebot der Digitalen Werkstatt ist\, dass die Schulung in einer realen Produktionsumgebung bei der 3WIN Maschinenbau GmbH stattfindet. Jeder Werker erhält die Möglichkeit\, Industrie 4.0 aus nächster Nähe zu erleben und „anzufassen“. Außerdem können die Digitalisierungsmaßnahmen an die Umsetzungsmöglichkeiten von KMU angepasst werden. \nIm Rahmen des Piloten können zunächst 10 städteregionale Maschinenbau-Unternehmen kostenfrei teilnehmen. \nAb 15. März 2022 finden vier Seminare ganztags einmal wöchentlich vor Ort statt. Der fünfte Schulungstag (ohne Präsenz) beinhaltet die Erarbeitung einer Projekt- bzw. Hausarbeit\, die in Kombination mit einer Präsentation den mündlichen Teil der Prüfung darstellt. \nWeitere Informationen und die Anmeldung finden Sie hier. \n 
URL:https://www.aachen.digital/en/event/mach-4-0-digitale-werkstatt-fuer-den-mittelstand/
LOCATION:3win® Maschinenbau GmbH\, An der Schurzelter Brücke 11\, Aachen\, NRW\, 52074\, Deutschland
ATTACH;FMTTYPE=image/jpeg:https://www.aachen.digital/wp-content/uploads/2021/12/Design-ohne-Titel-17.jpg
ORGANIZER;CN="AGIT mbH":MAILTO:info@agit.de
END:VEVENT
BEGIN:VEVENT
DTSTART;VALUE=DATE:20190912
DTEND;VALUE=DATE:20190913
DTSTAMP:20260423T165756
CREATED:20190527T144358Z
LAST-MODIFIED:20190527T144435Z
UID:10005016-1568246400-1568332799@www.aachen.digital
SUMMARY:"Hallo Nachbar!" bei der 3win® Maschinenbau GmbH in Aachen
DESCRIPTION:Auch in diesem Jahr wird wieder eine „Hallo Nachbar!”-Veranstaltungsreihe angeboten. Mit Fachvorträgen und Produktionsbesichtigungen stellen sich dabei Unternehmen verschiedener Branchen vor und bieten einen Blick hinter die Kulissen. So erhalten vor allem Fach- und Führungskräfte Raum für einen Erfahrungsaustausch und Gespräche mit anderen Unternehmern. Die von IHK\, AGIT mbH und der StädteRegion Aachen gemeinsam organisierte Reihe ist am 12.09.2019 bei der 3win® Maschinenbau GmbH in Aachen. \nÜber 3WIN®: \nEs ist ein mittelständisches Unternehmen mit Sitz in Aachen. Seine Kernkompetenz liegt im Maschinen-und Anlagenbau sowie in der Montage von Baugruppen. Als erfahrener und forschungsaffiner Wirtschaftsbetrieb unterstützt die 3win Maschinenbau GmbH seit 2011 ein AN-Institut der Fachhochschule Aachen. Dabei ist 3WIN® ein kreativer Partner für die Forschung und bringt sein Know-How insbesondere bei der Fertigungsoptimierung von Einzelteilen und Serien ein. Davon profitieren auch Kunden\, nach deren Konstruktions- und Qualitätsvorgaben die eingespielten Teams Einzelkomponenten oder komplette Anlagen montieren. \nZiel der Veranstaltungsreihe ist es\, Kooperationen zwischen kleinen und mittelständischen Unternehmen anzustoßen. So soll die Wertschöpfung regionaler Partner gefördert und ein branchenübergreifender\, kostenfreier Erfahrungsaustausch angeboten werden. \nInfo & Anmeldung
URL:https://www.aachen.digital/en/event/hallo-nachbar-bei-der-3win-maschinenbau-gmbh-in-aachen/
LOCATION:3win® Maschinenbau GmbH\, An der Schurzelter Brücke 11\, Aachen\, NRW\, 52074\, Deutschland
ATTACH;FMTTYPE=image/jpeg:https://www.aachen.digital/wp-content/uploads/2019/05/agit.jpg
ORGANIZER;CN="IHK Aachen":MAILTO:info@ihkaachen.de
END:VEVENT
END:VCALENDAR