BEGIN:VCALENDAR
VERSION:2.0
PRODID:-//digitalHUB Aachen - ECPv6.15.20//NONSGML v1.0//EN
CALSCALE:GREGORIAN
METHOD:PUBLISH
X-WR-CALNAME:digitalHUB Aachen
X-ORIGINAL-URL:https://www.aachen.digital/en/
X-WR-CALDESC:Events for digitalHUB Aachen
REFRESH-INTERVAL;VALUE=DURATION:PT1H
X-Robots-Tag:noindex
X-PUBLISHED-TTL:PT1H
BEGIN:VTIMEZONE
TZID:Europe/Berlin
BEGIN:DAYLIGHT
TZOFFSETFROM:+0100
TZOFFSETTO:+0200
TZNAME:CEST
DTSTART:20230326T010000
END:DAYLIGHT
BEGIN:STANDARD
TZOFFSETFROM:+0200
TZOFFSETTO:+0100
TZNAME:CET
DTSTART:20231029T010000
END:STANDARD
BEGIN:DAYLIGHT
TZOFFSETFROM:+0100
TZOFFSETTO:+0200
TZNAME:CEST
DTSTART:20240331T010000
END:DAYLIGHT
BEGIN:STANDARD
TZOFFSETFROM:+0200
TZOFFSETTO:+0100
TZNAME:CET
DTSTART:20241027T010000
END:STANDARD
BEGIN:DAYLIGHT
TZOFFSETFROM:+0100
TZOFFSETTO:+0200
TZNAME:CEST
DTSTART:20250330T010000
END:DAYLIGHT
BEGIN:STANDARD
TZOFFSETFROM:+0200
TZOFFSETTO:+0100
TZNAME:CET
DTSTART:20251026T010000
END:STANDARD
END:VTIMEZONE
BEGIN:VEVENT
DTSTART;TZID=Europe/Berlin:20240629T100000
DTEND;TZID=Europe/Berlin:20240630T180000
DTSTAMP:20260423T230357
CREATED:20240514T101037Z
LAST-MODIFIED:20240514T101037Z
UID:10006144-1719655200-1719770400@www.aachen.digital
SUMMARY:4Linden - Tag der offenen Tür für alle Menschen!
DESCRIPTION:Ort der Hoffnung + Inspiration\n4Linden ist ein Modell\, wie ein ökologisches\, enkeltaugliches Leben jetzt und in Zukunft möglich ist – in Einklang mit der Natur und mit uns selbst und dem\, was uns glücklich macht. Immer mehr Menschen streben nach einer alternativen\, gesünderen\, dem Planeten zugewandten und eigenverantwortlichen Lebensform. Immer mehr Menschen wollen den erlernten Erwerbsdruck hinter sich lassen und zu einer bewussteren Lebensweise zurückkehren. \nWir treten ein für eine intakte Umwelt\, natürliches Bauen\, eine gesunde Ernährung\, lebendiges Wasser\, natürliche Medizin und eine harmonische Entwicklung. Wir sehnen uns danach etwas wirklich Sinnvolles zu tun\, etwas Sinngebendes\, Sinnstiftendes\, nach dem WIR-Gefühl\, das am Ende gewinnt. Wir treten ein für ein solidarisches Miteinander hier bei uns auf 4Linden\, in Aachen\, in ganz Europa und wir laden Sie ein zu einem gegenseitigen Kennenlernen und fruchtbaren Austausch. \nWir möchten uns und andere Menschen glücklich machen. Bei uns gibt es viel zu sehen und zu erleben. 4Linden ist der Ort der puren Entschleunigung\, der Kreativität\, der Gemeinschaft und der gelebten Nachhaltigkeit. \nWir laden ein! Komm und mache mit bei unseren Projekten hier bei uns und mit uns auf 4Linden. \nAlle Infos findest du hier
URL:https://www.aachen.digital/en/event/4linden-tag-der-offenen-tuer-fuer-alle-menschen/
LOCATION:4Linden\, Karl-Friedrich-Straße 157\, Aachen\, NRW\, 52072
ATTACH;FMTTYPE=image/png:https://www.aachen.digital/wp-content/uploads/2024/05/4Linden.png
ORGANIZER;CN="4Linden":MAILTO:architecture@andreasdilthey.de
END:VEVENT
END:VCALENDAR