BEGIN:VCALENDAR
VERSION:2.0
PRODID:-//digitalHUB Aachen - ECPv6.15.20//NONSGML v1.0//EN
CALSCALE:GREGORIAN
METHOD:PUBLISH
X-WR-CALNAME:digitalHUB Aachen
X-ORIGINAL-URL:https://www.aachen.digital/en/
X-WR-CALDESC:Events for digitalHUB Aachen
REFRESH-INTERVAL;VALUE=DURATION:PT1H
X-Robots-Tag:noindex
X-PUBLISHED-TTL:PT1H
BEGIN:VTIMEZONE
TZID:Europe/Berlin
BEGIN:DAYLIGHT
TZOFFSETFROM:+0100
TZOFFSETTO:+0200
TZNAME:CEST
DTSTART:20180325T010000
END:DAYLIGHT
BEGIN:STANDARD
TZOFFSETFROM:+0200
TZOFFSETTO:+0100
TZNAME:CET
DTSTART:20181028T010000
END:STANDARD
BEGIN:DAYLIGHT
TZOFFSETFROM:+0100
TZOFFSETTO:+0200
TZNAME:CEST
DTSTART:20190331T010000
END:DAYLIGHT
BEGIN:STANDARD
TZOFFSETFROM:+0200
TZOFFSETTO:+0100
TZNAME:CET
DTSTART:20191027T010000
END:STANDARD
BEGIN:DAYLIGHT
TZOFFSETFROM:+0100
TZOFFSETTO:+0200
TZNAME:CEST
DTSTART:20200329T010000
END:DAYLIGHT
BEGIN:STANDARD
TZOFFSETFROM:+0200
TZOFFSETTO:+0100
TZNAME:CET
DTSTART:20201025T010000
END:STANDARD
END:VTIMEZONE
BEGIN:VEVENT
DTSTART;VALUE=DATE:20190606
DTEND;VALUE=DATE:20190607
DTSTAMP:20260423T192153
CREATED:20190516T094256Z
LAST-MODIFIED:20190516T094504Z
UID:10004773-1559779200-1559865599@www.aachen.digital
SUMMARY:Abschlussprämierung AC² Gründen\, Wachsen\, Innovation
DESCRIPTION:Was ist AC² – der Gründungswettbewerb? \nAC² – der Gründungswettbewerb ist ein kostenfreier Businessplanwettbewerb\, bei dem Existenzgründerinnen und Existenzgründer jeder Branche kostenfreie Unterstützung bei der Erstellung eines tragfähigen Unternehmenskonzeptes erhalten. Neben einem ehrenamtlichen Mentor kann bei Spezialfragen auf die Expertise des AC²-Beraternetzwerkes zugegriffen werden. Mehrere Gründerabende zu gründungsrelevanten Themen wie Marketing und Finanzierung bieten neben Fachvorträgen die Möglichkeit\, mit anderen Gründern\, Unternehmern und dem AC²-Beraternetzwerk ins Gespräch zu kommen. \nWie läuft AC² – der Gründungswettbewerb ab? \nAC² – der Gründungswettbewerb läuft in zwei Phasen ab. In der ersten Phase entwickeln die Teilnehmer einen ersten Entwurf ihres Businessplans. Alle eingereichten Pläne werden durch mindestens zwei Gutachter geprüft\, die zehn Erfolg versprechendsten Businesspläne werden dann im Rahmen einer Zwischenprämierung ausgezeichnet. In der zweiten Phase des Wettbewerbs gilt es\, den Businessplan weiter auszuarbeiten. Nach einer weiteren Gutachterrunde und einer Beurteilung durch die AC²-Jury werden die besten drei Pläne im Rahmen der Prämierungsfeier von AC² – GRÜNDUNG\, WACHSTUM\, INNOVATION im Aachener Rathaus ausgezeichnet. \nWeitere Informationen
URL:https://www.aachen.digital/en/event/abschlusspraemierung-ac%c2%b2-gruenden-wachsen-innovation/
LOCATION:Aachener Rathaus\, Krönungssaal\, Markt\, Aachen\, Nordrhein-Westfalen\, Germany
ATTACH;FMTTYPE=image/jpeg:https://www.aachen.digital/wp-content/uploads/2019/01/AC2_2018_FB1200x630_GRÜNDUNG.jpg
ORGANIZER;CN="Gr%C3%BCnderRegion Aachen":MAILTO:info@gruenderregion.de
END:VEVENT
END:VCALENDAR