BEGIN:VCALENDAR
VERSION:2.0
PRODID:-//digitalHUB Aachen - ECPv6.15.20//NONSGML v1.0//EN
CALSCALE:GREGORIAN
METHOD:PUBLISH
X-WR-CALNAME:digitalHUB Aachen
X-ORIGINAL-URL:https://www.aachen.digital/en/
X-WR-CALDESC:Events for digitalHUB Aachen
REFRESH-INTERVAL;VALUE=DURATION:PT1H
X-Robots-Tag:noindex
X-PUBLISHED-TTL:PT1H
BEGIN:VTIMEZONE
TZID:Europe/Berlin
BEGIN:DAYLIGHT
TZOFFSETFROM:+0100
TZOFFSETTO:+0200
TZNAME:CEST
DTSTART:20190331T010000
END:DAYLIGHT
BEGIN:STANDARD
TZOFFSETFROM:+0200
TZOFFSETTO:+0100
TZNAME:CET
DTSTART:20191027T010000
END:STANDARD
BEGIN:DAYLIGHT
TZOFFSETFROM:+0100
TZOFFSETTO:+0200
TZNAME:CEST
DTSTART:20200329T010000
END:DAYLIGHT
BEGIN:STANDARD
TZOFFSETFROM:+0200
TZOFFSETTO:+0100
TZNAME:CET
DTSTART:20201025T010000
END:STANDARD
BEGIN:DAYLIGHT
TZOFFSETFROM:+0100
TZOFFSETTO:+0200
TZNAME:CEST
DTSTART:20210328T010000
END:DAYLIGHT
BEGIN:STANDARD
TZOFFSETFROM:+0200
TZOFFSETTO:+0100
TZNAME:CET
DTSTART:20211031T010000
END:STANDARD
END:VTIMEZONE
BEGIN:VEVENT
DTSTART;TZID=Europe/Berlin:20200120T103000
DTEND;TZID=Europe/Berlin:20200120T170000
DTSTAMP:20260423T214039
CREATED:20200108T122924Z
LAST-MODIFIED:20200108T142832Z
UID:10004896-1579516200-1579539600@www.aachen.digital
SUMMARY:TELnet@NRW-Kongress
DESCRIPTION:Am 20. Januar 2020 findet der TELnet@NRW-Kongress unter dem Motto „Gemeinsam handeln. Kompetent behandeln. Wir gestalten die Patientenversorgung der Zukunft.“ in Düsseldorf statt. \nAm 1. Februar 2017 startete das Innovationsfondsprojekt TELnet@NRW. Nun – 3 Jahre und 150.000 im Projekt erfasste Patientinnen und Patienten später – wurde das Ende der Projektlaufzeit erreicht. Es ist dem Engagement aller Beteiligten zu verdanken\, dass Wege gefunden werden konnten\, die wohnortnahe und qualitativ hochwertige intensivmedizinische und infektiologische Versorgung\, wie sie mit TELnet@NRW in den letzten Jahren erfolgreich etabliert werden konnte\, nach der Projektförderung fortzusetzen. \n„Gemeinsam handeln\, kompetent behandeln.“ – Unter diesem Motto ist TELnet@NRW an den Start gegangen. Das Feedback der beteiligten Ärztinnen und Ärzte aus den Kooperationsnetzen und -krankenhäusern zeigt auf der Zielgeraden\, dass genau dies erreicht wurde: Die individuelle Absicherung der Diagnose und Therapie wird als großer Mehrwert von allen Beteiligten geschätzt.\nMit TELnet@NRW wurde ein großer Schritt in Richtung einer zukunftssicheren intensivmedizinischen und infektiologischen Versorgung gemacht! Es konnte und wird weiterhin dazu beitragen\, das Gesundheitswesen in Deutschland besser zu machen – zum Wohle der Patientinnen und Patienten. \nNeben dem Thema „Verstetigung“ wird beim TELnet@NRW-Kongress 2020 einen Blick in die Zukunft hin zu zeitgemäßen Versorgungslösungen gewagt – in und für Nordrhein-Westfalen. Die Förderung der Telemedizin ist ein zentrales Element der politischen Strategie für das digitale NRW. Innovative\, sektorenübergreifende Versorgungsstrukturen\, wie z. B. das Virtuelle Krankenhaus\, werden bei der Schaffung regionaler digitaler Gesundheitsnetzwerke unterstützen und so die Versorgung verbessern. TELnet@NRW ist ein Meilenstein auf diesem Weg in eine flächendeckende telemedizinische Versorgungslandschaft. \n(Univ.-Prof. Dr. med. gernot Marx\, FRCA\, Uniklinik RWTH Aachen\, stellvertretend für das TELnet@NRW-Projektkonsortium) \nNähere Infos zur Veranstaltung finden Sie hier.
URL:https://www.aachen.digital/en/event/telnetnrw-kongress-2020/
LOCATION:Ärztekammer Nordrhein\, Tersteegenstraße 9\, Düsseldorf\, 40474
ATTACH;FMTTYPE=image/jpeg:https://www.aachen.digital/wp-content/uploads/2020/01/stage-telnet.jpg
END:VEVENT
END:VCALENDAR