BEGIN:VCALENDAR
VERSION:2.0
PRODID:-//digitalHUB Aachen - ECPv6.15.20//NONSGML v1.0//EN
CALSCALE:GREGORIAN
METHOD:PUBLISH
X-WR-CALNAME:digitalHUB Aachen
X-ORIGINAL-URL:https://www.aachen.digital/en/
X-WR-CALDESC:Events for digitalHUB Aachen
REFRESH-INTERVAL;VALUE=DURATION:PT1H
X-Robots-Tag:noindex
X-PUBLISHED-TTL:PT1H
BEGIN:VTIMEZONE
TZID:Europe/Berlin
BEGIN:DAYLIGHT
TZOFFSETFROM:+0100
TZOFFSETTO:+0200
TZNAME:CEST
DTSTART:20230326T010000
END:DAYLIGHT
BEGIN:STANDARD
TZOFFSETFROM:+0200
TZOFFSETTO:+0100
TZNAME:CET
DTSTART:20231029T010000
END:STANDARD
BEGIN:DAYLIGHT
TZOFFSETFROM:+0100
TZOFFSETTO:+0200
TZNAME:CEST
DTSTART:20240331T010000
END:DAYLIGHT
BEGIN:STANDARD
TZOFFSETFROM:+0200
TZOFFSETTO:+0100
TZNAME:CET
DTSTART:20241027T010000
END:STANDARD
BEGIN:DAYLIGHT
TZOFFSETFROM:+0100
TZOFFSETTO:+0200
TZNAME:CEST
DTSTART:20250330T010000
END:DAYLIGHT
BEGIN:STANDARD
TZOFFSETFROM:+0200
TZOFFSETTO:+0100
TZNAME:CET
DTSTART:20251026T010000
END:STANDARD
END:VTIMEZONE
BEGIN:VEVENT
DTSTART;TZID=Europe/Berlin:20240418T170000
DTEND;TZID=Europe/Berlin:20240418T203000
DTSTAMP:20260424T002055
CREATED:20240208T093712Z
LAST-MODIFIED:20240208T093712Z
UID:10006731-1713459600-1713472200@www.aachen.digital
SUMMARY:Meet\, Greet + Beat – Das Gründungsevent in NRW
DESCRIPTION:In der dritten Auflage von Meet\, Greet + Beat dreht sich alles um die Themen Social Entrepreneurship und Klimaschutz. Fünf Start-ups pitchen ihre zukunftsweisenden Gründungsideen vor einer Jury\, mit der Chance auf den Einzug ins große Roadshow-Finale in Düsseldorf. Kreative Ideen\, spannende Antworten auf die großen Fragen unserer Zeit und die richtige Prise Nervenkitzel sind also vorprogrammiert. Seid dabei und überzeugt euch selbst davon\, wie Innovationskraft und der Wille zur positiven Mitgestaltung unseres Lebensraums und Zusammenlebens das Gründungsland NRW prägen. \nIhr habt selbst eine Gründungsidee\, mit der ihr zur Lösung sozialer Probleme beitragt oder euch für den Klimaschutz einsetzt? Dann erweitert euer Netzwerk und holt für euer Gründungsvorhaben die richtigen Partner:innen aus der regionalen Gründungsszene an Bord! Ein gutes Netzwerk und ein direkter Zugang zu Förder- und Beratungsmöglichkeiten sind das A und O für eure erfolgreiche Gründung. Ganz egal\, ob ihr bereits erfolgreich gegründet habt\, noch mit dem Gedanken spielt oder aktuell auf der Suche nach den passenden Partner:innen für euer Gründungsvorhaben seid. \nLangweilige Frontalveranstaltungen und steife Netzwerk-Events gehören der Vergangenheit an: Bei Meet\, Greet + Beat erwarten euch spannende Angebote und neue Kontakte im Rahmen einer kurzweiligen Abendveranstaltung in gemütlicher Lounge-Atmosphäre! \nErfahre mehr
URL:https://www.aachen.digital/en/event/meet-greet-beat-das-gruendungsevent-in-nrw/
LOCATION:Akzelerator OWL\, Driburger Str. 73\, Paderborn\, 33100
ATTACH;FMTTYPE=image/jpeg:https://www.aachen.digital/wp-content/uploads/2024/02/Meet-Greet-stage-1632-x-644-px.jpg
END:VEVENT
END:VCALENDAR