BEGIN:VCALENDAR
VERSION:2.0
PRODID:-//digitalHUB Aachen - ECPv6.15.20//NONSGML v1.0//EN
CALSCALE:GREGORIAN
METHOD:PUBLISH
X-ORIGINAL-URL:https://www.aachen.digital/en/
X-WR-CALDESC:Events for digitalHUB Aachen
REFRESH-INTERVAL;VALUE=DURATION:PT1H
X-Robots-Tag:noindex
X-PUBLISHED-TTL:PT1H
BEGIN:VTIMEZONE
TZID:Europe/Berlin
BEGIN:DAYLIGHT
TZOFFSETFROM:+0100
TZOFFSETTO:+0200
TZNAME:CEST
DTSTART:20180325T010000
END:DAYLIGHT
BEGIN:STANDARD
TZOFFSETFROM:+0200
TZOFFSETTO:+0100
TZNAME:CET
DTSTART:20181028T010000
END:STANDARD
BEGIN:DAYLIGHT
TZOFFSETFROM:+0100
TZOFFSETTO:+0200
TZNAME:CEST
DTSTART:20190331T010000
END:DAYLIGHT
BEGIN:STANDARD
TZOFFSETFROM:+0200
TZOFFSETTO:+0100
TZNAME:CET
DTSTART:20191027T010000
END:STANDARD
BEGIN:DAYLIGHT
TZOFFSETFROM:+0100
TZOFFSETTO:+0200
TZNAME:CEST
DTSTART:20200329T010000
END:DAYLIGHT
BEGIN:STANDARD
TZOFFSETFROM:+0200
TZOFFSETTO:+0100
TZNAME:CET
DTSTART:20201025T010000
END:STANDARD
BEGIN:DAYLIGHT
TZOFFSETFROM:+0100
TZOFFSETTO:+0200
TZNAME:CEST
DTSTART:20210328T010000
END:DAYLIGHT
BEGIN:STANDARD
TZOFFSETFROM:+0200
TZOFFSETTO:+0100
TZNAME:CET
DTSTART:20211031T010000
END:STANDARD
BEGIN:DAYLIGHT
TZOFFSETFROM:+0100
TZOFFSETTO:+0200
TZNAME:CEST
DTSTART:20220327T010000
END:DAYLIGHT
BEGIN:STANDARD
TZOFFSETFROM:+0200
TZOFFSETTO:+0100
TZNAME:CET
DTSTART:20221030T010000
END:STANDARD
BEGIN:DAYLIGHT
TZOFFSETFROM:+0100
TZOFFSETTO:+0200
TZNAME:CEST
DTSTART:20230326T010000
END:DAYLIGHT
BEGIN:STANDARD
TZOFFSETFROM:+0200
TZOFFSETTO:+0100
TZNAME:CET
DTSTART:20231029T010000
END:STANDARD
BEGIN:DAYLIGHT
TZOFFSETFROM:+0100
TZOFFSETTO:+0200
TZNAME:CEST
DTSTART:20240331T010000
END:DAYLIGHT
BEGIN:STANDARD
TZOFFSETFROM:+0200
TZOFFSETTO:+0100
TZNAME:CET
DTSTART:20241027T010000
END:STANDARD
BEGIN:DAYLIGHT
TZOFFSETFROM:+0100
TZOFFSETTO:+0200
TZNAME:CEST
DTSTART:20250330T010000
END:DAYLIGHT
BEGIN:STANDARD
TZOFFSETFROM:+0200
TZOFFSETTO:+0100
TZNAME:CET
DTSTART:20251026T010000
END:STANDARD
BEGIN:DAYLIGHT
TZOFFSETFROM:+0100
TZOFFSETTO:+0200
TZNAME:CEST
DTSTART:20260329T010000
END:DAYLIGHT
BEGIN:STANDARD
TZOFFSETFROM:+0200
TZOFFSETTO:+0100
TZNAME:CET
DTSTART:20261025T010000
END:STANDARD
END:VTIMEZONE
BEGIN:VEVENT
DTSTART;TZID=Europe/Berlin:20250911T083000
DTEND;TZID=Europe/Berlin:20250911T230000
DTSTAMP:20260423T192304
CREATED:20250226T093558Z
LAST-MODIFIED:20250226T093558Z
UID:10007230-1757579400-1757631600@www.aachen.digital
SUMMARY:Future Tech Fest 2025
DESCRIPTION:The Future of Tech\nBe part of Germany’s largest B2B startup expo and conference. Meet innovative minds during a day full of networking and inspiration. \nAbout FTF \nThousands of people come together to learn\, share knowledge\, exchange ideas and do business. Here\, startups meet tech enthusiasts\, SMEs\, scientists\, decision-makers\, large companies & investors to experience the digital future. \nStars and hidden champions of the startup scene as well as heroes from all over NRW are waiting for you on several stages. At our expo\, you’ll get up close and personal with the digital innovations of about 300 national and international tech startups. In our Investors & Networking Lounge you will meet in 1:1 conversations with exciting new contacts. We have an exclusive aftershow party\, great special acts and side events in store to make FTF unique for you. \nFind out more here!
URL:https://www.aachen.digital/en/event/future-tech-fest-2025/
LOCATION:Areal Böhler Düsseldorf\, Hansaallee 321\, Düsseldorf\, 40549
ATTACH;FMTTYPE=image/jpeg:https://www.aachen.digital/wp-content/uploads/2025/02/Design-ohne-Titel-59.jpg
ORGANIZER;CN="digihub D%C3%BCsseldorf Rheinland":MAILTO:info@digihub.de
END:VEVENT
BEGIN:VEVENT
DTSTART;VALUE=DATE:20240822
DTEND;VALUE=DATE:20240823
DTSTAMP:20260423T192304
CREATED:20240612T083334Z
LAST-MODIFIED:20240801T095643Z
UID:10006179-1724284800-1724371199@www.aachen.digital
SUMMARY:Future Tech Fest - #FTF24
DESCRIPTION:Celebrate the Future of Tech \nOrganisiert vom digihub Düsseldorf/Rheinland vernetzt das Future Tech Fest 2024 nationale und internationale Größen aus der Tech-Welt und dem Start-up Ökosystem. Am 22. August 2024 werden wir gemeinsam auf der größten Tech Start-up Messe und Konferenz nachhaltige Mehrwerte generieren\, um mit neuen Innovationen die Wirtschaft von morgen voranzutreiben. \nDas erwartet dich: \nNicht nur die Expo wird dieses Jahr auf 300+ Ausstellende anwachsen\, auch unsere Vertical-Stages bieten dir die Möglichkeit\, direkt und tiefgehend in Gespräche und Keynotes zu deinen Lieblingsthemen einzutauchen. Du triffst auf Start-ups\, Corporates\, InvestorInnen und Keyplayer des Start-up Ökosystems. In einer extra Halle versorgt dich die Mainstage mit hochwertigen Inhalten von top-class Speaker:innen. Sei dabei\, wenn sich die Köpfe der digitalen Zukunft vernetzen! \nDie FTF 24 Experience: \nMainstage: Sie bietet Prominenz und ein interaktives Bühnenprogramm. Erlebe Thought Leader im Dialog und nimm aktiv am Programm teil. \nStartup Stage: Ausstellende Start-ups haben die Chance\, beim Startup Pitch Battle vor einer hochkarätigen Jury ihr Business zu präsentieren und das Preisgeld in Höhe von 3.000€\, gesponsert von der NRW.BANK\, zu gewinnen. \nVertical Stages: \n\nTech-Expo: Das Herzstück des FTF. Triff 300+ nationale und internationale Start-ups\, die ihre neuesten Tech-Innovationen hautnah vorstellen.\nWorkshop Corner: Im Workshop-Format kannst du tiefgreifende Themen und Problemstellungen diskutieren und so Mehrwerte schaffen.\nNetworking Lounge: An diesem Treffpunkt gibt es für Investierende und Start-ups ausreichend Privatsphäre\, um ungestörte Geschäftsgespräche zu führen.\nSheInnovates Tech Lounge: Wir eröffnen mit einer eigenen Bühne für Female Founders und Women in Tech einen direkten Austausch und beleuchten Fördermöglichkeiten.\nAftershowparty: Am Abend locken eine Live-Band sowie DJs dazu\, in entspannter Atmosphäre den Abend ausklingen zu lassen.\n\nHol‘ dir jetzt dein Ticket für das FTF und sei am 22. August 2024 dabei\, wenn wir gemeinsam den Impact kreieren\, den es für eine zukunftsfähige digitale Wirtschaft braucht! \nJetzt Ticket sichern! \ndigitalHUB Aachen Mitglieder erhalten einen 30% Rabattcode auf die Tickets. Um diesen zu erhalten meldet euch unter events@hubaachen.de  \nAufruf an alle Tech-Startups: Bewerbt euch jetzt als Aussteller beim @Future Tech Fest und werdet Teil der größten B2B-Startup-Expo in Deutschland! \nMehr erfahren und bewerben
URL:https://www.aachen.digital/en/event/future-tech-fest-ftf24/
LOCATION:Areal Böhler Düsseldorf\, Hansaallee 321\, Düsseldorf\, 40549
ATTACH;FMTTYPE=image/jpeg:https://www.aachen.digital/wp-content/uploads/2024/06/Design-ohne-Titel-21.jpg
ORGANIZER;CN="digihub D%C3%BCsseldorf Rheinland":MAILTO:info@digihub.de
END:VEVENT
BEGIN:VEVENT
DTSTART;VALUE=DATE:20230817
DTEND;VALUE=DATE:20230818
DTSTAMP:20260423T192304
CREATED:20230403T125554Z
LAST-MODIFIED:20230718T105933Z
UID:10006454-1692230400-1692316799@www.aachen.digital
SUMMARY:Digital Demo Day 2023
DESCRIPTION:The Future of Tech\nDer Digital Demo Day (DDD) des Digital Innovation Hub Düsseldorf/Rheinland ist die größte B2B Startup Expo und Konferenz in Deutschland. Hier treffen sich über 4.500 innovative Köpfe an einem Tag voller Networking und Inspiration.
URL:https://www.aachen.digital/en/event/digital-demo-day-2023/
LOCATION:Areal Böhler Düsseldorf\, Hansaallee 321\, Düsseldorf\, 40549
ATTACH;FMTTYPE=image/jpeg:https://www.aachen.digital/wp-content/uploads/2023/04/digitalDemoDay2023_stage.jpg
ORGANIZER;CN="digihub D%C3%BCsseldorf Rheinland":MAILTO:info@digihub.de
END:VEVENT
BEGIN:VEVENT
DTSTART;TZID=Europe/Berlin:20220913T171500
DTEND;TZID=Europe/Berlin:20220913T220000
DTSTAMP:20260423T192304
CREATED:20220620T102258Z
LAST-MODIFIED:20220811T124849Z
UID:10006270-1663089300-1663106400@www.aachen.digital
SUMMARY:Meet\, Greet + Beat - Das Finale der Roadshow
DESCRIPTION:Freuen Sie sich auf fruchtbare Gespräche und spannende Möglichkeiten in gemütlicher Lounge-Atmosphäre unter dem Motto “Anything goes\, no obligations”. In den letzten Monaten pitchten die erfahrensten Fördermittelempfänger Nordrhein-Westfalens gegeneinander und sorgten so für ein interessantes Spektakel. Das große Finale entscheidet nun\, welche Stipendiaten auf dem Siegertreppchen stehen. \nDas Aachener Startup und HUBmember Voltfang hat mit seinen Stromspeichern aus aufbereiteten Elektroauto-Batterien die Meet\, Greet + Beat Roadshow in Aachen gewonnen. Beim großen Finale im September 2022 besteht neben dem bereits gewonnenen Preisgeld von 2.000 Euro noch die Chance\, um den Hauptpreis von 5.000 Euro zu pitchen. \nAber nicht nur die Pitch-Teilnehmer haben die Chance zu glänzen: Auch die Besucher haben die Möglichkeit\, sich und ihre Startups den Netzwerkpartnern vorzustellen. Freuen Sie sich auf ein unterhaltsames Networking-Event. \nHier gibt es alle Informationen zum Event und kostenlose Tickets: \nMeet\, Greet + Beat in Düsseldorf \n 
URL:https://www.aachen.digital/en/event/meet-greet-beat-das-finale-der-roadshow/
LOCATION:Areal Böhler Düsseldorf\, Hansaallee 321\, Düsseldorf\, 40549
ATTACH;FMTTYPE=image/jpeg:https://www.aachen.digital/wp-content/uploads/2022/06/stage_meet_greet_beat.jpg
END:VEVENT
BEGIN:VEVENT
DTSTART;TZID=Europe/Berlin:20220818T080000
DTEND;TZID=Europe/Berlin:20220818T180000
DTSTAMP:20260423T192304
CREATED:20220714T101314Z
LAST-MODIFIED:20220714T200832Z
UID:10005696-1660809600-1660845600@www.aachen.digital
SUMMARY:DIGITAL DEMO DAY 2022
DESCRIPTION:Der DIGITAL DEMO DAY\, Deutschlands führende Start-up-Messe und Technologie-Konferenz für die Industrie\, geht am Donnerstag\, 18. August 2022\, auf dem AREAL BÖHLER in die sechste Runde. Und wir freuen uns schon wie verrückt! Mit super viel Power arbeiten wir auf unser größtes Event hin und das erwartet euch: \n\nKeynotes\, Fireside-Chats und Panel-Diskussionen zu den Themen „Metaverse“\,„Sustainability“ and „Hi-Tech NRW“\nTop Speaker wie Marc Sommer (META)\, Martina Merz (CEOthyssenkrupp AG)\, Extremsportler Jonas Deichmann\, NRW-Ministerpräsident HendrikWüst und Dr. Anna Christmann (BMWK Beauftragte für die Digitale Wirtschaft und Start-ups)\nInnovative Führungen durch die Messefläche mit nationalen und internationalen Start-ups als Aussteller\nStartup Pitch Contest inkl. Preisverleihung\ninteraktive Workshops zu Trendthemen\, wie B2B Sales\, IoT undKI-Anwendungen in der Industrie sowie die Digitalisierung des Handwerks\n1:1 Matchmaking mit Start-ups in unserer Corporates & Investors Lounge\n\nWeitere Infos und Anmeldung hier \nMitglieder des digitalHUB Aachen erhalten 30 Prozent Rabatt auf ihr Ticket. Für den Rabattcode schreibt bitte eine Mail an events@hubaachen.de
URL:https://www.aachen.digital/en/event/digital-demo-day-2022/
LOCATION:Areal Böhler Düsseldorf\, Hansaallee 321\, Düsseldorf\, 40549
ATTACH;FMTTYPE=image/jpeg:https://www.aachen.digital/wp-content/uploads/2022/07/demoday-duesseldorf.jpg
ORGANIZER;CN="digihub D%C3%BCsseldorf Rheinland":MAILTO:info@digihub.de
END:VEVENT
BEGIN:VEVENT
DTSTART;TZID=Europe/Berlin:20200213T080000
DTEND;TZID=Europe/Berlin:20200213T180000
DTSTAMP:20260423T192304
CREATED:20200123T123359Z
LAST-MODIFIED:20200123T123359Z
UID:10004904-1581580800-1581616800@www.aachen.digital
SUMMARY:DIGITAL DEMO DAY in Düsseldorf
DESCRIPTION:Lernen Sie über 175 nationale & internationale Industrial Tech Startups mit ihren neuesten Digitalprodukten und Lösungen zum Anfassen & Ausprobieren kennen. Erleben Sie ein einzigartiges Digital-Lab mit Anwendungen aus den Bereichen VR / AR\, IoT\, Robotik\, Künstliche Intelligenz\, Blockchain oder Cyber Security. \nUnd das ist noch nicht alles! Neben den Tech-Startups erwartet Sie ein spannendes Programm mit folgenden Highlights: \n\nKeynote von Frank Thelen: „How to build tech startups with potential for world market leaders”\nVorträge von innovativen Startups\, Tech-Unternehmen und Investoren\, u.a. relayr\, cognigy\, Microsoft\, Vodafone\, GE\, Fiege\, Speedinvest\, HTGF\, Freigeist rund um das Thema „Digitale Industrielösungen und Plattformen“\nStartup Pitch Contest inkl. Preisverleihung mit NRW-Minister Pinkwart\ninteraktive Workshops zu Trendthemen\, wie Data Analytics\, IoT und KI-Anwendungen in der Industrie\n1:1 Matchmaking mit Startups in unserer Corporates & Investors Lounge\n\nDas detaillierte Programm und weitere Informationen hier. \nExklusiv für unsere Mitglieder gibt es einen 30%-Rabatt auf den Ticketpreis von € 99\,-. Für den Rabattcode senden sie eine E-Mail an events@hubaachen.de. \nHIER GEHTS ZUR ANMELDUNG
URL:https://www.aachen.digital/en/event/digital-demo-day-duesseldorf/
LOCATION:Areal Böhler Düsseldorf\, Hansaallee 321\, Düsseldorf\, 40549
ATTACH;FMTTYPE=image/jpeg:https://www.aachen.digital/wp-content/uploads/2020/01/Digital-Demo-Day-Düsseldorf-12zu5.jpg
ORGANIZER;CN="digihub D%C3%BCsseldorf Rheinland":MAILTO:info@digihub.de
END:VEVENT
BEGIN:VEVENT
DTSTART;VALUE=DATE:20190207
DTEND;VALUE=DATE:20190208
DTSTAMP:20260423T192304
CREATED:20181109T170801Z
LAST-MODIFIED:20221213T132634Z
UID:10004825-1549497600-1549583999@www.aachen.digital
SUMMARY:Digital Demo Day 2019
DESCRIPTION:Der digihub Düsseldorf lädt zum 2. Digital Demo Day nach Düsseldorf ein. Über 125 Startups aus den Bereichen Industrial Tech & Services – VR/AR\, IoT\, Robotics\, AI\, Blockchain und Cyber Security – präsentieren ihre digitalen Innovationen. Auf 2 Bühnen erlebt ihr Keynotes\, Live-Hacks & Panels mit inspirierenden Speakern & Experten. \nStartups können hier ihre digitalen Lösungen und Technologien präsentieren. Bewerben hier mit diesem Formular für einen der 125 Ausstellerplätze.\nZum Programm und zur offiziellen Website: Digital Demo Day 2019
URL:https://www.aachen.digital/en/event/digital-demo-day-2019/
LOCATION:Areal Böhler Düsseldorf\, Hansaallee 321\, Düsseldorf\, 40549
ATTACH;FMTTYPE=image/jpeg:https://www.aachen.digital/wp-content/uploads/2018/11/stage-digital-demo-day.jpg
ORGANIZER;CN="digihub D%C3%BCsseldorf Rheinland":MAILTO:info@digihub.de
END:VEVENT
END:VCALENDAR