BEGIN:VCALENDAR
VERSION:2.0
PRODID:-//digitalHUB Aachen - ECPv6.15.20//NONSGML v1.0//EN
CALSCALE:GREGORIAN
METHOD:PUBLISH
X-ORIGINAL-URL:https://www.aachen.digital/en/
X-WR-CALDESC:Events for digitalHUB Aachen
REFRESH-INTERVAL;VALUE=DURATION:PT1H
X-Robots-Tag:noindex
X-PUBLISHED-TTL:PT1H
BEGIN:VTIMEZONE
TZID:Europe/Berlin
BEGIN:DAYLIGHT
TZOFFSETFROM:+0100
TZOFFSETTO:+0200
TZNAME:CEST
DTSTART:20230326T010000
END:DAYLIGHT
BEGIN:STANDARD
TZOFFSETFROM:+0200
TZOFFSETTO:+0100
TZNAME:CET
DTSTART:20231029T010000
END:STANDARD
BEGIN:DAYLIGHT
TZOFFSETFROM:+0100
TZOFFSETTO:+0200
TZNAME:CEST
DTSTART:20240331T010000
END:DAYLIGHT
BEGIN:STANDARD
TZOFFSETFROM:+0200
TZOFFSETTO:+0100
TZNAME:CET
DTSTART:20241027T010000
END:STANDARD
BEGIN:DAYLIGHT
TZOFFSETFROM:+0100
TZOFFSETTO:+0200
TZNAME:CEST
DTSTART:20250330T010000
END:DAYLIGHT
BEGIN:STANDARD
TZOFFSETFROM:+0200
TZOFFSETTO:+0100
TZNAME:CET
DTSTART:20251026T010000
END:STANDARD
END:VTIMEZONE
BEGIN:VEVENT
DTSTART;TZID=Europe/Berlin:20240314T120000
DTEND;TZID=Europe/Berlin:20240314T180000
DTSTAMP:20260423T192242
CREATED:20240201T132119Z
LAST-MODIFIED:20240201T132119Z
UID:10006725-1710417600-1710439200@www.aachen.digital
SUMMARY:FH Aachen -Tag von Forschung\, Innovation und Transfer
DESCRIPTION:Am Tag der Forschung\, Innovation und Transfer stellt die FH Aachen verschiedene Forschungs- und Entwicklungsthemen unter dem Motto nachhaltige\, interdisziplinäre Lösungen für die Region vor. \nDie Veranstaltung findet in diesem Jahr an dem Campus in Jülich statt. \nDort können Sie zum Beispiel den thermischen Stromspeicher multiTESS\, einen Modell-Wasserstoffreaktor\, Biosensorik- oder Ganganalyse-Labore anschauen. \nSie haben die Möglichkeit\, in aktuelle Forschung Einblick zu nehmen\, sich in thematischen Sessions inspirieren zu lassen und inhaltlich auszutauschen. \nIm Rahmen dieses Tages wird der Forschungspreis 2024 der FH Aachen verliehen\, der von der Bürgerstiftung der Sparkasse Aachen gestiftet wird. \nBei Fragen zur Veranstaltung kontaktieren Sie gerne Frau Britta Fuchs. \nWir freuen uns\, wenn Sie sich diesen Termin bereits jetzt vormerken und wir Sie vor Ort begrüßen dürfen! \nZUR ANMELDUNG \n 
URL:https://www.aachen.digital/en/event/fh-aachen-tag-von-forschung-innovation-und-transfer/
LOCATION:Auditorium Bibliothek\, Heinrich-Mußmann-Straße 1\, Jülich\, 52428
ATTACH;FMTTYPE=image/jpeg:https://www.aachen.digital/wp-content/uploads/2024/02/FIT-Tag_-FH-Aachen_-Stage.jpg
END:VEVENT
END:VCALENDAR