BEGIN:VCALENDAR
VERSION:2.0
PRODID:-//digitalHUB Aachen - ECPv6.15.20//NONSGML v1.0//EN
CALSCALE:GREGORIAN
METHOD:PUBLISH
X-WR-CALNAME:digitalHUB Aachen
X-ORIGINAL-URL:https://www.aachen.digital/en/
X-WR-CALDESC:Events for digitalHUB Aachen
REFRESH-INTERVAL;VALUE=DURATION:PT1H
X-Robots-Tag:noindex
X-PUBLISHED-TTL:PT1H
BEGIN:VTIMEZONE
TZID:Europe/Berlin
BEGIN:DAYLIGHT
TZOFFSETFROM:+0100
TZOFFSETTO:+0200
TZNAME:CEST
DTSTART:20180325T010000
END:DAYLIGHT
BEGIN:STANDARD
TZOFFSETFROM:+0200
TZOFFSETTO:+0100
TZNAME:CET
DTSTART:20181028T010000
END:STANDARD
BEGIN:DAYLIGHT
TZOFFSETFROM:+0100
TZOFFSETTO:+0200
TZNAME:CEST
DTSTART:20190331T010000
END:DAYLIGHT
BEGIN:STANDARD
TZOFFSETFROM:+0200
TZOFFSETTO:+0100
TZNAME:CET
DTSTART:20191027T010000
END:STANDARD
BEGIN:DAYLIGHT
TZOFFSETFROM:+0100
TZOFFSETTO:+0200
TZNAME:CEST
DTSTART:20200329T010000
END:DAYLIGHT
BEGIN:STANDARD
TZOFFSETFROM:+0200
TZOFFSETTO:+0100
TZNAME:CET
DTSTART:20201025T010000
END:STANDARD
END:VTIMEZONE
BEGIN:VEVENT
DTSTART;TZID=Europe/Berlin:20190924T120000
DTEND;TZID=Europe/Berlin:20190924T180000
DTSTAMP:20260424T022020
CREATED:20190826T085432Z
LAST-MODIFIED:20231228T101533Z
UID:10004831-1569326400-1569348000@www.aachen.digital
SUMMARY:Tag der GründerRegion
DESCRIPTION:20 Jahre Förderung von Existenzgründungen\n1 Tag Feiern & Staunen\nDie Initiative GründerRegion Aachen\, Düren\, Euskirchen\, Heinsberg wurde im Jahr 1999 ins Leben gerufen. In den vergangenen 20 Jahren hat sich der Zusammenschluss von mittlerweile 14 Trägerinstitutionen als regionale Marke für das Thema Existenzgründung und Unternehmensförderung etabliert. Besuchen Sie unseren Aktionstag und genießen Sie das vielseitige Programm mit best-practice-Beispielen\, Aktionsfläche\, Impulsvorträgen und Workshops. Selbstverständlich wird auch für das leibliche Wohl gesorgt sein. \nFeiern Sie an unserem Aktionstag die Vielfalt der GründerRegion mit uns! \n\nInformationen zum Thema Existenzgründung\nVorträge & Workshops\nErfolgreiche Beispiele\nSelber Ausprobieren\nEntertainment & Feiern\n\nWeitere Infos auf: www.gruenderregion.de \nHIER GEHTS ZUR ANMELDUNG
URL:https://www.aachen.digital/en/event/tag-der-gruenderregion/
LOCATION:Aula Carolina\, Pontstrasse\, Aachen
ATTACH;FMTTYPE=image/jpeg:https://www.aachen.digital/wp-content/uploads/2019/08/stage_gruenderregion-1.jpg
ORGANIZER;CN="Gr%C3%BCnderRegion Aachen":MAILTO:info@gruenderregion.de
END:VEVENT
END:VCALENDAR