BEGIN:VCALENDAR
VERSION:2.0
PRODID:-//digitalHUB Aachen - ECPv6.15.20//NONSGML v1.0//EN
CALSCALE:GREGORIAN
METHOD:PUBLISH
X-ORIGINAL-URL:https://www.aachen.digital/en/
X-WR-CALDESC:Events for digitalHUB Aachen
REFRESH-INTERVAL;VALUE=DURATION:PT1H
X-Robots-Tag:noindex
X-PUBLISHED-TTL:PT1H
BEGIN:VTIMEZONE
TZID:Europe/Berlin
BEGIN:DAYLIGHT
TZOFFSETFROM:+0100
TZOFFSETTO:+0200
TZNAME:CEST
DTSTART:20170326T010000
END:DAYLIGHT
BEGIN:STANDARD
TZOFFSETFROM:+0200
TZOFFSETTO:+0100
TZNAME:CET
DTSTART:20171029T010000
END:STANDARD
BEGIN:DAYLIGHT
TZOFFSETFROM:+0100
TZOFFSETTO:+0200
TZNAME:CEST
DTSTART:20180325T010000
END:DAYLIGHT
BEGIN:STANDARD
TZOFFSETFROM:+0200
TZOFFSETTO:+0100
TZNAME:CET
DTSTART:20181028T010000
END:STANDARD
BEGIN:DAYLIGHT
TZOFFSETFROM:+0100
TZOFFSETTO:+0200
TZNAME:CEST
DTSTART:20190331T010000
END:DAYLIGHT
BEGIN:STANDARD
TZOFFSETFROM:+0200
TZOFFSETTO:+0100
TZNAME:CET
DTSTART:20191027T010000
END:STANDARD
BEGIN:DAYLIGHT
TZOFFSETFROM:+0100
TZOFFSETTO:+0200
TZNAME:CEST
DTSTART:20200329T010000
END:DAYLIGHT
BEGIN:STANDARD
TZOFFSETFROM:+0200
TZOFFSETTO:+0100
TZNAME:CET
DTSTART:20201025T010000
END:STANDARD
BEGIN:DAYLIGHT
TZOFFSETFROM:+0100
TZOFFSETTO:+0200
TZNAME:CEST
DTSTART:20210328T010000
END:DAYLIGHT
BEGIN:STANDARD
TZOFFSETFROM:+0200
TZOFFSETTO:+0100
TZNAME:CET
DTSTART:20211031T010000
END:STANDARD
BEGIN:DAYLIGHT
TZOFFSETFROM:+0100
TZOFFSETTO:+0200
TZNAME:CEST
DTSTART:20220327T010000
END:DAYLIGHT
BEGIN:STANDARD
TZOFFSETFROM:+0200
TZOFFSETTO:+0100
TZNAME:CET
DTSTART:20221030T010000
END:STANDARD
BEGIN:DAYLIGHT
TZOFFSETFROM:+0100
TZOFFSETTO:+0200
TZNAME:CEST
DTSTART:20230326T010000
END:DAYLIGHT
BEGIN:STANDARD
TZOFFSETFROM:+0200
TZOFFSETTO:+0100
TZNAME:CET
DTSTART:20231029T010000
END:STANDARD
BEGIN:DAYLIGHT
TZOFFSETFROM:+0100
TZOFFSETTO:+0200
TZNAME:CEST
DTSTART:20240331T010000
END:DAYLIGHT
BEGIN:STANDARD
TZOFFSETFROM:+0200
TZOFFSETTO:+0100
TZNAME:CET
DTSTART:20241027T010000
END:STANDARD
BEGIN:DAYLIGHT
TZOFFSETFROM:+0100
TZOFFSETTO:+0200
TZNAME:CEST
DTSTART:20250330T010000
END:DAYLIGHT
BEGIN:STANDARD
TZOFFSETFROM:+0200
TZOFFSETTO:+0100
TZNAME:CET
DTSTART:20251026T010000
END:STANDARD
END:VTIMEZONE
BEGIN:VEVENT
DTSTART;TZID=Europe/Berlin:20241105T093000
DTEND;TZID=Europe/Berlin:20241107T163000
DTSTAMP:20260423T192153
CREATED:20241025T105102Z
LAST-MODIFIED:20241025T120246Z
UID:10006899-1730799000-1730997000@www.aachen.digital
SUMMARY:bonding an der RWTH Aachen 2024
DESCRIPTION:In diesem Jahr wird die RWTH für Euch zum 37. Mal die größte studentische Karrieremesse organisieren. Sie bieten verteilt auf 3 Tage mehr als 400 Aussteller:innen\, insbesondere aus den Ingenieur-\, Wirtschafts- und Naturwissenschaften. \nDu hast die Möglichkeit mit Firmenvertretenden Deines Wunschunternehmens in Kontakt zu treten\, um Deinem Traumjob oder -praktikum\, Deiner Abschlussarbeit oder Deinem Auslandsaufenthalt einen Schritt näher zu kommen. In diesem Jahr hat die RWTH einen größeren Startup-Area\, in dem sie all die spannenden neuen Innovationen kleinerer Unternehmen präsentieren\, von denen viele direkt hier in Aachen ihren Sitz haben. \nDieses Jahr sind sie stolz darauf\, ein neues Konzept für die bonding-Karrieremesse einzuführen. Bereits seit zwei Jahren organisiert bonding den InstitutsMarkt\, um den Studierenden die Institute näher zu bringen. Hier haben Studierende die Möglichkeit\, nach HiWi-Stellen\, Projekt- und Abschlussarbeiten und Direkteinstieg zu suchen. Die RWTH freut sich\, das neue Format auf unserer jährlichen Karrieremesse im November zu präsentieren. \nOder aber Du nutzt die Chance\, um Informationen zu sammeln – wie etwa was von Dir als zukünftige Nachwuchskraft erwartet wird. Profis vor Ort checken kostenlos Deine Bewerbungsmappe und machen mit Dir das Bewerbungsfoto\, das Dich von Deiner besten Seite zeigt. Auf der Jobwall kannst Du Dir aktuelle Stellenangebote der ausstellenden Unternehmen ansehen. Verschiedenste spannende Fachvorträge bieten Dir einen Einblick in die Arbeit der unterschiedlichen Firmen. \nDamit Du für Deinen Messebesuch optimal vorbereitet bist und einen guten ersten Eindruck bei Deinem Traumunternehmen machst\, bietet Dir die RWTH im Vorfeld Warm-Ups an. Das heißt\, neben Identifizierung des Wunscharbeitgebers\, der richtigen Kontaktaufnahme am Messestand oder eventuell auftretende kritische Fragen im Bewerbungsgespräch werden Dir zahlreiche Tipps in Kooperation mit Beratungsunternehmen angeboten. \nAm 07.11. ist auch digitalHUB Aachen vor Ort\, in Begleitung der Startups Heatbeat und AES Autonome Energiesysteme GmbH \nDie Messe ist für jeden frei zugänglich \nWeitere Infos
URL:https://www.aachen.digital/en/event/bonding-an-der-rwth-aachen-2024/
LOCATION:Bendplatz Aachen\, Kühlwetterstraße\, Aachen\, 52072\, Deutschland
ATTACH;FMTTYPE=image/jpeg:https://www.aachen.digital/wp-content/uploads/2024/10/bonding_RWTH_Stage.jpg
END:VEVENT
BEGIN:VEVENT
DTSTART;TZID=Europe/Berlin:20220706T090000
DTEND;TZID=Europe/Berlin:20220706T140000
DTSTAMP:20260423T192153
CREATED:20220629T083308Z
LAST-MODIFIED:20220629T083346Z
UID:10005685-1657098000-1657116000@www.aachen.digital
SUMMARY:Solar Butterfly in Aachen
DESCRIPTION:Der Solar Butterfly ist das neuste Projekt vom Solarpionier Louis Palmer\, der bereits 2007 als erster Mensch mit einem komplett solarbetriebenen Auto um die Welt gefahren ist. Diesmal soll es größer werden! \nDer Solar Butterfly ist eine Art Wohnwagen\, mit ausfahrbaren Wänden und Vollausstattung mit Solarzellen\, welche nicht nur den Wohnwagen\, sondern auch das E-Auto energetisch versorgen. \nDas Ziel: in dreieinhalb Jahren 90 Länder befahren. Ohne einmal zu tanken. Am 23. Mai geht es los: erst durch die Schweiz\, dann Europa und nächstes Jahr dann die anderen Kontinente. In Aachen wird der Solar Butterfly am 6. Juli Halt machen. Dabei werden sich auch lokale Solar- und Energiewende-Pioniere präsentieren. Mit dabei: Der SFV! Wir gehören auch zu den Sponsoren dieser Etappe. \nUm 9 Uhr morgens geht es auf dem Bendplatz los. Bis 14 Uhr gibt es Infos\, Interviews und weitere Programmpunkte\, die noch in der Planung sind. \nDie Weltreise dient der Bewusstseinsbildung über die Notwendigkeit und die Möglichkeiten einer vollständigen Dekarbonisierung des globalen Energiesystems. Die Klimakatastrophe kann noch aufgehalten werden\, u.a. auch mit fortschrittlicher\, dezentraler Technik. \nANMELDUNG
URL:https://www.aachen.digital/en/event/solar-butterfly-in-aachen/
LOCATION:Bendplatz Aachen\, Kühlwetterstraße\, Aachen\, 52072\, Deutschland
ATTACH;FMTTYPE=image/jpeg:https://www.aachen.digital/wp-content/uploads/2022/06/SolarButterfly_stage.jpg
END:VEVENT
BEGIN:VEVENT
DTSTART;TZID=Europe/Berlin:20181203T093000
DTEND;TZID=Europe/Berlin:20181205T163000
DTSTAMP:20260423T192153
CREATED:20181023T092929Z
LAST-MODIFIED:20181127T144535Z
UID:10004658-1543829400-1544027400@www.aachen.digital
SUMMARY:bonding Firmenkontaktmesse
DESCRIPTION:In diesem Jahr wird bonding für Euch zum 31. Mal die größte studentische Firmenkontaktmesse organisieren. Verteilt auf 3 Tage könnt ihr über 350 Aussteller treffen\, insbesondere aus den Ingenieur-\, Wirtschafts- und Naturwissenschaften: Ausstellerliste 2018. \nDu hast die Möglichkeit mit Firmenvertretern deines Wunschunternehmens in Kontakt zu treten\, um deinem Traumjob oder -praktikum\, deiner Abschlussarbeit oder deinem Auslandsaufenthalt einen Schritt näher zu kommen. Oder aber du nutzt die Chance\, um Informationen zu sammeln – wie etwa was von dir als zukünftige Nachwuchskraft erwartet wird. Profis vor Ort checken kostenlos deine Bewerbungsmappe und machen mit dir das Bewerbungsfoto\, das dich von deiner besten Seite zeigt. Auf unserer Jobwall kannst du dir aktuelle Stellenangebote der ausstellenden Unternehmen ansehen. Verschiedenste spannende Fachvorträge bieten dir einen Einblick in die Arbeit der unterschiedlichen Firmen. \nAlle Informationen zur Veranstaltung unter diesem Link: bonding Firmenkontaktmesse 2018
URL:https://www.aachen.digital/en/event/bonding-firmenkontaktmesse/
LOCATION:Bendplatz Aachen\, Kühlwetterstraße\, Aachen\, 52072\, Deutschland
ATTACH;FMTTYPE=image/jpeg:https://www.aachen.digital/wp-content/uploads/2018/09/AdobeStock_87591909.jpeg
END:VEVENT
END:VCALENDAR