BEGIN:VCALENDAR
VERSION:2.0
PRODID:-//digitalHUB Aachen - ECPv6.15.20//NONSGML v1.0//EN
CALSCALE:GREGORIAN
METHOD:PUBLISH
X-WR-CALNAME:digitalHUB Aachen
X-ORIGINAL-URL:https://www.aachen.digital/en/
X-WR-CALDESC:Events for digitalHUB Aachen
REFRESH-INTERVAL;VALUE=DURATION:PT1H
X-Robots-Tag:noindex
X-PUBLISHED-TTL:PT1H
BEGIN:VTIMEZONE
TZID:Europe/Berlin
BEGIN:DAYLIGHT
TZOFFSETFROM:+0100
TZOFFSETTO:+0200
TZNAME:CEST
DTSTART:20230326T010000
END:DAYLIGHT
BEGIN:STANDARD
TZOFFSETFROM:+0200
TZOFFSETTO:+0100
TZNAME:CET
DTSTART:20231029T010000
END:STANDARD
BEGIN:DAYLIGHT
TZOFFSETFROM:+0100
TZOFFSETTO:+0200
TZNAME:CEST
DTSTART:20240331T010000
END:DAYLIGHT
BEGIN:STANDARD
TZOFFSETFROM:+0200
TZOFFSETTO:+0100
TZNAME:CET
DTSTART:20241027T010000
END:STANDARD
BEGIN:DAYLIGHT
TZOFFSETFROM:+0100
TZOFFSETTO:+0200
TZNAME:CEST
DTSTART:20250330T010000
END:DAYLIGHT
BEGIN:STANDARD
TZOFFSETFROM:+0200
TZOFFSETTO:+0100
TZNAME:CET
DTSTART:20251026T010000
END:STANDARD
BEGIN:DAYLIGHT
TZOFFSETFROM:+0100
TZOFFSETTO:+0200
TZNAME:CEST
DTSTART:20260329T010000
END:DAYLIGHT
BEGIN:STANDARD
TZOFFSETFROM:+0200
TZOFFSETTO:+0100
TZNAME:CET
DTSTART:20261025T010000
END:STANDARD
END:VTIMEZONE
BEGIN:VEVENT
DTSTART;VALUE=DATE:20250605
DTEND;VALUE=DATE:20250606
DTSTAMP:20260423T203433
CREATED:20241218T090442Z
LAST-MODIFIED:20241218T090555Z
UID:10007090-1749081600-1749167999@www.aachen.digital
SUMMARY:OOTB.NRW auf Hinterland of Things
DESCRIPTION:Bielefeld wird zum Epizentrum\, in dem Startups zünden\, Investoren Visionen und Unternehmen Pionierarbeit leisten. HINTERLAND OF THINGS 2025 lädt Sie ein\, über das konventionelle Hinauszugehen\, in einer Veranstaltung\, die mehr als nur ein Treffen ist – es ist ein Zusammenfluss von Inspiration und Innovation. \nIm Rahmen der Veranstaltung wird der OUT OF THE BOX.NRW Preis verliehen\, für den interessierte Startups sich ab JETZT bewerben können. \nBis zum 28.02.2025 können innovative Startups aus Nordrhein-Westfalen ihre Ideen einreichen und sich die Chance auf 50.000 Euro Preisgeld sichern. \nAus allen Bewerbungen wählt eine Jury aus führenden Investoren die Top 25 Startups des Landes aus. Diese treten in einem öffentlichen Voting an\, um es in die Top 10 zu schaffen. Die Finalisten präsentieren ihre Ideen am 05.06.2025 auf der Bühne des Hinterland of Things vor mehr als 2.500 Entscheidern aus der Tech- und Startup-Szene. \nTeilnahmebedingungen: \n\nSitz des Startups in NRW\nGründung innerhalb der letzten drei Jahre\nFokus auf digitale Prozesse\, Dienstleistungen oder Geschäftsmodelle\n\nHier mehr erfahren\, bewerben und Tickets für die Hinterland of Things Konferenz kaufen!
URL:https://www.aachen.digital/en/event/ootb-nrw-auf-hinterland-of-things-2/
LOCATION:Bielefeld\, Bielefeld\, Germany
ATTACH;FMTTYPE=image/jpeg:https://www.aachen.digital/wp-content/uploads/2024/12/Design-ohne-Titel-43.jpg
END:VEVENT
BEGIN:VEVENT
DTSTART;VALUE=DATE:20240613
DTEND;VALUE=DATE:20240614
DTSTAMP:20260423T203433
CREATED:20240531T063559Z
LAST-MODIFIED:20240531T063559Z
UID:10006809-1718236800-1718323199@www.aachen.digital
SUMMARY:OOTB.NRW auf Hinterland of Things
DESCRIPTION:Bielefeld wird zum Epizentrum\, in dem Startups zünden\, Investoren Visionen und Unternehmen Pionierarbeit leisten. HINTERLAND OF THINGS 2024 lädt Sie ein\, über das konventionelle Hinauszugehen\, in einer Veranstaltung\, die mehr als nur ein Treffen ist – es ist ein Zusammenfluss von Inspiration und Innovation. \nIm Rahmen der Veranstaltung wird der OUT OF THE BOX.NRW Preis verliehen\, für den sich dieses mal gleich drei Aachener Startups qualifiziert haben: Cuinti GmbH\, Peers. UG&Voltfang. \nWeitere Informationen und Tickets erhalten Sie über OOTB.NRW2024
URL:https://www.aachen.digital/en/event/ootb-nrw-auf-hinterland-of-things/
LOCATION:Bielefeld\, Bielefeld\, Germany
ATTACH;FMTTYPE=image/jpeg:https://www.aachen.digital/wp-content/uploads/2024/05/Design-ohne-Titel-5.jpg
END:VEVENT
END:VCALENDAR