BEGIN:VCALENDAR
VERSION:2.0
PRODID:-//digitalHUB Aachen - ECPv6.15.20//NONSGML v1.0//EN
CALSCALE:GREGORIAN
METHOD:PUBLISH
X-WR-CALNAME:digitalHUB Aachen
X-ORIGINAL-URL:https://www.aachen.digital/en/
X-WR-CALDESC:Events for digitalHUB Aachen
REFRESH-INTERVAL;VALUE=DURATION:PT1H
X-Robots-Tag:noindex
X-PUBLISHED-TTL:PT1H
BEGIN:VTIMEZONE
TZID:Europe/Berlin
BEGIN:DAYLIGHT
TZOFFSETFROM:+0100
TZOFFSETTO:+0200
TZNAME:CEST
DTSTART:20230326T010000
END:DAYLIGHT
BEGIN:STANDARD
TZOFFSETFROM:+0200
TZOFFSETTO:+0100
TZNAME:CET
DTSTART:20231029T010000
END:STANDARD
BEGIN:DAYLIGHT
TZOFFSETFROM:+0100
TZOFFSETTO:+0200
TZNAME:CEST
DTSTART:20240331T010000
END:DAYLIGHT
BEGIN:STANDARD
TZOFFSETFROM:+0200
TZOFFSETTO:+0100
TZNAME:CET
DTSTART:20241027T010000
END:STANDARD
BEGIN:DAYLIGHT
TZOFFSETFROM:+0100
TZOFFSETTO:+0200
TZNAME:CEST
DTSTART:20250330T010000
END:DAYLIGHT
BEGIN:STANDARD
TZOFFSETFROM:+0200
TZOFFSETTO:+0100
TZNAME:CET
DTSTART:20251026T010000
END:STANDARD
END:VTIMEZONE
BEGIN:VEVENT
DTSTART;TZID=Europe/Berlin:20241212T140000
DTEND;TZID=Europe/Berlin:20241214T140000
DTSTAMP:20260423T182823
CREATED:20241014T112535Z
LAST-MODIFIED:20241209T081146Z
UID:10006888-1734012000-1734184800@www.aachen.digital
SUMMARY:Makerthon: RegioLoop - lokale Lebensmittelnetzwerke stärken
DESCRIPTION:****ACHTUNG: leider muss diese Veranstaltung aus organisatorischen Gründen abgesagt werden. Das Thema inklusive der Fachreferent:innen wird allerdings in Kooperation mit dem digitalHub Aachen e. V. und der Stadt Aachen erneut im nächsten Jahr aufgegriffen – wir informieren euch!**** \nInnovative Lösungen zur Stärkung lokaler Lebensmittelnetze entwickeln\nund die Zukunft nachhaltiger regionaler Wertschöpfungsketten mitgestalten\nAachen und seine Umgebung sind geprägt von einer reichen landwirtschaftlichen Tradition und einer lebendigen Kulturlandschaft. Doch um die Nachhaltigkeit und Resilienz der Region zu sichern\, gilt es\, die lokalen Lebensmittelwertschöpfungsketten zu stärken und effizienter zu gestalten. Ein nachhaltiger regionaler Lebensmittelkreislauf trägt nicht nur zur Reduktion von CO2-Emissionen bei\, sondern fördert auch die lokale Wirtschaft und schafft Arbeitsplätze. \nDer Makerthon bietet eine ideale Gelegenheit\, Teil dieser zukunftsweisenden Bewegung zu werden und die Städteregion Aachen mit neuen Ideen für die Zukunft resilient und nachhaltig zu gestalten.\nDie Vernetzung am Donnerstag\, 12. Dezember 2024\, ist ein optionales Angebot der Bischöflichen Akademie. Der offizielle Start der Veranstaltung ist am Freitag\, 13. Dezember 2024\, um 9.00 Uhr. \nIdeal zur Teilnahme für \n\nregional Anbietende\nMenschen aus Gastronomie und Lebensmittelproduktion\ndigitale MacherInnen und\nalle\, die das Thema angeht.\n\nDas digitalHUB Aachen e.V. veranstaltet in Kooperation mit der Bischöflichen Akademie des Bistums Aachen und der Circular Food Chain Aachen diesen dreitägigen Makerthron an zwei Veranstaltungsorten: \nDonnerstag\, 12. Dezember 2024: \nBischöfliche Akademie des Bistums Aachen\nLeonhardstraße 18-20\n52064 Aachen \nFreitag\, 13. Dezember\, bis Samstag\, 14. Dezember 2024: \ndigitalHUB e.V.\nJülicher Straße 72a\n52070 Aachen \nAnmeldefrist: 28.11.2024 \nBei Rückfragen erreichen Sie uns unter: 0241 47996-33 oder ichnehmeteil@bistum-aachen.de \nDetails \n10\,00 € Startgebühr \nFür Verpflegung im Rahmen der Veranstaltung ist gesorgt. \nEine Übernachtung in der Bischöflichen Akademie\, mit Frühstück\, kann hinzugebucht werden: \n38\,30 € / 34\,10 €* (Einzelzimmer)\n28\,30 € / 23\,60 € * (Doppelzimmer bei Belegung durch zwei Personen) \n* Die Ermäßigung gilt für Schüler:innen\, Studierende (bis zur BAföG-Fördergrenze\, das Studium wurde also vor Vollendung des 45. Lebensjahres begonnen)\, Auszubildende sowie Empfänger:innen von Grundsicherung und Arbeitssuchende. Bitte legen Sie einen Nachweis zu Beginn der Veranstaltung vor. \nDen Tagungsbeitrag zahlen Sie bitte bei Ankunft an der Rezeption – bar oder per EC-Karte (keine Kreditkarten). \n\nBei Fragen zur Veranstaltung:\nBischöfliche Akademie des Bistums Aachen\nOliver Reisen\, Dozent\nLeonhardstraße 18-20\n52064 Aachen\nTel. +49 (0) 152 31397557\nMail: oliver.reisen@bistum-aachen.de
URL:https://www.aachen.digital/en/event/lokale-lebensmittelnetzwerke-staerken/
LOCATION:Bischöfliche Akademie des Bistums Aachen & digitalHUB e.V.\, Aachen\, Germany
ATTACH;FMTTYPE=image/jpeg:https://www.aachen.digital/wp-content/uploads/2024/10/Stage-RegioLoop-Makerthon-Lokale-Lebensmittelnetzwerke-staerken-2160-x-1080-px.jpg
END:VEVENT
END:VCALENDAR