BEGIN:VCALENDAR
VERSION:2.0
PRODID:-//digitalHUB Aachen - ECPv6.15.20//NONSGML v1.0//EN
CALSCALE:GREGORIAN
METHOD:PUBLISH
X-ORIGINAL-URL:https://www.aachen.digital/en/
X-WR-CALDESC:Events for digitalHUB Aachen
REFRESH-INTERVAL;VALUE=DURATION:PT1H
X-Robots-Tag:noindex
X-PUBLISHED-TTL:PT1H
BEGIN:VTIMEZONE
TZID:Europe/Berlin
BEGIN:DAYLIGHT
TZOFFSETFROM:+0100
TZOFFSETTO:+0200
TZNAME:CEST
DTSTART:20180325T010000
END:DAYLIGHT
BEGIN:STANDARD
TZOFFSETFROM:+0200
TZOFFSETTO:+0100
TZNAME:CET
DTSTART:20181028T010000
END:STANDARD
BEGIN:DAYLIGHT
TZOFFSETFROM:+0100
TZOFFSETTO:+0200
TZNAME:CEST
DTSTART:20190331T010000
END:DAYLIGHT
BEGIN:STANDARD
TZOFFSETFROM:+0200
TZOFFSETTO:+0100
TZNAME:CET
DTSTART:20191027T010000
END:STANDARD
BEGIN:DAYLIGHT
TZOFFSETFROM:+0100
TZOFFSETTO:+0200
TZNAME:CEST
DTSTART:20200329T010000
END:DAYLIGHT
BEGIN:STANDARD
TZOFFSETFROM:+0200
TZOFFSETTO:+0100
TZNAME:CET
DTSTART:20201025T010000
END:STANDARD
BEGIN:DAYLIGHT
TZOFFSETFROM:+0100
TZOFFSETTO:+0200
TZNAME:CEST
DTSTART:20210328T010000
END:DAYLIGHT
BEGIN:STANDARD
TZOFFSETFROM:+0200
TZOFFSETTO:+0100
TZNAME:CET
DTSTART:20211031T010000
END:STANDARD
BEGIN:DAYLIGHT
TZOFFSETFROM:+0100
TZOFFSETTO:+0200
TZNAME:CEST
DTSTART:20220327T010000
END:DAYLIGHT
BEGIN:STANDARD
TZOFFSETFROM:+0200
TZOFFSETTO:+0100
TZNAME:CET
DTSTART:20221030T010000
END:STANDARD
BEGIN:DAYLIGHT
TZOFFSETFROM:+0100
TZOFFSETTO:+0200
TZNAME:CEST
DTSTART:20230326T010000
END:DAYLIGHT
BEGIN:STANDARD
TZOFFSETFROM:+0200
TZOFFSETTO:+0100
TZNAME:CET
DTSTART:20231029T010000
END:STANDARD
BEGIN:DAYLIGHT
TZOFFSETFROM:+0100
TZOFFSETTO:+0200
TZNAME:CEST
DTSTART:20240331T010000
END:DAYLIGHT
BEGIN:STANDARD
TZOFFSETFROM:+0200
TZOFFSETTO:+0100
TZNAME:CET
DTSTART:20241027T010000
END:STANDARD
BEGIN:DAYLIGHT
TZOFFSETFROM:+0100
TZOFFSETTO:+0200
TZNAME:CEST
DTSTART:20250330T010000
END:DAYLIGHT
BEGIN:STANDARD
TZOFFSETFROM:+0200
TZOFFSETTO:+0100
TZNAME:CET
DTSTART:20251026T010000
END:STANDARD
BEGIN:DAYLIGHT
TZOFFSETFROM:+0100
TZOFFSETTO:+0200
TZNAME:CEST
DTSTART:20260329T010000
END:DAYLIGHT
BEGIN:STANDARD
TZOFFSETFROM:+0200
TZOFFSETTO:+0100
TZNAME:CET
DTSTART:20261025T010000
END:STANDARD
END:VTIMEZONE
BEGIN:VEVENT
DTSTART;TZID=Europe/Berlin:20250612T100000
DTEND;TZID=Europe/Berlin:20250612T180000
DTSTAMP:20260423T204538
CREATED:20250415T072009Z
LAST-MODIFIED:20250415T072115Z
UID:10007304-1749722400-1749751200@www.aachen.digital
SUMMARY:Health Innovation Euregion 2025
DESCRIPTION:The Brightlands Maastricht Health Campus invites entrepreneurs\, scientists\, startups\, and healthcare partners to the 4th edition of the Health Innovation Euregion Event. \nThe event brings together key players from the Euregion’s health and life sciences ecosystem to foster cross-border collaboration\, share knowledge\, and connect with investors and experts. \nProgram Highlights: \n\n10:00–12:00 | One-on-one speed dating\n12:00–18:00 | Keynotes\, panels & networking\n\nExpect inspiring talks\, honest stories from entrepreneurs\, insights into ecosystem support\, and plenty of networking opportunities. \nFind out more and sign up here!
URL:https://www.aachen.digital/en/event/health-innovation-euregion-2/
LOCATION:Brightlands Maastricht Health Campus BV\, Oxfordlaan 70\, Maastricht\, 6229 EV\, Niederlande
ATTACH;FMTTYPE=image/jpeg:https://www.aachen.digital/wp-content/uploads/2025/04/Design-ohne-Titel-66.jpg
END:VEVENT
BEGIN:VEVENT
DTSTART;TZID=Europe/Berlin:20190620T130000
DTEND;TZID=Europe/Berlin:20190620T170000
DTSTAMP:20260423T204538
CREATED:20190515T120611Z
LAST-MODIFIED:20221213T132537Z
UID:10004771-1561035600-1561050000@www.aachen.digital
SUMMARY:Digital Health & Wearables Event
DESCRIPTION:This unique event connects academia\, entrepreneurs and investors in the Meuse–Rhine Euroregion working in digital health and wearables. The goal is to foster networking and matchmaking\, as well as to inspire researchers who are looking to translate their academic interest into business ventures. \nThe main event comprises a startup investment session\, in which selected startups from the Meuse–Rhine Euroregion will have the opportunity to pitch their ideas to an investor panel specialized in digital health and wearables. Matchmaking between startups and knowledge institutions will be facilitated. In the second part of the program\, a panel will discuss the journey to academic entrepreneurship\, opportunities and challenges\, including scientists’ personal experiences and investors’ point of view. \nBefore the main event\, in a so-called preparation day\, the selected startups are invited to participate in a coaching session. A workshop on storytelling for academic entrepreneurship will close the preparation day. \nProgram \nJune 20th: Main Event \n13.00 – 13.30: Welcome\n13.30 – 15.30: Startup investment sessions\n15.30 – 16.00: Coffee & networking/matchmaking\n16.00 – 16.30: Panel session: the journey of academic entrepreneurship\n16.30 – 17.00: Drinks\, bits & bites\, networking \nJune 6th: Preparation Day \n13.30 – 15.30: Pitch coaching session\n15.30 – 16.00: Coffee & networking\n16.00 – 17.00: Workshop: storytelling for academic entrepreneurship \nImportant dates \n20th May 2019: Deadline to apply for pitching\n27th May 2019: Selected startups will be notified\n6th June 2019: Preparation day\n20th June 2019: Digital Health & Wearables event \nRegistration via: https://www.brightlands.com/BBDigitalHealthDay \nFor more information\, please contact Adriana Berlanga\, Knowledge Transfer Office (adriana.berlanga@maastrichtuniversity.nl)
URL:https://www.aachen.digital/en/event/digital-health-wearables-event/
LOCATION:Brightlands Maastricht Health Campus BV\, Oxfordlaan 70\, Maastricht\, 6229 EV\, Niederlande
ATTACH;FMTTYPE=image/jpeg:https://www.aachen.digital/wp-content/uploads/2019/05/Save-the-Date_BuSyBee_DigitalHealthWearables_20.6.19-Maastricht.jpg
END:VEVENT
END:VCALENDAR