BEGIN:VCALENDAR
VERSION:2.0
PRODID:-//digitalHUB Aachen - ECPv6.15.20//NONSGML v1.0//EN
CALSCALE:GREGORIAN
METHOD:PUBLISH
X-WR-CALNAME:digitalHUB Aachen
X-ORIGINAL-URL:https://www.aachen.digital/en/
X-WR-CALDESC:Events for digitalHUB Aachen
REFRESH-INTERVAL;VALUE=DURATION:PT1H
X-Robots-Tag:noindex
X-PUBLISHED-TTL:PT1H
BEGIN:VTIMEZONE
TZID:Europe/Berlin
BEGIN:DAYLIGHT
TZOFFSETFROM:+0100
TZOFFSETTO:+0200
TZNAME:CEST
DTSTART:20210328T010000
END:DAYLIGHT
BEGIN:STANDARD
TZOFFSETFROM:+0200
TZOFFSETTO:+0100
TZNAME:CET
DTSTART:20211031T010000
END:STANDARD
BEGIN:DAYLIGHT
TZOFFSETFROM:+0100
TZOFFSETTO:+0200
TZNAME:CEST
DTSTART:20220327T010000
END:DAYLIGHT
BEGIN:STANDARD
TZOFFSETFROM:+0200
TZOFFSETTO:+0100
TZNAME:CET
DTSTART:20221030T010000
END:STANDARD
BEGIN:DAYLIGHT
TZOFFSETFROM:+0100
TZOFFSETTO:+0200
TZNAME:CEST
DTSTART:20230326T010000
END:DAYLIGHT
BEGIN:STANDARD
TZOFFSETFROM:+0200
TZOFFSETTO:+0100
TZNAME:CET
DTSTART:20231029T010000
END:STANDARD
END:VTIMEZONE
BEGIN:VEVENT
DTSTART;TZID=Europe/Berlin:20220427T170000
DTEND;TZID=Europe/Berlin:20220427T200000
DTSTAMP:20260423T192223
CREATED:20220414T093037Z
LAST-MODIFIED:20220414T093037Z
UID:10006208-1651078800-1651089600@www.aachen.digital
SUMMARY:Management-Treffen: Digitalisierung im Dienste der Nachhaltigkeit
DESCRIPTION:Programm: \n\n17.00 Uhr Einlass\n17.15 Uhr Begrüßung\n17.30 Uhr Vorträge & Diskussion\n\nZukunftsfähige Wertschöpfung: Dr. Dorothea Ernst\, INFORM GmbH / Bürgerstiftung Aachen e.V.\nDamit alle ein gutes Leben innerhalb der Grenzen unseres Planeten führen können\, müssen wir gemeinsam die Transformation zu nachhaltigem Wirtschaften gestalten. Die Digitalisierung eröffnet u.a. neue Möglichkeiten der Zusammenarbeit\, Schaffung von Transparenz\, Vermeidung von Verschwendung und die Entwicklung neuer Geschäftsmodelle. Pioniere des Wandels haben in den letzten Jahrzehnten viele innovative Methoden der Zusammenarbeit und Ideen für nachhaltige\, systemische Wertschöpfung entwickelt und erprobt. Im Rahmen des Vortrags werden 5 Aspekte nachhaltiger Wertschöpfung vorgestellt und am Beispiel INFORM mögliche Schritte der Umsetzung diskutiert. \nInternetnutzung aus der Nachhaltigkeitsperspektive – Good or bad?: Prof. Peter Letmathe\, RWTH Aachen\nDie Nutzung des Internets geht mit einem enormen Energie- und Ressourcenverbrauch einher. Der Vortrag klärt anhand verschiedener Kriterien\, welche Nachhaltigkeitsauswirkungen Digitalisierung und Internetnutzung haben. Grundlage ist der so genannte Baseline-Approach\, der einen Vergleich zwischen Internetnutzung und relevanten Handlungsalternativen auf unterhaltsame Weise vornimmt. \necoHUB Aachen – Gründung eines Unternehmensnetzwerks zum Wirtschaften in den Grenzen des Planeten: Dr. Richard Schieferdecker\, Bürgerstiftung Lebensraum Aachen e.V. \n\n18.45 Uhr Pause / Fingerfood & Getränke\n19.00 Uhr OpenSpace\n19.45 Uhr Abschluss\n\nFür Mitglieder des digitalHUB ist die Veranstaltung kostenlos. \nAnmeldung und weitere Informationen: hier.
URL:https://www.aachen.digital/en/event/37438/
LOCATION:Burg Frankenberg\, Aachen\, 52066
ATTACH;FMTTYPE=image/jpeg:https://www.aachen.digital/wp-content/uploads/2021/10/AdobeStock_358683095-scaled-1.jpeg
ORGANIZER;CN="REGINA e.V.":MAILTO:mail@regina.ac
END:VEVENT
END:VCALENDAR