BEGIN:VCALENDAR
VERSION:2.0
PRODID:-//digitalHUB Aachen - ECPv6.15.20//NONSGML v1.0//EN
CALSCALE:GREGORIAN
METHOD:PUBLISH
X-WR-CALNAME:digitalHUB Aachen
X-ORIGINAL-URL:https://www.aachen.digital/en/
X-WR-CALDESC:Events for digitalHUB Aachen
REFRESH-INTERVAL;VALUE=DURATION:PT1H
X-Robots-Tag:noindex
X-PUBLISHED-TTL:PT1H
BEGIN:VTIMEZONE
TZID:Europe/Berlin
BEGIN:DAYLIGHT
TZOFFSETFROM:+0100
TZOFFSETTO:+0200
TZNAME:CEST
DTSTART:20170326T010000
END:DAYLIGHT
BEGIN:STANDARD
TZOFFSETFROM:+0200
TZOFFSETTO:+0100
TZNAME:CET
DTSTART:20171029T010000
END:STANDARD
BEGIN:DAYLIGHT
TZOFFSETFROM:+0100
TZOFFSETTO:+0200
TZNAME:CEST
DTSTART:20180325T010000
END:DAYLIGHT
BEGIN:STANDARD
TZOFFSETFROM:+0200
TZOFFSETTO:+0100
TZNAME:CET
DTSTART:20181028T010000
END:STANDARD
BEGIN:DAYLIGHT
TZOFFSETFROM:+0100
TZOFFSETTO:+0200
TZNAME:CEST
DTSTART:20190331T010000
END:DAYLIGHT
BEGIN:STANDARD
TZOFFSETFROM:+0200
TZOFFSETTO:+0100
TZNAME:CET
DTSTART:20191027T010000
END:STANDARD
BEGIN:DAYLIGHT
TZOFFSETFROM:+0100
TZOFFSETTO:+0200
TZNAME:CEST
DTSTART:20200329T010000
END:DAYLIGHT
BEGIN:STANDARD
TZOFFSETFROM:+0200
TZOFFSETTO:+0100
TZNAME:CET
DTSTART:20201025T010000
END:STANDARD
END:VTIMEZONE
BEGIN:VEVENT
DTSTART;TZID=Europe/Berlin:20190523T180000
DTEND;TZID=Europe/Berlin:20190523T200000
DTSTAMP:20260423T230421
CREATED:20190425T143638Z
LAST-MODIFIED:20221213T132544Z
UID:10004991-1558634400-1558641600@www.aachen.digital
SUMMARY:Phil-AIXchange: Wie uns (k)eine nachhaltige Digitalisierung gelingt
DESCRIPTION:Digitalisierung ist in aller Munde. In Phil-AIXchange werden wir uns aus philosophischer und geisteswissenschaftlicher Sicht dem Themenkomplex „Digitalisierung und globaler Wandel“ nähern.\nWie wird die Digitalisierung das Zusammenleben auf diesem Planeten verändern? Wir nehmen aktuelle Entwicklungen unter die Lupe und überlegen\, wie Digitalisierung dazu beitragen kann\, die globalen Herausforderungen zu lösen. \nWIE UNS (K)EINE NACHHALTIGE DIGITALISIERUNG GELINGT \nReferent: Felix Sühlmann-Faul | Freier Techniksoziologe mit Schwerpunkt Digitalisierung und Nachhaltigkeit\, Autor des Buches „Der blinde Fleck der Digitalisierung“\nDonnerstag\, 23. Mai 2019 | 18:00 Uhr\nRWTH Aachen | C.A.R.L (Hörsaal 06) | Claßenstraße 11\, 52072 Aachen \nDie Digitalisierung gehört zu den größten und umfassendsten Transformationen der Menschheit. Sie beeinflusst jede Ebene unserer Gesellschaft. Während Politik und Wirtschaft stets die Chancen und Vorteile der Digitalisierung betonen\, wird das Thema Nachhaltigkeit meist außen vor gelassen. Zwar bietet die Digitalisierung auch hier manche Chancen – größtenteils entstehen aber Nachhaltigkeitsdefizite durch erhöhten Rohstoff- und Energieverbrauch\, die ökologische und soziale Ebenen schädigen.\nDieser Vortrag widmet sich der Frage\, welcher Maßnahmen es bedarf\, eine nachhaltige Digitalisierung zu etablieren. \nDer Eintritt ist frei.
URL:https://www.aachen.digital/en/event/phil-aixchange-wie-uns-keine-nachhaltige-digitalisierung-gelingt/
LOCATION:C.A.R.L.\, Claßenstraße 11\, Aachen\, 52072
ATTACH;FMTTYPE=image/png:https://www.aachen.digital/wp-content/uploads/2019/04/phil-aix.png
END:VEVENT
BEGIN:VEVENT
DTSTART;TZID=Europe/Berlin:20181211T180000
DTEND;TZID=Europe/Berlin:20181211T200000
DTSTAMP:20260423T230421
CREATED:20181203T142027Z
LAST-MODIFIED:20181203T142148Z
UID:10004832-1544551200-1544558400@www.aachen.digital
SUMMARY:Vortragsreihe "Chancen und Risiken der Digitalisierung"
DESCRIPTION:In Kooperation mit dem Institut für Politische Wissenschaft der RWTH-Aachen\, dem Weltforum Aachen sowie der VHS-Aachen organisiert der Verein Regionale Resilienz Aachen eine Vortragsreihe zum Thema: “Chancen und Risiken der Digitalisierung”. Im Rahmen dieser Veranstaltungsreihe referiert der Geschäftsführer der regio IT\, Dieter Rehfeld\, über die Blockchain-Technologie.\nDie Veranstaltung findet statt: \nDienstag\, 11.12.2018 im C.A.R.L.\, Claßenstraße 11\, Aachen\, HS 10\, 18 – 20 Uhr. \nBekannt wurde die BT durch Kryptowährungen wie Bitcoins. Was steckt hinter dieser Technologie? Welche sinnvollen Anwendungsbereiche ermöglicht sie und wie sicher sind private Daten? Dieter Rehfeld\, Vorsitzender der Geschäftsführung der regio IT Aachen\, referiert als Experte über das Zukunftspotential von BT. Durch die Übertragung von Werten und Rechten ohne sog. Intermediäre wie Notare oder Banken: Aufgabenfelder sind u.a. die Registrierung von Änderungen wie Studienplatzwechsel\, das Management von Rechtsübertragungen bei einem Hauskauf oder der Eintrag eines neugeborenen Kindes in das Einwohnerregister. Viele in der Verwaltung gesammelte Bürger – und Servicekonten werden durch BT schneller nutzbar. Die BT verbindet technisch gesehen dictributed computing und Kryptographie und nutzt somit die Verschlüsselungstechnik\, die den meisten Kryptowährungen zugrunde liegt. Dieter Rehfeld plädiert für eine Validierung von Rechten\, aber nicht von personenbezogenen Daten. Neben datenschutzrechtlichen Aspekten stellt sich auch die Frage nach den möglichen Konsequenzen der Einführung dieser Technologie für BürgerInnen und Beschäftigte.
URL:https://www.aachen.digital/en/event/vortragsreihe-chancen-und-risiken-der-digitalisierung/
LOCATION:C.A.R.L.\, Claßenstraße 11\, Aachen\, 52072
ATTACH;FMTTYPE=image/jpeg:https://www.aachen.digital/wp-content/uploads/2018/11/AdobeStock_116604209-2.jpeg
END:VEVENT
BEGIN:VEVENT
DTSTART;TZID=Europe/Berlin:20181023T180000
DTEND;TZID=Europe/Berlin:20181023T200000
DTSTAMP:20260423T230421
CREATED:20181010T073734Z
LAST-MODIFIED:20181010T075837Z
UID:10004652-1540317600-1540324800@www.aachen.digital
SUMMARY:Chancen und Risiken der Digitalisierung
DESCRIPTION:Referent: Prof. Norbert Pohlmann\, Institut für Internet-Sicherheit Westfälische Hochschule Gelsenkirchen \nDie zügige und umfassende Digitalisierung unserer Lebens- und vor allem Arbeitsbereiche ist das erklärte Ziel der Politik unseres Landes. Die berechtigte Sorge\, dass wir im internationalen Technologie-Wettlauf noch weiter abgehängt werden könnten und damit den Wirtschafts- und Wissenschaftsstandort Deutschland gefährdeten\, erhöht den Druck\, den Digitalisierungsprozess vorbehaltlos zu beschleunigen. Darüber hinaus verheißt das digitale Zeitalter viele gesellschaftliche\, ökonomische und sogar ökologische Chancen. Wahl-Slogans wie „Digitalisierung first\, Bedenken second“  fokussieren optimistisch auf dieses Chancenfeld. \nDoch um die Chancen der Digitalisierung nutzen zu können\, müssen auch ihre Risiken klar erkannt und minimiert werden. Sicherheitsfragen im Hinblick auf Big Data\, Smard-Grids\, Künstliche Intelligenz bzw. der Cloud-Technologie und –nutzung sind bis dato ebenso wenig gelöst wie die potenziellen\, mit dem Digitalisierungsprozess einhergehenden gesamtgesellschaftlichen und wirtschaftlichen Negativfolgen\, wie zum Beispiel der Verlust von Arbeitsplätzen. \nDie geplante Vorlesungsreihe von der Regionalen Resilienz Aachen e.V. in Kooperation mit dem Institut für Politische Wissenschaft der RWTH-Aachen\, dem Eine Weltforum Aachen\, sowie der VHS-Aachen möchte die digitale Transformation aus einer ambivalenten Sichtweise diskutieren. \nErster Teil der Vorlesungsreihe\n23.10.2018 | 18:00 – 20:00 Uhr\nClaßenstraße 11 52072 Aachen\nim C.A.R.L. | Hörsaal 10 | 2. OG \nWeitere Informationen: resilienz-aachen.de
URL:https://www.aachen.digital/en/event/regionale-resilenz-veranstaltung-10-2018/
LOCATION:C.A.R.L.\, Claßenstraße 11\, Aachen\, 52072
ATTACH;FMTTYPE=image/jpeg:https://www.aachen.digital/wp-content/uploads/2018/09/AdobeStock_205059663.jpeg
END:VEVENT
END:VCALENDAR