BEGIN:VCALENDAR
VERSION:2.0
PRODID:-//digitalHUB Aachen - ECPv6.15.20//NONSGML v1.0//EN
CALSCALE:GREGORIAN
METHOD:PUBLISH
X-ORIGINAL-URL:https://www.aachen.digital/en/
X-WR-CALDESC:Events for digitalHUB Aachen
REFRESH-INTERVAL;VALUE=DURATION:PT1H
X-Robots-Tag:noindex
X-PUBLISHED-TTL:PT1H
BEGIN:VTIMEZONE
TZID:Europe/Berlin
BEGIN:DAYLIGHT
TZOFFSETFROM:+0100
TZOFFSETTO:+0200
TZNAME:CEST
DTSTART:20180325T010000
END:DAYLIGHT
BEGIN:STANDARD
TZOFFSETFROM:+0200
TZOFFSETTO:+0100
TZNAME:CET
DTSTART:20181028T010000
END:STANDARD
BEGIN:DAYLIGHT
TZOFFSETFROM:+0100
TZOFFSETTO:+0200
TZNAME:CEST
DTSTART:20190331T010000
END:DAYLIGHT
BEGIN:STANDARD
TZOFFSETFROM:+0200
TZOFFSETTO:+0100
TZNAME:CET
DTSTART:20191027T010000
END:STANDARD
BEGIN:DAYLIGHT
TZOFFSETFROM:+0100
TZOFFSETTO:+0200
TZNAME:CEST
DTSTART:20200329T010000
END:DAYLIGHT
BEGIN:STANDARD
TZOFFSETFROM:+0200
TZOFFSETTO:+0100
TZNAME:CET
DTSTART:20201025T010000
END:STANDARD
BEGIN:DAYLIGHT
TZOFFSETFROM:+0100
TZOFFSETTO:+0200
TZNAME:CEST
DTSTART:20210328T010000
END:DAYLIGHT
BEGIN:STANDARD
TZOFFSETFROM:+0200
TZOFFSETTO:+0100
TZNAME:CET
DTSTART:20211031T010000
END:STANDARD
END:VTIMEZONE
BEGIN:VEVENT
DTSTART;TZID=Europe/Berlin:20201027T130000
DTEND;TZID=Europe/Berlin:20201027T190000
DTSTAMP:20260424T015050
CREATED:20200921T074515Z
LAST-MODIFIED:20201014T132726Z
UID:10005645-1603803600-1603825200@www.aachen.digital
SUMMARY:MedLife e. V.-Workshop  "Start-up in Life Sciences"
DESCRIPTION:MedLife e. V. lädt ein: Start-up-Interessierte/ Unternehmer \nWo:\nCenter for Biohybrid Medical Systems – CMBS Forckenbeckstraße 55\, 52074 Aachen \nWann:\nDienstag\, 27.10.2020\, 13:00 h bis 19:00 h (inklusive Pause und Networking) \nDu hast im Anschluss an die Impulsvorträge die Möglichkeit\, Fragen zu stellen/ Herausforderungen zu diskutieren. \nAnmeldung:\nFür die genannte Zielgruppe ist dieser Workshop kostenfrei. Aufgrund begrenzter Teilnehmerplätze wird um rechtzeitige Anmeldung gebeten. \nHIER GEHT´S ZUR ANMELDUNG. \nVergabe vorgenannter Teilnahmeplätze nach Eingang. Fragen Deine Fragen beantwortet gerne Christa Roos.\nTelefon +49 241 47583 486 | roos@medlife-ev.de
URL:https://www.aachen.digital/en/event/medlife-e-v-workshop-start-up-in-life-sciences/
LOCATION:Center for Biohybrid Medical Systems – CMBS\, Forckenbeckstraße 55\, Aachen\, 52074\, Deutschland
ATTACH;FMTTYPE=image/jpeg:https://www.aachen.digital/wp-content/uploads/2020/09/MedLife12zu5.PNG.jpg
ORGANIZER;CN="AGIT mbH":MAILTO:info@agit.de
END:VEVENT
BEGIN:VEVENT
DTSTART;TZID=Europe/Berlin:20200325T163000
DTEND;TZID=Europe/Berlin:20200325T190000
DTSTAMP:20260424T015050
CREATED:20200204T090523Z
LAST-MODIFIED:20200204T090523Z
UID:10005519-1585153800-1585162800@www.aachen.digital
SUMMARY:Workshop: Start-up in Life Science
DESCRIPTION:Wie kann ich mein Intellectual Property (IP) schützen (lassen)? Marken- Patentanmeldung oder einfach schneller sein als andere Marktteilnehmer?\nMedLife e. V. lädt ein: Start-up Interessierte [m/w/d] \nWo:\nCenter for Biohybrid Medical Systems \nForckenbeckstraße 55 \n52074 Aachen \nWann:\nMittwoch 25.03.2020\, 16:30 – 19:00 Uhr \nKosten:\nFür die genannte Zielgruppe ist dieser Workshop kostenfrei. Aufgrund begrenzter Teilnehmerplätze wird um rechtzeitige Anmeldung gebeten. Vergabe vorgenannter Teilnahmeplätze nach Eingang. \nVortragende:\nRon Meyer Start-up: Intellectual Property (IP) als Unternehmensgrundlage InfanDx AG \nDr. Simon Sonntag Start-up: Herausforderungen bei der Patentierung von Software Virtonomy GmbH \nDr. Julian Boor Rechtsfragen bei den ersten Schritten: Besonderheiten Venture-Capital-Geber\, Bindung von Know-how-Trägern Notare Auernhammer & Dr. Boor \nCarsten Koch Intellectual Property (IP) richtig schützen Farago Patentanwälte \nMatthias Guth Der Frühphaseninvestor – mehr als nur Geldgeber? MIG Verwaltung AG \n  \nIm Anschluss an die Impulsvorträge hast Du die Möglichkeit\, Fragen/Herausforderungen zu diskutieren/Dein erfolgreiches Netzwerk aufzubauen. \n  \nFragen:\nDeine Fragen beantwortet gerne Christa Roos. \nTelefon: +49 241 47583 486 \nroos@medlife-ev.de \n  \n  \n 
URL:https://www.aachen.digital/en/event/workshop-start-up-in-life-science/
LOCATION:Center for Biohybrid Medical Systems – CMBS\, Forckenbeckstraße 55\, Aachen\, 52074\, Deutschland
ATTACH;FMTTYPE=image/jpeg:https://www.aachen.digital/wp-content/uploads/2020/02/mindmap-2123973_1920.jpg
END:VEVENT
BEGIN:VEVENT
DTSTART;TZID=Europe/Berlin:20191112T163000
DTEND;TZID=Europe/Berlin:20191112T190000
DTSTAMP:20260424T015050
CREATED:20191105T104558Z
LAST-MODIFIED:20191105T104558Z
UID:10004862-1573576200-1573585200@www.aachen.digital
SUMMARY:Workshop: Teambuilding für Start-ups
DESCRIPTION:Team Building für Start-ups und junge Unternehmen in den Life Sciences: In diesem Workshop erhalten Sie Einblick in die Erfahrungen gestandener Führungspersönlichkeiten. \nLerne aus 100 Jahren Erfahrung! \n\nMarius Rosenberg: Als Wissenschaftler im Life-Science-Start-up durchstarten\nJens Hutzenlaub: Vom mittellosen Studenten zum erfolgreichen Mehrfachunternehmer\nDr. Klaus-Dieter Langner: Ehemals member of the Corporate Executive Board (DCO) Grünenthal GmbH\nAnnette van Helden: Von der Gruppe zum Team zum Hochleistungsteam\nDr. Albert Altenähr: 1.500 Jahre Personalentwicklung: Benedikt für Manager\n\nDie Veranstaltung ist kostenlos. \nHIER GEHTS ZUR ANMELDUNG
URL:https://www.aachen.digital/en/event/workshop-teambuilding-start-ups/
LOCATION:Center for Biohybrid Medical Systems – CMBS\, Forckenbeckstraße 55\, Aachen\, 52074\, Deutschland
ATTACH;FMTTYPE=image/jpeg:https://www.aachen.digital/wp-content/uploads/2019/11/MedLife-12zu5.jpg
END:VEVENT
END:VCALENDAR