BEGIN:VCALENDAR
VERSION:2.0
PRODID:-//digitalHUB Aachen - ECPv6.15.20//NONSGML v1.0//EN
CALSCALE:GREGORIAN
METHOD:PUBLISH
X-ORIGINAL-URL:https://www.aachen.digital/en/
X-WR-CALDESC:Events for digitalHUB Aachen
REFRESH-INTERVAL;VALUE=DURATION:PT1H
X-Robots-Tag:noindex
X-PUBLISHED-TTL:PT1H
BEGIN:VTIMEZONE
TZID:Europe/Berlin
BEGIN:DAYLIGHT
TZOFFSETFROM:+0100
TZOFFSETTO:+0200
TZNAME:CEST
DTSTART:20240331T010000
END:DAYLIGHT
BEGIN:STANDARD
TZOFFSETFROM:+0200
TZOFFSETTO:+0100
TZNAME:CET
DTSTART:20241027T010000
END:STANDARD
BEGIN:DAYLIGHT
TZOFFSETFROM:+0100
TZOFFSETTO:+0200
TZNAME:CEST
DTSTART:20250330T010000
END:DAYLIGHT
BEGIN:STANDARD
TZOFFSETFROM:+0200
TZOFFSETTO:+0100
TZNAME:CET
DTSTART:20251026T010000
END:STANDARD
BEGIN:DAYLIGHT
TZOFFSETFROM:+0100
TZOFFSETTO:+0200
TZNAME:CEST
DTSTART:20260329T010000
END:DAYLIGHT
BEGIN:STANDARD
TZOFFSETFROM:+0200
TZOFFSETTO:+0100
TZNAME:CET
DTSTART:20261025T010000
END:STANDARD
END:VTIMEZONE
BEGIN:VEVENT
DTSTART;TZID=Europe/Berlin:20250715T153000
DTEND;TZID=Europe/Berlin:20250715T193000
DTSTAMP:20260423T214036
CREATED:20250701T142202Z
LAST-MODIFIED:20250701T142202Z
UID:10007377-1752593400-1752607800@www.aachen.digital
SUMMARY:Routen der Innovation – Care for Sustainable Innovation
DESCRIPTION:Mit den Routen der Innovation bist du eingeladen\, spannende Ideen und Good-Practice-Beispiele aus den Bereichen Care und Life Science kennenzulernen. Dieses Format macht Innovationen erlebbar – zum Anfassen\, Ausprobieren und Verstehen. \nOb als interessierte:r Bürger:in oder Fachbesucher:in: Komm mit Expert:innen ins Gespräch\, stelle deine Fragen direkt vor Ort und erlebe innovative Lösungen hautnah. Viele der gezeigten Lösungen kannst du interaktiv erleben – und so einen persönlichen Zugang zu den vorgestellten Innovationen und Themen entdecken. \nDie erste Route der Innovation im Rahmen des Projekts Care for Sustainable Innovation beschäftigt sich mit den Themen Medizin / Medizintechnik / Versorgung und Nachhaltigkeit. \nDu wirst die kleinste Herzpumpe der Welt bestaunen dürfen\, erfährst\, wie sich Studierende auf OPs vorbereiten können\, Start-ups aus Aachen präsentieren dir ihre medizinischen und/oder technologischen Innovationen\, eine junge engagierte Ärztin bringt dir digitale Medizin für den Praxisalltag näher – und nicht zuletzt lernst du Strategien zum Thema Nachhaltigkeit eines Medizinprodukteherstellers kennen. Dabei bleibst du in Bewegung und wechselst Orte\, um Innovationen zu entdecken. \nVorläufiges Programm: \n15:30 Uhr \nAnkommen und Registrierung (Start: CT²\, Forckenbeckstraße 71\, 52074 Aachen) \nCare for Sustainable Innovation \nGaby Mahr-Urfels (AGIT mbH)\, Monika Mallau (MedLife e. V.) \n\nDemo OP CT² – Besichtigung Marko Gerstenkorn\, Head of Medical Programs\, RWTH International Academy gGmbH. Wechsel zum UK Aachen – Raum Zahn 7\nStart-ups stellen sich und ihre Innovationen vor: helpwave GmbH (Felix Evers)\, HBOX Therapies GmbH (Niklas Steuer)\, LuminoGen (Jan Borlinghaus)\nKeynote Dr. Johanna Dorn (MVZ Campus Praxis)\nCampus Praxis hautnah erleben – Besichtigung (parallel)\nTelenotarzt RTW – stellt sich vor – Vorplatz UKA (angefragt)\nImpella®\, die kleinste Herzpumpe der Welt – Anastase Merveille Medjeuwa Nono (Johnson & Johnson MedTech Heart Recovery)\nNachhaltigkeit in MedTech – Maximilian Blau (Johnson & Johnson MedTech Heart Recovery)\n\nIm Anschluss hast du Zeit zum Netzwerken\, zum Austausch und für deine Fragen an Expert:innen und Innovationsbegeisterte. \nCa. 19:30 Uhr \nDas klingt interessant für dich und du möchtest dabei sein? Nichts leichter als das – melde dich an und sichere dir deinen Platz in der 1. Route der Innovation rund um das Gesundheitswesen. \nEine verbindliche Anmeldung ist erforderlich. \nDas Projekt Care for Sustainable wird bearbeitet und unterstützt von: \n \nZUR ANMELDUNG \n 
URL:https://www.aachen.digital/en/event/routen-der-innovation-care-for-sustainable-innovation/
LOCATION:Center for Training & Teaching CT² und Universitätsklinikum Aachen Konferenzraum Spiegelsaal/Zahn-7\, Forckenbeckstraße 71\, Aachen\, NRW\, Germany
ATTACH;FMTTYPE=image/jpeg:https://www.aachen.digital/wp-content/uploads/2025/07/events_webseite_images-6.jpg
END:VEVENT
END:VCALENDAR