BEGIN:VCALENDAR
VERSION:2.0
PRODID:-//digitalHUB Aachen - ECPv6.15.20//NONSGML v1.0//EN
CALSCALE:GREGORIAN
METHOD:PUBLISH
X-WR-CALNAME:digitalHUB Aachen
X-ORIGINAL-URL:https://www.aachen.digital/en/
X-WR-CALDESC:Events for digitalHUB Aachen
REFRESH-INTERVAL;VALUE=DURATION:PT1H
X-Robots-Tag:noindex
X-PUBLISHED-TTL:PT1H
BEGIN:VTIMEZONE
TZID:Europe/Berlin
BEGIN:DAYLIGHT
TZOFFSETFROM:+0100
TZOFFSETTO:+0200
TZNAME:CEST
DTSTART:20230326T010000
END:DAYLIGHT
BEGIN:STANDARD
TZOFFSETFROM:+0200
TZOFFSETTO:+0100
TZNAME:CET
DTSTART:20231029T010000
END:STANDARD
BEGIN:DAYLIGHT
TZOFFSETFROM:+0100
TZOFFSETTO:+0200
TZNAME:CEST
DTSTART:20240331T010000
END:DAYLIGHT
BEGIN:STANDARD
TZOFFSETFROM:+0200
TZOFFSETTO:+0100
TZNAME:CET
DTSTART:20241027T010000
END:STANDARD
BEGIN:DAYLIGHT
TZOFFSETFROM:+0100
TZOFFSETTO:+0200
TZNAME:CEST
DTSTART:20250330T010000
END:DAYLIGHT
BEGIN:STANDARD
TZOFFSETFROM:+0200
TZOFFSETTO:+0100
TZNAME:CET
DTSTART:20251026T010000
END:STANDARD
END:VTIMEZONE
BEGIN:VEVENT
DTSTART;TZID=Europe/Berlin:20241015T090000
DTEND;TZID=Europe/Berlin:20241015T170000
DTSTAMP:20260423T202110
CREATED:20240926T114404Z
LAST-MODIFIED:20240926T122421Z
UID:10006878-1728982800-1729011600@www.aachen.digital
SUMMARY:Next Level Gründerinnen: Deine Toolbox für den Erfolg
DESCRIPTION:Erlebe einen Tag voller intensiver\, praxisnaher Workshops und handfester Themen\, die Dich und Dein Startup wirklich voranbringen.\nVernetze Dich aktiv mit anderen Gründerinnen\, tausche Erfahrungen aus und erarbeite konkrete Schritte für Dein Business. Nimm wertvolle Tools und sofort umsetzbare Strategien mit nach Hause\, um Dein Unternehmen auf das nächste Level zu heben. \nLass Dich von einer inspirierenden Keynote und einem spannenden Panel Talk zum Thema „Successful Women Shape the Future togetHER“ begeistern\, in dem Gründerinnen ihre ehrlichen Erfahrungen zu Gründung\, Finanzierungsrunden und Unternehmenswachstum teilen. \nWorkshops:\nDu kannst aus interaktiven Workshops wählen\, um gezielt an Deinen Fähigkeiten zu arbeiten. Die Themen umfassen: \nPositionierung: Wie positioniere ich mich richtig im Markt? (Sandra Franzke)\nPersönlichkeit mit Business Impact: Deine Präsenz als Gamechanger: (Chérine De Bruijn)\nBasics und Know-how im Vertrieb/Sales (Sandra Van de Pas)\nInvestorenfindung & Pitchen (Insights von unserem Sponsor CGI)\nVertrieb/Sales aus der Praxis (Philipp Stahr\, Co-Gründer von Wholey)\nPositionierung/Branding (Raoul Döring\, Co-Founder DIO Studios und Senior Brand consultant bei CGI)\nSocial Media Strategie: Aufbauen einer funktionierenden Social Media Strategie (Ravi Walia)\nVertrieb/Markteintritt B2B & US-Markt (Dennis Baltzer\, Gründer von BETTER BE BOLD) \nHier anmelden und mehr erfahren \nEin gemeinsames Event von SHEInnovates Club x empowHERnetwork
URL:https://www.aachen.digital/en/event/next-level-gruenderinnen/
LOCATION:CGI\, Heesenstraße 31\, Düsseldorf\, 40549\, Germany
ATTACH;FMTTYPE=image/jpeg:https://www.aachen.digital/wp-content/uploads/2024/09/SHE-INNOVATES-1.jpg
ORGANIZER;CN="digihub D%C3%BCsseldorf Rheinland":MAILTO:info@digihub.de
END:VEVENT
END:VCALENDAR