BEGIN:VCALENDAR
VERSION:2.0
PRODID:-//digitalHUB Aachen - ECPv6.15.20//NONSGML v1.0//EN
CALSCALE:GREGORIAN
METHOD:PUBLISH
X-ORIGINAL-URL:https://www.aachen.digital/en/
X-WR-CALDESC:Events for digitalHUB Aachen
REFRESH-INTERVAL;VALUE=DURATION:PT1H
X-Robots-Tag:noindex
X-PUBLISHED-TTL:PT1H
BEGIN:VTIMEZONE
TZID:Europe/Berlin
BEGIN:DAYLIGHT
TZOFFSETFROM:+0100
TZOFFSETTO:+0200
TZNAME:CEST
DTSTART:20240331T010000
END:DAYLIGHT
BEGIN:STANDARD
TZOFFSETFROM:+0200
TZOFFSETTO:+0100
TZNAME:CET
DTSTART:20241027T010000
END:STANDARD
BEGIN:DAYLIGHT
TZOFFSETFROM:+0100
TZOFFSETTO:+0200
TZNAME:CEST
DTSTART:20250330T010000
END:DAYLIGHT
BEGIN:STANDARD
TZOFFSETFROM:+0200
TZOFFSETTO:+0100
TZNAME:CET
DTSTART:20251026T010000
END:STANDARD
BEGIN:DAYLIGHT
TZOFFSETFROM:+0100
TZOFFSETTO:+0200
TZNAME:CEST
DTSTART:20260329T010000
END:DAYLIGHT
BEGIN:STANDARD
TZOFFSETFROM:+0200
TZOFFSETTO:+0100
TZNAME:CET
DTSTART:20261025T010000
END:STANDARD
END:VTIMEZONE
BEGIN:VEVENT
DTSTART;TZID=Europe/Berlin:20250306T120000
DTEND;TZID=Europe/Berlin:20250306T180000
DTSTAMP:20260423T164244
CREATED:20241210T142938Z
LAST-MODIFIED:20250120T110013Z
UID:10006992-1741262400-1741284000@www.aachen.digital
SUMMARY:Female Founders Venture Summit 2025
DESCRIPTION:„Einfach machen“ heißt es wieder.\nAuch in 2025 steht das EmpoWOMENt der Gründungsszene wieder an! \nEuch erwarten Pre-Opening mit Investoren-Matchmaking\, Panels\, Keynotes\, Workshops und Pitch-Wettbewerb um den NRW Female Innovation Award 2025! \nMinisterin Mona Neubaur wird das Event eröffnen! \nÖzlem Doger-Herter fasst den ermutigenden Gedanken zusammen: \n„Traut euch\, fangt an\, macht den ersten Schritt und der Rest kommt von allein!“ \nWenn Du Gründerin bist und Deinem Startup mit einem Pitch nicht nur jede Menge Sichtbarkeit und ein Pre-Opening mit Investoren\, sondern auch die Chance auf bis zu 1.500 € ermöglichen möchtest\, solltest Du Dich hier noch schnell für den Pitch-Wettbewerb bewerben! \nFür den ersten Platz gibt es 1.500€\, für den zweiten 1.000€ und für den dritten 500€ – gesponsert von der Sparkasse KölnBonn \nHier zu Eindrücken des vergangenen Summit  \nHier anmelden und mehr erfahren \nVeranstaltet vom DigitalHub Bonn mit: NRW.GLOABL BUSINESS\, Stadt Bonn\, Die Techniker\, ASK-A-WOMAN.COM\, Universität Bonn\, Sparkasse KölnBonn\, IHK Bonn/Rhein-Sieg und dem Ministerium für Wirtschaft\, Industrie\, Klimaschutz und Energie des Landes NRW
URL:https://www.aachen.digital/en/event/female-founders-venture-summit-2025/
LOCATION:CITYHUB\, Am Hauptbahnhof 6\, Bonn\, NRW\, 53111\, Germany
ATTACH;FMTTYPE=image/jpeg:https://www.aachen.digital/wp-content/uploads/2024/12/Female-Founders-Summit-Eventvisuals-169.jpg
END:VEVENT
END:VCALENDAR