BEGIN:VCALENDAR
VERSION:2.0
PRODID:-//digitalHUB Aachen - ECPv6.15.20//NONSGML v1.0//EN
CALSCALE:GREGORIAN
METHOD:PUBLISH
X-ORIGINAL-URL:https://www.aachen.digital/en/
X-WR-CALDESC:Events for digitalHUB Aachen
REFRESH-INTERVAL;VALUE=DURATION:PT1H
X-Robots-Tag:noindex
X-PUBLISHED-TTL:PT1H
BEGIN:VTIMEZONE
TZID:Europe/Berlin
BEGIN:DAYLIGHT
TZOFFSETFROM:+0100
TZOFFSETTO:+0200
TZNAME:CEST
DTSTART:20170326T010000
END:DAYLIGHT
BEGIN:STANDARD
TZOFFSETFROM:+0200
TZOFFSETTO:+0100
TZNAME:CET
DTSTART:20171029T010000
END:STANDARD
BEGIN:DAYLIGHT
TZOFFSETFROM:+0100
TZOFFSETTO:+0200
TZNAME:CEST
DTSTART:20180325T010000
END:DAYLIGHT
BEGIN:STANDARD
TZOFFSETFROM:+0200
TZOFFSETTO:+0100
TZNAME:CET
DTSTART:20181028T010000
END:STANDARD
BEGIN:DAYLIGHT
TZOFFSETFROM:+0100
TZOFFSETTO:+0200
TZNAME:CEST
DTSTART:20190331T010000
END:DAYLIGHT
BEGIN:STANDARD
TZOFFSETFROM:+0200
TZOFFSETTO:+0100
TZNAME:CET
DTSTART:20191027T010000
END:STANDARD
BEGIN:DAYLIGHT
TZOFFSETFROM:+0100
TZOFFSETTO:+0200
TZNAME:CEST
DTSTART:20200329T010000
END:DAYLIGHT
BEGIN:STANDARD
TZOFFSETFROM:+0200
TZOFFSETTO:+0100
TZNAME:CET
DTSTART:20201025T010000
END:STANDARD
BEGIN:DAYLIGHT
TZOFFSETFROM:+0100
TZOFFSETTO:+0200
TZNAME:CEST
DTSTART:20210328T010000
END:DAYLIGHT
BEGIN:STANDARD
TZOFFSETFROM:+0200
TZOFFSETTO:+0100
TZNAME:CET
DTSTART:20211031T010000
END:STANDARD
END:VTIMEZONE
BEGIN:VEVENT
DTSTART;TZID=Europe/Berlin:20200821T100000
DTEND;TZID=Europe/Berlin:20200821T150000
DTSTAMP:20260423T220648
CREATED:20200731T082219Z
LAST-MODIFIED:20200731T082219Z
UID:10004965-1598004000-1598022000@www.aachen.digital
SUMMARY:Thementage 2020: Parking & Charging Infrastructure
DESCRIPTION:Das Center Smart Commercial Building auf dem RWTH Aachen Campus ist einzigartig und setzt sich zum Ziel\, die Ära des Software Defined Buildings zu prägen: zusammen mit Projektentwicklern\, Investoren\, Betreibern\, Planern\, Technologieanbietern und Softwareunternehmen werden die Softwarekonzepte und Sicherheitslösungen für das Gebäude der Zukunft entwickelt und erprobt. \nDie Thementage des Centers Smart Commercial Building bieten den optimalen Rahmen\, um tiefere Einblicke in die Möglichkeiten moderner Gebäudetechnik zu erhalten und einen Dialog zwischen Branchenexperten zu ermöglichen. Hierzu kommen Experten und Referenten der Branche zusammen\, um konkrete Fragestellungen und Herausforderungen zu diskutieren und Einblicke in Best Practices zu bieten. Ziel der Thementage ist ein intensiver Austausch und Diskussionen unter Marktbegleitern\, die Vorstellung innovativer Projekte sowie gemeinsame Workshops. \nDie Teilnahme ist kostenfrei. Um verbindliche Anmeldung wird gebeten. Die Anmeldung erfolgt per Mail an: alexandra.koether@smart-commercial-building.de. \nAnsprechpartner: \nAlexandra Köther\, M. Eng.\nE-Mail: alexandra.koether@smart-commercial-building.de\nTelefon: +49 241 47705-605
URL:https://www.aachen.digital/en/event/thementage-2020-parking-charging-infrastructure/
LOCATION:Cluster Smart Logistik\, Campus-Boulevard 55\, Aachen\, NRW\, Deutschland
ATTACH;FMTTYPE=image/png:https://www.aachen.digital/wp-content/uploads/2020/03/User_2-2-1024x380.png
ORGANIZER;CN="FIR an der RWTH Aachen":MAILTO:info@fir.rwth-aachen.de
END:VEVENT
BEGIN:VEVENT
DTSTART;TZID=Europe/Berlin:20200311T120000
DTEND;TZID=Europe/Berlin:20200312T160000
DTSTAMP:20260423T220648
CREATED:20190828T105554Z
LAST-MODIFIED:20190828T112052Z
UID:10005358-1583928000-1584028800@www.aachen.digital
SUMMARY:23. Aachener Dienstleistungsforum 2020
DESCRIPTION:“Subscription – Vom Service-Level-Agreement zum Abo-Modell”\nDas „Subscription” bzw. „Everything-as-a-Service (XaaS)“ -Geschäftsmodell hält Einzug in die Investitionsgüterindustrie und räumt auf mit klassischen produktzentrierten Paradigmen. Statt parallel Maschinen\, Anlagen und Services zu verkaufen\, erhalten die Kunden im sogenannten „Age of the customer“ Zugang zu einem umfangreichen Lösungsangebot und zahlen damit nur noch für Verfügbarkeit\, Nutzung oder Output (z. B. pay per use\, pay per outcome etc.). Zudem ermöglichen digitale Technologien und die Auswertung einer Vielzahl an Datenpunkten über die Produktnutzungsphasen eine kontinuierliche Performancesteigerung der Assets im Feld\, von der Kunde und Anbieter gemeinsam profitieren.
URL:https://www.aachen.digital/en/event/23-aachener-dienstleistungsforum-2020/
LOCATION:Cluster Smart Logistik\, Campus-Boulevard 55\, Aachen\, NRW\, Deutschland
ATTACH;FMTTYPE=image/jpeg:https://www.aachen.digital/wp-content/uploads/2019/08/FIR-Dienstleistungforum.jpg
END:VEVENT
BEGIN:VEVENT
DTSTART;TZID=Europe/Berlin:20191015T090000
DTEND;TZID=Europe/Berlin:20191015T140000
DTSTAMP:20260423T220648
CREATED:20190528T110824Z
LAST-MODIFIED:20190920T122026Z
UID:10005039-1571130000-1571148000@www.aachen.digital
SUMMARY:Praxis-Workshop: Trans­pa­renz in der Wert­schöp­fungs­kette
DESCRIPTION:Die Adres­sie­rung des Bullwhip-Effektes und Sicher­stel­lung eines unter­neh­mens­über­grei­fenden Daten­aus­tauschs sowie einer damit einher­ge­henden Trans­pa­renz stellt einen wesent­li­chen Wett­be­werbs­vor­teil für KMU dar. \nWas Sie erwartet: \nIm Rahmen des halb­tä­gige Workshops leiten die Teil­nehmer spie­le­risch und inter­aktiv die Geschicke verschie­dener Partner entlang einer Supply-Chain und erfahren die Auswir­kungen des Bullwhip-Effekts. Infolge einer Analyse der Ergeb­nisse können die Teil­nehmer geeignete Gegen­maß­nahmen nutzen und deren Wirkung auf die Supply-Chain erfahren. Neben der beglei­tenden\, themen­spe­zif­schen Führung wird die Thematik in einem Praxis­vor­trag aufge­griffen und adres­siert. \nWeitere Informationen
URL:https://www.aachen.digital/en/event/praxis-workshop-transparenz-in-der-wertschoepfungskette/
LOCATION:Cluster Smart Logistik\, Campus-Boulevard 55\, Aachen\, NRW\, Deutschland
ATTACH;FMTTYPE=image/jpeg:https://www.aachen.digital/wp-content/uploads/2019/05/Digital-in-NRW.jpg
END:VEVENT
BEGIN:VEVENT
DTSTART;TZID=Europe/Berlin:20190411T140000
DTEND;TZID=Europe/Berlin:20190411T170000
DTSTAMP:20260423T220648
CREATED:20190206T152603Z
LAST-MODIFIED:20190214T142158Z
UID:10004952-1554991200-1555002000@www.aachen.digital
SUMMARY:Tag der Logistik 2019: Future Logistics
DESCRIPTION:Seit 2008 werden zum “Tag der Logistik” Fachpublikum und Öffentlichkeit eingeladen\, Logistik in all ihren Facetten live zu erleben – bei verschiedenen Unternehmen an diversen Standorten – damit Logistik anfassbar wird. \nAuch das FIR gewährt Ihnen wieder einen Blick hinter die Kulissen und in seine Logistikthemen. \nLassen Sie sich für die Logistik und unsere Projekte begeistern! \nZielgruppe \nStudenten\, Fachpublikum\, allgemeine Öffentlichkeit \nProgramm \n\n14:00 Uhr\nBegrüßung im Atrium des Clusters Smart Logisitik in der 1. Etage\,\nVortrag “Future Logistics im Cluster Smart Logistik auf dem RWTH Aachen Campus”\n14:30 Uhr\nGuided Tour durch die Innovation-Labs\n15:00 Uhr\nHands-on-Workshop “Digitalisierung”\n16:30 Uhr\nAusklang und Verabschiedung\n17:00 Uhr\nEnde der Veranstaltung\n\n  \n  \nDie Teilnahme ist kostenfrei. Eine Anmeldung ist erforderlich. Die Teilnehmerzahl ist begrenzt – es gilt: “First come – first serve”. \nWeitere Informationen sowie das Anmeldeformular finden Sie hier:\nTag der Logistik 2019: Future Logistics
URL:https://www.aachen.digital/en/event/tag-der-logistik-2019-future-logistics/
LOCATION:Cluster Smart Logistik\, Campus-Boulevard 55\, Aachen\, NRW\, Deutschland
ATTACH;FMTTYPE=image/png:https://www.aachen.digital/wp-content/uploads/2019/02/FIR-Logo_125.png
END:VEVENT
BEGIN:VEVENT
DTSTART;VALUE=DATE:20190313
DTEND;VALUE=DATE:20190315
DTSTAMP:20260423T220648
CREATED:20190205T092958Z
LAST-MODIFIED:20190206T145215Z
UID:10004907-1552435200-1552607999@www.aachen.digital
SUMMARY:22. Aachener Dienstleistungsforum
DESCRIPTION:“Smart Services etablieren.”\nSie haben die Bedeutung von datenbasierten Dienstleistungen für Ihr Unternehmen bereits erkannt?\nSind Sie neugierig wie datenbasierte Dienstleistungen Ihr bestehendes Geschäftsmodell verändern und sogar verbessern können?\nHaben Sie vielleicht sogar schon datenbasierte Dienstleistungen entwickelt und möchten diese nun Ihren Kunden näherbringen und am Markt platzieren? \nDas Aachener Dienstleistungsforum bietet eine ideale Austauschplattform für Führungskräfte und andere Experten aus Unternehmen unterschiedlichster Branchen. Diese haben die Möglichkeit\, die Trends und Entwicklungen im Bereich „Digitalisierung im Service“ mit Experten aus Industrie und Wissenschaft zu diskutieren sowie zum Erfahrungsaustausch mit fachkundigen Veranstaltungsteilnehmern zu den neuesten Technologien in der Dienstleistungsbranche. \nDie Kombination aus Fachtagung\, Ausstellerforum und Erlebnisforen – interaktive Workshops und Fallstudien\, die Smart Services erlebbar machen – beschäftigt sich mit der Gestaltung und dem Management von Dienstleistungen in der produzierenden Industrie. Das Ausstellerforum steht passend zum Thema der Fachtagung unter dem Schwerpunkt „Technologien für den Service“. \n  \nDas Programm sowie die Anmeldung und weitere Infos finden Sie auf der Webseite des Dienstleistungsforums.\n22. Aachener Dienstleistungsforum: “Smart Services etablieren.”
URL:https://www.aachen.digital/en/event/22-aachener-dienstleistungsforum/
LOCATION:Cluster Smart Logistik\, Campus-Boulevard 55\, Aachen\, NRW\, Deutschland
ATTACH;FMTTYPE=image/png:https://www.aachen.digital/wp-content/uploads/2019/02/FIR-Logo_125.png
END:VEVENT
BEGIN:VEVENT
DTSTART;TZID=Europe/Berlin:20181213T130000
DTEND;TZID=Europe/Berlin:20181213T170000
DTSTAMP:20260423T220648
CREATED:20180927T093753Z
LAST-MODIFIED:20181107T152346Z
UID:10004644-1544706000-1544720400@www.aachen.digital
SUMMARY:Insights Cluster Smart Logistik
DESCRIPTION:Unter dem Motto #machen – Return on Transformation erfahren und erleben Sie\, wie einfach neue Technologien in der Praxis anwendbar sind und wie schnell neue Geschäftsmodelle konzipiert werden können. Denn zur Erhaltung der Wettbewerbsfähigkeit ist die digitale Transformation nicht mehr eine Frage des „ob“\, sondern vielmehr eine Frage des „wie“\, will man dem steigenden Wettbewerbs- und Kostendruck und den sich verändernden Kundenanforderungen mit geeigneten Maßnahmen gegenübertreten. \nAb 13:00 Uhr gewinnen Sie Einblicke ins Cluster Smart Logistik und verschaffen sich in interaktiven Workshops einen Eindruck der Zusammenarbeit auf dem RWTH Aachen Campus\, der Sie für „mehr“ begeistern wird. \nFür alle weiteren Informationen zur Anmeldung und dem Programm klicken Sie hier. \n 
URL:https://www.aachen.digital/en/event/insights-cluster-smart-logistik/
LOCATION:Cluster Smart Logistik\, Campus-Boulevard 55\, Aachen\, NRW\, Deutschland
ATTACH;FMTTYPE=image/png:https://www.aachen.digital/wp-content/uploads/2018/09/machen.png
END:VEVENT
END:VCALENDAR