BEGIN:VCALENDAR
VERSION:2.0
PRODID:-//digitalHUB Aachen - ECPv6.15.20//NONSGML v1.0//EN
CALSCALE:GREGORIAN
METHOD:PUBLISH
X-WR-CALNAME:digitalHUB Aachen
X-ORIGINAL-URL:https://www.aachen.digital/en/
X-WR-CALDESC:Events for digitalHUB Aachen
REFRESH-INTERVAL;VALUE=DURATION:PT1H
X-Robots-Tag:noindex
X-PUBLISHED-TTL:PT1H
BEGIN:VTIMEZONE
TZID:Europe/Berlin
BEGIN:DAYLIGHT
TZOFFSETFROM:+0100
TZOFFSETTO:+0200
TZNAME:CEST
DTSTART:20250330T010000
END:DAYLIGHT
BEGIN:STANDARD
TZOFFSETFROM:+0200
TZOFFSETTO:+0100
TZNAME:CET
DTSTART:20251026T010000
END:STANDARD
BEGIN:DAYLIGHT
TZOFFSETFROM:+0100
TZOFFSETTO:+0200
TZNAME:CEST
DTSTART:20260329T010000
END:DAYLIGHT
BEGIN:STANDARD
TZOFFSETFROM:+0200
TZOFFSETTO:+0100
TZNAME:CET
DTSTART:20261025T010000
END:STANDARD
BEGIN:DAYLIGHT
TZOFFSETFROM:+0100
TZOFFSETTO:+0200
TZNAME:CEST
DTSTART:20270328T010000
END:DAYLIGHT
BEGIN:STANDARD
TZOFFSETFROM:+0200
TZOFFSETTO:+0100
TZNAME:CET
DTSTART:20271031T010000
END:STANDARD
END:VTIMEZONE
BEGIN:VEVENT
DTSTART;TZID=Europe/Berlin:20260519T170000
DTEND;TZID=Europe/Berlin:20260519T190000
DTSTAMP:20260423T153638
CREATED:20260413T092654Z
LAST-MODIFIED:20260413T092654Z
UID:10007710-1779210000-1779217200@www.aachen.digital
SUMMARY:Life Science Expert Meetup 02/2026 | Team Building – Leadership – Wer wird CEO?
DESCRIPTION:Wie entsteht ein starkes Team – und was macht gute Führung aus?\nGerade in frühen Gründungsphasen sind diese Fragen entscheidend für den langfristigen Erfolg. \nBeim Life Science Expert Meetup stehen Teambuilding\, Leadership und die Rolle des CEO im Fokus. In einem offenen Panel diskutieren Expert*innen u. a.: \nTeamaufbau & passende Stärken\nVertrauen\, Kommunikation & Zusammenhalt\nAnforderungen an gute Führung \n💡 Praxisnahe Einblicke\, lessons learned und Raum für Austausch inklusive. \n📅 19. Mai 2026 🕔 17:00–19:00 Uhr 📍 Collective Incubator Aachen \n👉 Jetzt kostenfrei anmelden und dabei sein \nZur Anmeldung
URL:https://www.aachen.digital/en/event/life-science-expert-meetup-02-2026-team-building-leadership-wer-wird-ceo/
LOCATION:Collective Incubator\, Jülicher Str. 209 q-s\, Aachen\, 52070
ATTACH;FMTTYPE=image/jpeg:https://www.aachen.digital/wp-content/uploads/2026/04/Design-ohne-Titel-6.jpg
END:VEVENT
END:VCALENDAR