BEGIN:VCALENDAR
VERSION:2.0
PRODID:-//digitalHUB Aachen - ECPv6.15.20//NONSGML v1.0//EN
CALSCALE:GREGORIAN
METHOD:PUBLISH
X-ORIGINAL-URL:https://www.aachen.digital/en/
X-WR-CALDESC:Events for digitalHUB Aachen
REFRESH-INTERVAL;VALUE=DURATION:PT1H
X-Robots-Tag:noindex
X-PUBLISHED-TTL:PT1H
BEGIN:VTIMEZONE
TZID:Europe/Berlin
BEGIN:DAYLIGHT
TZOFFSETFROM:+0100
TZOFFSETTO:+0200
TZNAME:CEST
DTSTART:20190331T010000
END:DAYLIGHT
BEGIN:STANDARD
TZOFFSETFROM:+0200
TZOFFSETTO:+0100
TZNAME:CET
DTSTART:20191027T010000
END:STANDARD
BEGIN:DAYLIGHT
TZOFFSETFROM:+0100
TZOFFSETTO:+0200
TZNAME:CEST
DTSTART:20200329T010000
END:DAYLIGHT
BEGIN:STANDARD
TZOFFSETFROM:+0200
TZOFFSETTO:+0100
TZNAME:CET
DTSTART:20201025T010000
END:STANDARD
BEGIN:DAYLIGHT
TZOFFSETFROM:+0100
TZOFFSETTO:+0200
TZNAME:CEST
DTSTART:20210328T010000
END:DAYLIGHT
BEGIN:STANDARD
TZOFFSETFROM:+0200
TZOFFSETTO:+0100
TZNAME:CET
DTSTART:20211031T010000
END:STANDARD
BEGIN:DAYLIGHT
TZOFFSETFROM:+0100
TZOFFSETTO:+0200
TZNAME:CEST
DTSTART:20220327T010000
END:DAYLIGHT
BEGIN:STANDARD
TZOFFSETFROM:+0200
TZOFFSETTO:+0100
TZNAME:CET
DTSTART:20221030T010000
END:STANDARD
BEGIN:DAYLIGHT
TZOFFSETFROM:+0100
TZOFFSETTO:+0200
TZNAME:CEST
DTSTART:20230326T010000
END:DAYLIGHT
BEGIN:STANDARD
TZOFFSETFROM:+0200
TZOFFSETTO:+0100
TZNAME:CET
DTSTART:20231029T010000
END:STANDARD
END:VTIMEZONE
BEGIN:VEVENT
DTSTART;TZID=Europe/Berlin:20221102T140000
DTEND;TZID=Europe/Berlin:20221102T200000
DTSTAMP:20260423T204503
CREATED:20220928T080700Z
LAST-MODIFIED:20230922T072437Z
UID:10006316-1667397600-1667419200@www.aachen.digital
SUMMARY:Fempreneurs
DESCRIPTION:Der Anteil an Startup-Gründerinnen liegt bei 17\,7 %. Unser Ziel ist es noch mehr Frauen für das Thema Gründung zu begeistern und unterstützen dabei den Weg von der Idee bis zur Gründung. \nNeben inhaltlichen Sessions\, einer Panel Discussion und Workshops gibt es im Anschluss Networking und Abendprogramm.\nIhr könnt euch inhaltlich auf spannende Themen freuen: \n\nWie finde ich die richtige Finanzierung?\nGründen während des Studiums\nWeibliche Führung – Challenges und Benefits\nAnstellung / Selbstständigkeit / Unternehmertum – Wie wirkt sich die Wahl auf die work-life-balance aus?\n\nDabei wird die Veranstaltungen von Gründerinnen und Unternehmensvertreterinnen begleitet. Das Event wird auf deutsch veranstaltet. \nZUR ANMELDUNG
URL:https://www.aachen.digital/en/event/fempreneurs/
LOCATION:Collective Incubator\, Jülicher Str. 209 q-s\, Aachen\, 52070
ATTACH;FMTTYPE=image/jpeg:https://www.aachen.digital/wp-content/uploads/2022/09/banner.jpg
END:VEVENT
BEGIN:VEVENT
DTSTART;TZID=Europe/Berlin:20220819T100000
DTEND;TZID=Europe/Berlin:20220819T130000
DTSTAMP:20260423T204503
CREATED:20220802T090701Z
LAST-MODIFIED:20220802T091237Z
UID:10006282-1660903200-1660914000@www.aachen.digital
SUMMARY:Routen der Innovation mit der umlaut solutions GmbH
DESCRIPTION:Die umlaut solutions GmbH nimmt Sie mit auf die nächste Route der Innovation. Dieses mal als Spaziergang durch den Collective Incubator Aachen – einem Ort  der neben geeigneten Räumen für Engagement und Unternehmensgründung auch die Möglichkeit bietet\, Studierende\, Forscherinnen und Forscher sowie Unternehmen zu vernetzen. Auf der Route erleben Sie einen tiefen Einblick in den Collective Incubator an der RWTH Aachen sowie in eine Auswahl der ansässigen Unternehmen. \nWir laden Sie alle herzlich ein\, mit uns spannende Mobilitäts- und Gesundheitsinnovationen zum Anfassen zu erleben. \nFreuen Sie sich auf interessante Einblicke in die Innovationen der Mobilität und Gesundheit aus der Stadt Aachen und der Städteregion Aachen. Für weitere Informationen und die Agenda klicken sie auf den Button. \nZur Anmeldung
URL:https://www.aachen.digital/en/event/routen-der-innovation-mit-der-umlaut-solutions-gmbh/
LOCATION:Collective Incubator\, Jülicher Str. 209 q-s\, Aachen\, 52070
ATTACH;FMTTYPE=image/jpeg:https://www.aachen.digital/wp-content/uploads/2022/08/routenderinnovation_visual_stage.jpg
ORGANIZER;CN="Region Aachen Zweckverband":MAILTO:info@regionaachen.de
END:VEVENT
BEGIN:VEVENT
DTSTART;TZID=Europe/Berlin:20220428T090000
DTEND;TZID=Europe/Berlin:20220428T170000
DTSTAMP:20260423T204503
CREATED:20200109T130903Z
LAST-MODIFIED:20220421T132150Z
UID:10004900-1651136400-1651165200@www.aachen.digital
SUMMARY:Girls' Day - Aachen als SmartCity: Wie sieht deine Stadt der Zukunft aus?
DESCRIPTION:Unter dem Motto “Es zählt\, was du willst” findet am 28. April der Girls’ Day statt – ein bundesweiter Zukunftstag für Mädchen\, an dem diese Berufs- und Studienfächer kennenlernen können\, in denen der Frauenanteil unter 40 Prozent liegt. \nGemeinsam mit seinen Partnern von IT4Kids & Collective Incubator beteiligt sich der digitalHUB an dem bundesweiten Projekt und hat für Mädchen der 5. bis 7. Klasse ein vielseitiges und kreatives Programm im Themenbereich Smart City zusammengestellt. Ziel des Events ist es\, Mädchen in Aachen für die Themen Digitalisierung und Startup-Gründung zu begeistern.
URL:https://www.aachen.digital/en/event/girls-day-2022/
LOCATION:Collective Incubator\, Jülicher Str. 209 q-s\, Aachen\, 52070
ATTACH;FMTTYPE=image/jpeg:https://www.aachen.digital/wp-content/uploads/2022/03/Visuals_GirlsDay2022_stage-2.jpg
END:VEVENT
BEGIN:VEVENT
DTSTART;TZID=Europe/Berlin:20200929T190000
DTEND;TZID=Europe/Berlin:20200929T210000
DTSTAMP:20260423T204503
CREATED:20200828T083957Z
LAST-MODIFIED:20200925T075610Z
UID:10005622-1601406000-1601413200@www.aachen.digital
SUMMARY:Gründer:innen Stammtisch
DESCRIPTION:Am 29. September findet unser Gründer:innen Stammtisch statt. Der monatliche Stammtisch wird veranstaltet\, um die Aachener Gründer:innenwelt in einer gemütlichen Atmosphäre zusammen zu bringen.\nAb 19 Uhr treffen wir uns mit der Startup Community vom digitalHUB Aachen\, RWTH Innovation und AC.E Aachener Entrepreneurship Team e.V. \nDiesmal sind wir im Collective Incubator zu Gast.\nCollective Incubator Pop-up\nWilhelmstraße 96\, 52070 Aachen \nWie immer gibt es 3 Pitches und dann “Open Pitches“. Wenn ihr eine coole Idee habt und diese gerne teilen und diskutieren möchtet\, habt ihr hier die Gelegenheit dazu. Ob spontan oder vorbereitet\, mit oder ohne Folien\, ist Euch überlassen. Während einer anschließenden Diskussionsrunde werden offene Fragen beantworten. \nAnmeldung \nSeid dabei! Wir freuen uns auf Euch.
URL:https://www.aachen.digital/en/event/gruenderinnen-stammtisch-september/
LOCATION:Collective Incubator\, Jülicher Str. 209 q-s\, Aachen\, 52070
ATTACH;FMTTYPE=image/jpeg:https://www.aachen.digital/wp-content/uploads/2020/09/200918_Gründerinnen-Stammtisch_stage-1.jpg
ORGANIZER;CN="digitalHUB Aachen":MAILTO:kontakt@hubaachen.de
END:VEVENT
END:VCALENDAR