BEGIN:VCALENDAR
VERSION:2.0
PRODID:-//digitalHUB Aachen - ECPv6.15.20//NONSGML v1.0//EN
CALSCALE:GREGORIAN
METHOD:PUBLISH
X-WR-CALNAME:digitalHUB Aachen
X-ORIGINAL-URL:https://www.aachen.digital/en/
X-WR-CALDESC:Events for digitalHUB Aachen
REFRESH-INTERVAL;VALUE=DURATION:PT1H
X-Robots-Tag:noindex
X-PUBLISHED-TTL:PT1H
BEGIN:VTIMEZONE
TZID:Europe/Berlin
BEGIN:DAYLIGHT
TZOFFSETFROM:+0100
TZOFFSETTO:+0200
TZNAME:CEST
DTSTART:20230326T010000
END:DAYLIGHT
BEGIN:STANDARD
TZOFFSETFROM:+0200
TZOFFSETTO:+0100
TZNAME:CET
DTSTART:20231029T010000
END:STANDARD
BEGIN:DAYLIGHT
TZOFFSETFROM:+0100
TZOFFSETTO:+0200
TZNAME:CEST
DTSTART:20240331T010000
END:DAYLIGHT
BEGIN:STANDARD
TZOFFSETFROM:+0200
TZOFFSETTO:+0100
TZNAME:CET
DTSTART:20241027T010000
END:STANDARD
BEGIN:DAYLIGHT
TZOFFSETFROM:+0100
TZOFFSETTO:+0200
TZNAME:CEST
DTSTART:20250330T010000
END:DAYLIGHT
BEGIN:STANDARD
TZOFFSETFROM:+0200
TZOFFSETTO:+0100
TZNAME:CET
DTSTART:20251026T010000
END:STANDARD
END:VTIMEZONE
BEGIN:VEVENT
DTSTART;TZID=Europe/Berlin:20240910T150000
DTEND;TZID=Europe/Berlin:20240910T170000
DTSTAMP:20260423T192102
CREATED:20240731T073327Z
LAST-MODIFIED:20240930T083815Z
UID:10006840-1725980400-1725987600@www.aachen.digital
SUMMARY:Digital. Praktisch. Nah. - Einsatzmöglichkeiten von KI im Mittelstand
DESCRIPTION:Erfahren Sie\, welche kundenorientierten digitalen Lösungen in ERP-Systemen durch den Einsatz von KI bereits entwickelt wurden. \nDie Veranstaltung findet als Kooperation der Wirtschaftsförderung des Kreises Heinsberg zusammen mit der AGIT Aachener Gesellschaft für Innovation und Technologie mbH und dem Mittelstand-Digital Zentrum Rheinland statt. Sie richtet sich an Fach- und Führungskräfte des Mittelstands. Vorkenntnisse sind nicht erforderlich. \nAgenda: \n\nBegrüßung und Vorstellung CBS System SE\nWiFö Heinsberg\nMittelstand-Digital Zentrum Rheinland\nCBS System SE\nNetzwerken\n\nDie Teilnahme ist kostenlos \nHier mehr erfahren und anmelden \nWeitere Events aus der Reihe “Digital. Praktisch. Nah.” im Programmflyer 2024/2025 >>
URL:https://www.aachen.digital/en/event/digital-praktisch-nah-einsatzmoeglichkeiten-von-ki-im-mittelstand/
LOCATION:CSB-System SE\, An Fürthenrode 9-15\, Geilenkirchen\, Nordrhein-Westfalen\, 52511\, Germany
ATTACH;FMTTYPE=image/jpeg:https://www.aachen.digital/wp-content/uploads/2024/07/Digital-Praktisch-Nah-Stage-1.jpg
END:VEVENT
END:VCALENDAR