BEGIN:VCALENDAR
VERSION:2.0
PRODID:-//digitalHUB Aachen - ECPv6.15.20//NONSGML v1.0//EN
CALSCALE:GREGORIAN
METHOD:PUBLISH
X-WR-CALNAME:digitalHUB Aachen
X-ORIGINAL-URL:https://www.aachen.digital/en/
X-WR-CALDESC:Events for digitalHUB Aachen
REFRESH-INTERVAL;VALUE=DURATION:PT1H
X-Robots-Tag:noindex
X-PUBLISHED-TTL:PT1H
BEGIN:VTIMEZONE
TZID:Europe/Berlin
BEGIN:DAYLIGHT
TZOFFSETFROM:+0100
TZOFFSETTO:+0200
TZNAME:CEST
DTSTART:20190331T010000
END:DAYLIGHT
BEGIN:STANDARD
TZOFFSETFROM:+0200
TZOFFSETTO:+0100
TZNAME:CET
DTSTART:20191027T010000
END:STANDARD
BEGIN:DAYLIGHT
TZOFFSETFROM:+0100
TZOFFSETTO:+0200
TZNAME:CEST
DTSTART:20200329T010000
END:DAYLIGHT
BEGIN:STANDARD
TZOFFSETFROM:+0200
TZOFFSETTO:+0100
TZNAME:CET
DTSTART:20201025T010000
END:STANDARD
BEGIN:DAYLIGHT
TZOFFSETFROM:+0100
TZOFFSETTO:+0200
TZNAME:CEST
DTSTART:20210328T010000
END:DAYLIGHT
BEGIN:STANDARD
TZOFFSETFROM:+0200
TZOFFSETTO:+0100
TZNAME:CET
DTSTART:20211031T010000
END:STANDARD
END:VTIMEZONE
BEGIN:VEVENT
DTSTART;TZID=Europe/Berlin:20200129T170000
DTEND;TZID=Europe/Berlin:20200129T181500
DTSTAMP:20260423T220648
CREATED:20200107T140325Z
LAST-MODIFIED:20200107T140325Z
UID:10005502-1580317200-1580321700@www.aachen.digital
SUMMARY:Talk and Discussion: Mobility Goes Data
DESCRIPTION:We have all heard about digital transformation but what exactly does it mean for the mobility sector in the year 2020? The world is changing at a very fast pace and businesses must respond to the change even faster than before. Under the title “Mobility goes DATA” Bernd Heinrichs\, Executive Vice President & Chief Digital Officer Mobility Solutions of Robert Bosch GmbH will share with you his view on what we need for the mobility of the future and why DATA is becoming so important for the entire mobility space. \nHe will also share the challenges of implementing a digital strategy at a globally operating company and impressions about his journey during the first 2 years at Bosch. It is becoming more and more clear that we will need personalized solutions and that automated driving\, connectivity and electrification will play major roles in unlocking the data driven future of mobility. In terms of technologies that will make the mobility of the future happen: 5G & wifi\, fog and digital twin should be top priorities. \nIn cooperation with the Departement of Computer Science\, Regionalgruppe Aachen Gesellschaft für Informatik (RIA)\, and Regionaler Industrieclub Informatik Aachen (REGINA e.V.). \nFree Admission. No registration required.
URL:https://www.aachen.digital/en/event/vortrag-mobility-goes-data/
LOCATION:Department of Computer Science\, Room 9222\, Ahornstr. 55\, Aachen\, 52074\, Deutschland
ATTACH;FMTTYPE=image/jpeg:https://www.aachen.digital/wp-content/uploads/2020/01/AdobeStock_127449468.jpeg
END:VEVENT
END:VCALENDAR