BEGIN:VCALENDAR
VERSION:2.0
PRODID:-//digitalHUB Aachen - ECPv6.15.20//NONSGML v1.0//EN
CALSCALE:GREGORIAN
METHOD:PUBLISH
X-WR-CALNAME:digitalHUB Aachen
X-ORIGINAL-URL:https://www.aachen.digital/en/
X-WR-CALDESC:Events for digitalHUB Aachen
REFRESH-INTERVAL;VALUE=DURATION:PT1H
X-Robots-Tag:noindex
X-PUBLISHED-TTL:PT1H
BEGIN:VTIMEZONE
TZID:Europe/Berlin
BEGIN:DAYLIGHT
TZOFFSETFROM:+0100
TZOFFSETTO:+0200
TZNAME:CEST
DTSTART:20230326T010000
END:DAYLIGHT
BEGIN:STANDARD
TZOFFSETFROM:+0200
TZOFFSETTO:+0100
TZNAME:CET
DTSTART:20231029T010000
END:STANDARD
BEGIN:DAYLIGHT
TZOFFSETFROM:+0100
TZOFFSETTO:+0200
TZNAME:CEST
DTSTART:20240331T010000
END:DAYLIGHT
BEGIN:STANDARD
TZOFFSETFROM:+0200
TZOFFSETTO:+0100
TZNAME:CET
DTSTART:20241027T010000
END:STANDARD
BEGIN:DAYLIGHT
TZOFFSETFROM:+0100
TZOFFSETTO:+0200
TZNAME:CEST
DTSTART:20250330T010000
END:DAYLIGHT
BEGIN:STANDARD
TZOFFSETFROM:+0200
TZOFFSETTO:+0100
TZNAME:CET
DTSTART:20251026T010000
END:STANDARD
BEGIN:DAYLIGHT
TZOFFSETFROM:+0100
TZOFFSETTO:+0200
TZNAME:CEST
DTSTART:20260329T010000
END:DAYLIGHT
BEGIN:STANDARD
TZOFFSETFROM:+0200
TZOFFSETTO:+0100
TZNAME:CET
DTSTART:20261025T010000
END:STANDARD
END:VTIMEZONE
BEGIN:VEVENT
DTSTART;TZID=Europe/Berlin:20250730T173000
DTEND;TZID=Europe/Berlin:20250730T190000
DTSTAMP:20260423T153753
CREATED:20250710T132811Z
LAST-MODIFIED:20250714T083810Z
UID:10007385-1753896600-1753902000@www.aachen.digital
SUMMARY:Offene Diskussionsrunde der Fokusgruppe Cybersecurity
DESCRIPTION:Europäische Wolken – DSGVO und Cloud-Lösungen jenseits der Hyperscaler \nDie Fokusgruppe Cybersecurity des digitalHUB Aachen e.V. lädt zur offenen Diskussionsrunde ein: Europäische Wolken – DSGVO und Cloud-Lösungen jenseits der Hyperscaler mit Adriaan Wind \nUS-amerikanische Hyperscaler sowie bekannte SaaS-\, PaaS- und IaaS-Anbieter sind für viele in der IT-Welt allgegenwärtig. Während Entwickler und DevOps-Teams deren Vorteile schätzen\, sehen Datenschützer diese oft kritisch. Insbesondere bei der Zusammenarbeit mit Behörden und öffentlichen Einrichtungen ergeben sich zudem erhebliche Herausforderungen hinsichtlich ihrer Nutzung. Doch welche Alternativen gibt es für Unternehmen\, die eine SaaS-Lösung auf rein europäischen Cloud- oder PaaS-Anbietern aufbauen möchten\, deren Datenstandort nicht nur in der EU liegt\, sondern bei denen auch der Betreiber oder die Muttergesellschaft ihren Sitz in Europa hat? Wir bei anny haben uns genau dieser Fragestellung gewidmet und dieses Experiment gewagt. In dieser Dioskosionsrunde möchten wir unsere Erfahrungen teilen\, die daraus resultierenden Erkenntnisse präsentieren und aufzeigen\, welche Aspekte im Hinblick auf den Datenschutz in der Cloud von entscheidender Bedeutung sind\, um Compliance zu gewährleisten und datenschutzrechtliche Bedenken zu minimieren. \n Vorstellung: Adriaan Wind ist Co-Founder und CTO bei anny. Neben der Produktentwicklung beschäftigt er sich außerdem leidenschaftlich gerne mit den Themen DevOps und Datenschutz. \nWir freuen uns auf eure Teilnahme! \nANMELDUNG
URL:https://www.aachen.digital/en/event/offene-diskussionsrunde-der-fokusgruppe-cybersecurity-5/
LOCATION:digitalHUB Aachen\, Sakristei\, Jülicher Straße 72a\, Aachen\, 52070\, Germany
ATTACH;FMTTYPE=image/jpeg:https://www.aachen.digital/wp-content/uploads/2025/02/32dedad508c9dbf563a1bc065ab4e7cc.jpg
END:VEVENT
BEGIN:VEVENT
DTSTART;TZID=Europe/Berlin:20250211T160000
DTEND;TZID=Europe/Berlin:20250211T170000
DTSTAMP:20260423T153753
CREATED:20241218T093123Z
LAST-MODIFIED:20241218T093355Z
UID:10007092-1739289600-1739293200@www.aachen.digital
SUMMARY:Treffen der Fokusgruppe Ethik
DESCRIPTION:Die Fokusgruppe Ethik ist ein Netzwerk von Menschen\, die sich mit ethischen Risiken auskennen. Sie stehen mit passenden Personen themenbezogen zur Seite\, um die offenen Flanken zu schließen\, beispielsweise in den Aspekten:\nVerknüpfung von Sinn-Narrativen\, Wertedimensionen und Produktentwicklung (Ethics by Design)\, Identifikation und Beratung zu ethischen Risiken bei einer Geschäftsidee\, Beratung bei Wertekonflikten und -entscheidungen\, Begleitung bei Anforderungen zur Personalverantwortung und im Recruiting u.a. \nAm 11.02.2025 findet das nächste Treffen der Fokusgruppe Ethik statt. Kommt vorbei und diskutiert mit uns über die oben genannten Themen
URL:https://www.aachen.digital/en/event/treffen-der-fokusgruppe-ethik/
LOCATION:digitalHUB Aachen\, Sakristei\, Jülicher Straße 72a\, Aachen\, 52070\, Germany
ATTACH;FMTTYPE=image/jpeg:https://www.aachen.digital/wp-content/uploads/2024/12/Design-ohne-Titel-46.jpg
ORGANIZER;CN="digitalHUB Aachen":MAILTO:kontakt@hubaachen.de
END:VEVENT
BEGIN:VEVENT
DTSTART;TZID=Europe/Berlin:20241030T173000
DTEND;TZID=Europe/Berlin:20241030T190000
DTSTAMP:20260423T153753
CREATED:20240926T121328Z
LAST-MODIFIED:20250710T133503Z
UID:10006880-1730309400-1730314800@www.aachen.digital
SUMMARY:Offene Diskussionsrunde der Fokusgruppe Cybersecurity
DESCRIPTION:Welchen Einfluss hat die KI-VO auf die Cybersecurity? \nDie Fokusgruppe Cybersecurity des digitalHUB Aachen e.V. lädt zur offenen Diskussionsrunde ein: \nDie KI-VO beinflusst Cybersecurity auf mehreren Ebenen. Zum einen sieht die KI-VO selbst Sicherheitsmaßnahmen vor\, die in KI-Systeme eingebaut werden müssen wie Security by Design\, Transparenz\, Datenschutz und Rechenschaftspflicht. Zum anderen werden immer häufiger KI-gestützte Anwendungen in der Cybersecurity Landschaft genutzt\, die den Anforderungen der KI-VO ebenfalls entsprechen müssen. Im Rahmen unserer offenen Diskussionsrunde werde ich eine kurze Einführung in das Thema geben und freue mich auf eine spannenden Diskussion. \nÜber die Referentin \nAurea Verebes ist Mitarbeiterin des Ingenieurbüros Dr. Plesnik GmbH in Herzogenrath; Datenschutzbeauftragte mit dem Schwerpunkt neue Technologien\, Auditorin für die ISO 27001 und 42001 sowie Referentin für KI-Kompetenz gemäß Art. 4 KI-VO in Unternehmen und für Datenschutzbeauftragte. Als technisch affiner Mensch mit dem Fokus auf das Programmieren von KI möchte sie zwischen den technischen und regulatorischen Anforderungen eine Brücke schlagen\, um Unternehmen ganzheitlich beraten zu können. \nWir freuen uns auf Ihre Teilnahme! \nANMELDUNG
URL:https://www.aachen.digital/en/event/offene-diskussionsrunde-der-fokusgruppe-cybersecurity-3/
LOCATION:digitalHUB Aachen\, Sakristei\, Jülicher Straße 72a\, Aachen\, 52070\, Germany
ATTACH;FMTTYPE=image/jpeg:https://www.aachen.digital/wp-content/uploads/2024/08/Visual-FG-Cybersecurity-scaled.jpg
END:VEVENT
BEGIN:VEVENT
DTSTART;TZID=Europe/Berlin:20240828T173000
DTEND;TZID=Europe/Berlin:20240828T190000
DTSTAMP:20260423T153753
CREATED:20240807T142924Z
LAST-MODIFIED:20250710T133541Z
UID:10006201-1724866200-1724871600@www.aachen.digital
SUMMARY:Offene Diskussionsrunde der Fokusgruppe Cybersecurity
DESCRIPTION:“Phishing und Social Engineering” \nDie Fokusgruppe Cybersecurity des digitalHUB Aachen e.V. lädt zur offenen Diskussionsrunde ein: \nAktuell erleben wir einen wahren Tsunami an Gerichtsverfahren\, bei denen Betrogene gegen ihre Bank klagen. Meist geht es dabei um Phishing und Social Engineering. Wo die Probleme liegen und warum so viele Fälle vor Gericht landen\, wird im Initialvortrag erläutert. Anschließend diskutieren wir über diesen Themenbereich. \nÜber den Referenten\nDr.-Ing. Markus a Campo ist ein Spezialist für das Thema Informationssicherheit. Er arbeitet als Berater\, Autor\, Schulungsreferent und ist öffentlich bestellter und vereidigter Sachverständiger. \nWir freuen uns auf Ihre Teilnahme! \nANMELDUNG
URL:https://www.aachen.digital/en/event/offene-diskussionsrunde-der-fokusgruppe-cybersecurity-2/
LOCATION:digitalHUB Aachen\, Sakristei\, Jülicher Straße 72a\, Aachen\, 52070\, Germany
ATTACH;FMTTYPE=image/jpeg:https://www.aachen.digital/wp-content/uploads/2024/08/Visual-FG-Cybersecurity-scaled.jpg
END:VEVENT
BEGIN:VEVENT
DTSTART;TZID=Europe/Berlin:20240701T153000
DTEND;TZID=Europe/Berlin:20240701T170000
DTSTAMP:20260423T153753
CREATED:20240619T145432Z
LAST-MODIFIED:20240620T094958Z
UID:10006818-1719847800-1719853200@www.aachen.digital
SUMMARY:Building a Sustainable Startup: A Simple Guide to Startup Success
DESCRIPTION:Join us for an insightful event\, “Building a Sustainable Startup: A Simple Guide to Startup Success\,” where you’ll explore the essentials of GreenTech and sustainable startups. \nAgenda: \n\nDefining GreenTech and Sustainable Startups\n\nLearn what sets these startups apart and their critical impact.\n\n\n\n\nGreen Startup Trends\n\nDiscover the latest innovations and developments.\n\n\n\n\nGreenTech vs. Traditional Startups\n\nUnderstand key differences\, unique challenges\, and hear inspiring entrepreneur stories.\nExplore impact investing beyond just financial returns.\n\n\n\n\nNetworking and Q&A\n\nConnect with peers and get your questions answered.\n\n\n\nREGISTER NOW \nthe event is held in english \nSTARTUP WEEK AACHEN \nFrom 01.07.2024 to 05.07.2024\, the entire start-up scene of the Aachen region will come together and share know-how and exciting\, innovative ideas for the future with you! During this week\, you can expect numerous events on the topics of start-ups\, growth\, digitalization and innovation. The offer ranges from workshops\, keynotes and talk-up stories to the TOP event: #neuland x atec on 02 and 03.07.2024 (Aachen Technology and Entrepreneurship Congress). \nTo the website \n 
URL:https://www.aachen.digital/en/event/building-a-sustainable-startup-a-simple-guide-to-startup-success/
LOCATION:digitalHUB Aachen\, Sakristei\, Jülicher Straße 72a\, Aachen\, 52070\, Germany
ATTACH;FMTTYPE=image/jpeg:https://www.aachen.digital/wp-content/uploads/2024/06/stage-startupweek.jpg
END:VEVENT
END:VCALENDAR