BEGIN:VCALENDAR
VERSION:2.0
PRODID:-//digitalHUB Aachen - ECPv6.15.20//NONSGML v1.0//EN
CALSCALE:GREGORIAN
METHOD:PUBLISH
X-ORIGINAL-URL:https://www.aachen.digital/en/
X-WR-CALDESC:Events for digitalHUB Aachen
REFRESH-INTERVAL;VALUE=DURATION:PT1H
X-Robots-Tag:noindex
X-PUBLISHED-TTL:PT1H
BEGIN:VTIMEZONE
TZID:Europe/Berlin
BEGIN:DAYLIGHT
TZOFFSETFROM:+0100
TZOFFSETTO:+0200
TZNAME:CEST
DTSTART:20240331T010000
END:DAYLIGHT
BEGIN:STANDARD
TZOFFSETFROM:+0200
TZOFFSETTO:+0100
TZNAME:CET
DTSTART:20241027T010000
END:STANDARD
BEGIN:DAYLIGHT
TZOFFSETFROM:+0100
TZOFFSETTO:+0200
TZNAME:CEST
DTSTART:20250330T010000
END:DAYLIGHT
BEGIN:STANDARD
TZOFFSETFROM:+0200
TZOFFSETTO:+0100
TZNAME:CET
DTSTART:20251026T010000
END:STANDARD
BEGIN:DAYLIGHT
TZOFFSETFROM:+0100
TZOFFSETTO:+0200
TZNAME:CEST
DTSTART:20260329T010000
END:DAYLIGHT
BEGIN:STANDARD
TZOFFSETFROM:+0200
TZOFFSETTO:+0100
TZNAME:CET
DTSTART:20261025T010000
END:STANDARD
END:VTIMEZONE
BEGIN:VEVENT
DTSTART;TZID=Europe/Berlin:20250827T143000
DTEND;TZID=Europe/Berlin:20250827T190000
DTSTAMP:20260423T215135
CREATED:20250813T075451Z
LAST-MODIFIED:20250813T075451Z
UID:10007408-1756305000-1756321200@www.aachen.digital
SUMMARY:PHISH & CHIPS 2025
DESCRIPTION:Erlebe beim Phish & Chips Event in Bonn eine spannende Mischung aus Wissen\, Networking und Genuss! Veranstaltet vom Digital Hub dreht sich hier alles um Cybersicherheit\, innovative Technologien und lockeren Austausch in entspannter Atmosphäre. Freue dich auf inspirierende Vorträge und interessante Gespräche. \nMit deinem Ticket erhältst du zudem exklusiven Zugang zum Startup Open Air\, welches nebenan stattfindet. Sei dabei\, knüpfe neue Kontakte und tauche ein in die pulsierende Bonner Startup-Community! \nHier geht es zur Anmeldung!
URL:https://www.aachen.digital/en/event/phish-chips-2025/
LOCATION:Digitaler Hub Region Bonn AG
ATTACH;FMTTYPE=image/jpeg:https://www.aachen.digital/wp-content/uploads/2025/08/Phishchips.jpg
END:VEVENT
END:VCALENDAR