BEGIN:VCALENDAR
VERSION:2.0
PRODID:-//digitalHUB Aachen - ECPv6.15.20//NONSGML v1.0//EN
CALSCALE:GREGORIAN
METHOD:PUBLISH
X-WR-CALNAME:digitalHUB Aachen
X-ORIGINAL-URL:https://www.aachen.digital/en/
X-WR-CALDESC:Events for digitalHUB Aachen
REFRESH-INTERVAL;VALUE=DURATION:PT1H
X-Robots-Tag:noindex
X-PUBLISHED-TTL:PT1H
BEGIN:VTIMEZONE
TZID:Europe/Berlin
BEGIN:DAYLIGHT
TZOFFSETFROM:+0100
TZOFFSETTO:+0200
TZNAME:CEST
DTSTART:20240331T010000
END:DAYLIGHT
BEGIN:STANDARD
TZOFFSETFROM:+0200
TZOFFSETTO:+0100
TZNAME:CET
DTSTART:20241027T010000
END:STANDARD
BEGIN:DAYLIGHT
TZOFFSETFROM:+0100
TZOFFSETTO:+0200
TZNAME:CEST
DTSTART:20250330T010000
END:DAYLIGHT
BEGIN:STANDARD
TZOFFSETFROM:+0200
TZOFFSETTO:+0100
TZNAME:CET
DTSTART:20251026T010000
END:STANDARD
BEGIN:DAYLIGHT
TZOFFSETFROM:+0100
TZOFFSETTO:+0200
TZNAME:CEST
DTSTART:20260329T010000
END:DAYLIGHT
BEGIN:STANDARD
TZOFFSETFROM:+0200
TZOFFSETTO:+0100
TZNAME:CET
DTSTART:20261025T010000
END:STANDARD
BEGIN:DAYLIGHT
TZOFFSETFROM:+0100
TZOFFSETTO:+0200
TZNAME:CEST
DTSTART:20270328T010000
END:DAYLIGHT
BEGIN:STANDARD
TZOFFSETFROM:+0200
TZOFFSETTO:+0100
TZNAME:CET
DTSTART:20271031T010000
END:STANDARD
END:VTIMEZONE
BEGIN:VEVENT
DTSTART;TZID=Europe/Berlin:20260211T103000
DTEND;TZID=Europe/Berlin:20260211T133000
DTSTAMP:20260423T165644
CREATED:20251209T072822Z
LAST-MODIFIED:20260205T094517Z
UID:10007551-1770805800-1770816600@www.aachen.digital
SUMMARY:Sprechstunde: Arbeitsschutz – smart\, modular und kosteneffizient
DESCRIPTION:Kostenloser HSE-QuickCheck für Startups & KMU!\n\n\nIn dieser Sprechstunde erhalten Startups und KMUs einen kostenlosen HSE-QuickCheck\, der eine fundierte Erstbewertung zu gesetzlichen Anforderungen\, unternehmerischen Risiken und priorisierten Handlungsschritten ermöglicht. Ziel ist es zu zeigen\, wie Arbeitsschutz\, Brandschutz\, Gesundheitsschutz und Arbeitsmedizin schlank\, digital\, modular und kostensensibel aufgebaut werden können. \nEin zentraler Gedanke ist\, dass Arbeitsschutz nicht teuer sein muss. Gerade wachsende Unternehmen profitieren von klar strukturierten\, pragmatischen und skalierbaren Lösungen\, die flexibel an die jeweilige Unternehmensphase und Unternehmensgröße angepasst werden können. \n  \nWeitere Informationen: \nDiese Sprechstunde wird monatlich nach dem Startup-Frühstück angeboten. \nFolgende Beratungsslots stehen zur Verfügung: \n\n10:30 – 11:10 Uhr\n11:15 – 11:55 Uhr\n12:00 – 12:40 Uhr\n12:45 – 13:25 Uhr\n\n  \nJetzt anmelden!
URL:https://www.aachen.digital/en/event/sprechstunde-arbeitsschutz-smart-modular-und-kosteneffizient-2/
LOCATION:digitalHUB Aachen e.V. in der DIGITAL CHURCH\, Jülicher Straße 72a\, Aachen\, NRW\, 52070\, Germany
ATTACH;FMTTYPE=image/jpeg:https://www.aachen.digital/wp-content/uploads/2025/12/17acdee96d5649a9d5fd873de82834c3.jpg
END:VEVENT
BEGIN:VEVENT
DTSTART;TZID=Europe/Berlin:20250811T170000
DTEND;TZID=Europe/Berlin:20250811T190000
DTSTAMP:20260423T165644
CREATED:20250226T114653Z
LAST-MODIFIED:20250811T073621Z
UID:10007239-1754931600-1754938800@www.aachen.digital
SUMMARY:Fokusgruppentreffen KI
DESCRIPTION:The AI focus group invites you to the monthly focus group meeting. \nAgenda: \n\nget-together\norganizational matters\nNews\nIntroduction Participants\nAI tool/tip of the month\nNews from the specialist groups\n\nAI Week 2025\nAI and Compliance\nBusiness Use Cases with AI\nGenerative AI\n\n\nif necessary\, keynote speech\nif necessary\, questions or discussion about the lecture or current topics\nWrap-up/Networking\n\nSign up (for digitalHUB Aachen members) \nIf you are not a member of digitalHUB Aachen please contact Anna.Majchrzak@hubaachen.de to sign up to the meeting.
URL:https://www.aachen.digital/en/event/fokusgruppentreffen-ki-6/
LOCATION:digitalHUB Aachen e.V. in der DIGITAL CHURCH\, Jülicher Straße 72a\, Aachen\, NRW\, 52070\, Germany
ATTACH;FMTTYPE=image/jpeg:https://www.aachen.digital/wp-content/uploads/2025/02/Design-ohne-Titel-60.jpg
ORGANIZER;CN="digitalHUB Aachen":MAILTO:kontakt@hubaachen.de
END:VEVENT
BEGIN:VEVENT
DTSTART;TZID=Europe/Berlin:20250731T170000
DTEND;TZID=Europe/Berlin:20250731T180000
DTSTAMP:20260423T165644
CREATED:20250716T113513Z
LAST-MODIFIED:20250721T134957Z
UID:10007394-1753981200-1753984800@www.aachen.digital
SUMMARY:Fokusgruppentreffen Startup
DESCRIPTION:Die Fokusgruppe StartUp lädt ein zum monatlichen Fokusgruppentreffen. \nAgenda: \n\nGet-together\n\n\nOrganisatorisches\n\n\nAktuelles\n\n\nVorstellung Teilnehmer\n\n\nWas wären die nächsten Schritte und Events?\n\n\nNetworking\n\n\n  \nSign up (for digitalHUB Aachen members) \nIf you are not a member of digitalHUB Aachen please contact Ruslan Goryanyy to sign up to the meeting.
URL:https://www.aachen.digital/en/event/fokusgruppentreffen-startup/
LOCATION:digitalHUB Aachen e.V. in der DIGITAL CHURCH\, Jülicher Straße 72a\, Aachen\, NRW\, 52070\, Germany
ATTACH;FMTTYPE=image/jpeg:https://www.aachen.digital/wp-content/uploads/2025/07/AdobeStock_Fokusgruppe-Startup-scaled.jpeg
ORGANIZER;CN="digitalHUB Aachen":MAILTO:kontakt@hubaachen.de
END:VEVENT
BEGIN:VEVENT
DTSTART;TZID=Europe/Berlin:20250616T180000
DTEND;TZID=Europe/Berlin:20250616T210000
DTSTAMP:20260423T165644
CREATED:20250506T070616Z
LAST-MODIFIED:20250506T070616Z
UID:10007316-1750096800-1750107600@www.aachen.digital
SUMMARY:Das Rheinische Revier – ein Reallabor für Kultur und Gemeinschaft - Lesung „Alte Heimat neue Zukunft“
DESCRIPTION:Im Gespräch mit: \nDr. Lisa Maubach\, LVR-Institut für Landeskunde und Regionalgeschichte; Inga Mehlert-Garms\, Gemeinde Merzenich; Silke Schatz\, freischaffende Künstlerin \nKultur braucht Austausch und Vernetzung!\nIn der Vergangenheit mussten über 40.000 Menschen umsiedeln; über 100 Dörfer und Weiler wurden durch den Braunkohletagebau zerstört. In „Alte Heimat – neue Zukunft“ fotografierte der Autor Hubert Perschke Orte und Menschen nahe des Braunkohletagebaus. Sie erzählen von ihren Erinnerungen an Heimat und Gemeinschaft. Die Lesung begleitet Antje Grothus. Mit dem Verein Buirer für Buir setzt sie sich für das vielfältige kulturelle Erbe der Region und eine lebendige Erinnerungskultur ein. Wie auch die Künstlerin Silke Schatz: In ihren Kunstwerken dokumentiert sie die (Industrie-)Natur in der Region\, stellt aber auch die Eingriffe in natürliche Lebensräume in Frage. \nMit dem Kohleausstieg 2030 eröffnen sich im Rheinischen Revier neue Zukunftsperspektiven und kulturelle Gestaltungsmöglichkeiten. Vereine und Initiativen\, Künstler*innen und Institutionen veranstalten Events\, Workshops\, Ausstellungen oder Kunstperformances in Pop-up Räumen\, in Museen und Kulturhäusern. Sie alle engagieren sich für eine lebendige Kultur in der Region. \nKultur findet im Rheinischen Revier schon längst in analogen und digitalen Räumen statt. Mit „geSCHICHTEN Rheinisches Revier“ macht der Landschaftsverband Rheinland Vergangenheit\, Gegenwart und Zukunft des kulturellen Erbes analog und digital sichtbar. Wie zum Beispiel im Kraftwerk Frimmersdorf\, im Café Nr. 5 in Berverath\, in Manheim und bei verschiedenen Beteiligungsformaten in der Region entstehen neue Räume für Diskussion und Austausch. Das Kulturbüro RAZV unterstützt Vernetzung und eine vielfältige Kulturszene im Rheinischen Revier und der gesamten Region Aachen. \nWir fragen:\nWie können lebendige Kultur-Orte – analog und digital – gestaltet werden?\nWie gemeinschaftsstiftend wirkt Kultur in einer Zeit gesellschaftlicher Umbrüche?\nWelche Rolle spielen Kunst und Kultur für den Austausch\, für gemeinschaftliches Erleben und Erinnern? \nMehr erfahren & anmelden!
URL:https://www.aachen.digital/en/event/das-rheinische-revier-ein-reallabor-fuer-kultur-und-gemeinschaft-lesung-alte-heimat-neue-zukunft/
LOCATION:digitalHUB Aachen e.V. in der DIGITAL CHURCH\, Jülicher Straße 72a\, Aachen\, NRW\, 52070\, Germany
ATTACH;FMTTYPE=image/jpeg:https://www.aachen.digital/wp-content/uploads/2025/05/Design-ohne-Titel-71.jpg
END:VEVENT
BEGIN:VEVENT
DTSTART;TZID=Europe/Berlin:20250107T150000
DTEND;TZID=Europe/Berlin:20250107T190000
DTSTAMP:20260423T165644
CREATED:20241218T104439Z
LAST-MODIFIED:20250106T101724Z
UID:10007095-1736262000-1736276400@www.aachen.digital
SUMMARY:Road 2 Q - Finding innovative solutions for a startups problem
DESCRIPTION:***Cancelled***\nGet ready to embark on a journey towards your goals at Road 2 Q – where we pave the way for success together!\n\n\nRoad 2 Q – What you can expect?! \nJoin AC.E for Road 2 Q\, an interactive workshop where you’ll collaborate with fellow students to develop innovative solutions for a real-world startup challenge! This time\, the focus is on the startup Enevra\, which is facing the critical task of pivoting its business model to achieve profitability and break even. \nIn this hands-on workshop\, you’ll learn how to analyze complex business problems\, identify opportunities\, and work in teams to develop actionable ideas. Guided by experienced facilitators and with direct insights from the Enevra team\, you’ll gain valuable problem-solving skills that are essential for any future entrepreneur or innovator. \nThe workshop will conclude with a pitch session where teams present their solutions—and the most promising idea will be selected! \nWhether you’re curious about startups\, interested in strategy\, or just love tackling challenges\, Road 2 Q is your opportunity to contribute\, learn\, and make a real impact. \nAre you ready to help shape the future of a startup? Sign up now and let’s get to work! \nThe event is supportet by digitalHUB Aachen.
URL:https://www.aachen.digital/en/event/road-2-q-finding-innovative-solutions-for-a-startups-problem/
LOCATION:digitalHUB Aachen e.V. in der DIGITAL CHURCH\, Jülicher Straße 72a\, Aachen\, NRW\, 52070\, Germany
ATTACH;FMTTYPE=image/jpeg:https://www.aachen.digital/wp-content/uploads/2024/12/1b2366627e09b531a7864bc2105535ca.jpg
END:VEVENT
END:VCALENDAR