BEGIN:VCALENDAR
VERSION:2.0
PRODID:-//digitalHUB Aachen - ECPv6.15.20//NONSGML v1.0//EN
CALSCALE:GREGORIAN
METHOD:PUBLISH
X-ORIGINAL-URL:https://www.aachen.digital/en/
X-WR-CALDESC:Events for digitalHUB Aachen
REFRESH-INTERVAL;VALUE=DURATION:PT1H
X-Robots-Tag:noindex
X-PUBLISHED-TTL:PT1H
BEGIN:VTIMEZONE
TZID:Europe/Berlin
BEGIN:DAYLIGHT
TZOFFSETFROM:+0100
TZOFFSETTO:+0200
TZNAME:CEST
DTSTART:20170326T010000
END:DAYLIGHT
BEGIN:STANDARD
TZOFFSETFROM:+0200
TZOFFSETTO:+0100
TZNAME:CET
DTSTART:20171029T010000
END:STANDARD
BEGIN:DAYLIGHT
TZOFFSETFROM:+0100
TZOFFSETTO:+0200
TZNAME:CEST
DTSTART:20180325T010000
END:DAYLIGHT
BEGIN:STANDARD
TZOFFSETFROM:+0200
TZOFFSETTO:+0100
TZNAME:CET
DTSTART:20181028T010000
END:STANDARD
BEGIN:DAYLIGHT
TZOFFSETFROM:+0100
TZOFFSETTO:+0200
TZNAME:CEST
DTSTART:20190331T010000
END:DAYLIGHT
BEGIN:STANDARD
TZOFFSETFROM:+0200
TZOFFSETTO:+0100
TZNAME:CET
DTSTART:20191027T010000
END:STANDARD
END:VTIMEZONE
BEGIN:VEVENT
DTSTART;TZID=Europe/Berlin:20181002T180000
DTEND;TZID=Europe/Berlin:20181002T220000
DTSTAMP:20260426T041700
CREATED:20180927T113047Z
LAST-MODIFIED:20181107T135222Z
UID:10004650-1538503200-1538517600@www.aachen.digital
SUMMARY:I\, Robot? Wie kommen Ethik und Moral in die künstliche Intelligenz?
DESCRIPTION:Ethische Reflexion mit Oliver Stahl\, Robotise\, München (robotise.eu) \nMoral und ethisches Verhalten lässt sich bei Maschinen nicht nachrüsten. Wie sie agieren\, das beginnt mit der Verhaltensethik eines Unternehmens und der Menschen\, die darin arbeiten. Für künstliche Intelligenz gibt es dafür drei einfache Grundregeln: nicht verletzen\, gehorchen\, schützen. Das müssen Roboter tun\, damit Mensch und künstliche Intelligenz zusammenwirken können\, ohne dass eine Seite Schaden nimmt. \nDie drei Grundregeln der Robotik formulierte Isaac Asimov (1920-1992) bereits 1942 in seiner Kurz geschichte „Runaround“. Einige Zeit später sitzt ein Jugendlicher fasziniert über den Robotik-Schriften des russischen Schriftstellers und beschließt 15-jährig\, später „was mit Robotern“ zu machen. 2015 an der TU München wird das Wirklichkeit: Oliver Stahl gründet das Startup „Robotise“. Sein erster Roboter heißt „Jeeves“ und damit genau so wie der äußerst kompetente Kammerdiener in den Werken von P. G. Wodehouse. Mit seinem Service in Hotels kann er langfristig an die Stelle des Minibar-Konzepts treten. \n„Robot Morality“ bleibt Kernthema bei Oliver Stahl. Am Abend in der DIGITAL CHURCH stellt er sein Unternehmenskonzept und seine ethischen Leitlinien vor und lädt zum Austausch ein. \nOliver Stahl ist Elektrotechniker\, Betriebswirt und Wirtschaftspädagoge (Mannheim\, Chicago und Boston)\, Serial Entrepreneur\, Gründer von Robotise (2015 an der TU München). \nAnmeldung bis 10. September 2018 bei angela.reinders@bistum-aachen.de. \nVeranstalter:\ndigitalHUB Aachen und Kompetenzzentrum Ethik in der digitalen Transformation der Abt. 2.1 Personalarbeit\, Fachbereich Fortbildung
URL:https://www.aachen.digital/en/event/i-robot-wie-kommen-ethik-und-moral-in-die-kuenstliche-intelligenz/
LOCATION:digitalHUB Aachen\, Jülicher Str. 72a\, Aachen\, Nordrhein-Westfalen\, 52070\, Germany
ATTACH;FMTTYPE=image/jpeg:https://www.aachen.digital/wp-content/uploads/2018/10/AdobeStock_196038121.jpeg
ORGANIZER;CN="digitalHUB Aachen":MAILTO:kontakt@hubaachen.de
END:VEVENT
BEGIN:VEVENT
DTSTART;TZID=Europe/Berlin:20180929T193000
DTEND;TZID=Europe/Berlin:20180929T230000
DTSTAMP:20260426T041700
CREATED:20180823T113343Z
LAST-MODIFIED:20181018T103822Z
UID:10004799-1538249400-1538262000@www.aachen.digital
SUMMARY:Preisverleihung „Projekt- und Ideenwettbewerb Aachen 2025“
DESCRIPTION:Der Aachen 2025 Preis ist ein Mikroprojekt\, das im Rahmen des Projektes People to People Interreg V-A EMR mit Mitteln des Europäischen Fonds für Regionale Entwicklung (EFRE) und dem Beng e.V. kofinanziert wird.\nZiel des Wettbewerbs ist es\, die Beschäftigung von jungen Menschen mit dem Thema Digitalisierung zu fördern. Indem junge Menschen darstellen\, wie sie sich mit der Digitalisierung auseinandersetzen\, welche Ideen sie dazu haben\, bringen Sie diese in die Diskussion ein. Mit dem Wettbewerb besteht die Chance\, dass diese Ideen mehr wahrgenommen und weiterverbreitet werden. Für Ihre kostenlose Teilnahme ist keine Anmeldung erforderlich. \nWeitere Informationen zur Teilnahme und dem Event finden Sie unter diesem Link: Preisverleihung Projekt- und Ideenwettbewerb Aachen 2025 \nVeranstalter: Aachen 2025 und digitalHUB Aachen
URL:https://www.aachen.digital/en/event/aachen2025-preisverleihung/
LOCATION:digitalHUB Aachen\, Jülicher Str. 72a\, Aachen\, Nordrhein-Westfalen\, 52070\, Germany
ATTACH;FMTTYPE=image/jpeg:https://www.aachen.digital/wp-content/uploads/2018/08/Aachen_2025_Logo_mSlogan_RGB_72dpi_01-720x553.jpg
ORGANIZER;CN="Aachen 2025":MAILTO:https://aachen2025.de/
END:VEVENT
BEGIN:VEVENT
DTSTART;TZID=Europe/Berlin:20180929T183000
DTEND;TZID=Europe/Berlin:20180929T193000
DTSTAMP:20260426T041700
CREATED:20180823T112258Z
LAST-MODIFIED:20181018T103830Z
UID:10004798-1538245800-1538249400@www.aachen.digital
SUMMARY:Preisverleihung „Social Innovation Award“ von ENACTUS Aachen e.V.
DESCRIPTION:Mit dem „Social Innovation Award“ wird die beste Idee ausgezeichnet\, welche mithilfe der sozialen Brille im Rahmen von Aachen 2025 entdeckt und durch die Aachen 2025 App generiert wurde.\nDer Preis gilt als innovatives Kick-Off für die Weiterentwicklung der gekürten Idee im Nachgang\, zum Beispiel in Form von Workshops. Die Jury setzt sich aus je einem Vertreter von ENACTUS\, dem digitalHUB Aachen e.V. und Aachen 2025 zusammen. \nFür Ihre kostenlose Teilnahme ist keine Anmeldung erforderlich. \nVeranstalter: ENACTUS und digitalHUB Aachen
URL:https://www.aachen.digital/en/event/preisverleihung/
LOCATION:digitalHUB Aachen\, Jülicher Str. 72a\, Aachen\, Nordrhein-Westfalen\, 52070\, Germany
ATTACH;FMTTYPE=image/jpeg:https://www.aachen.digital/wp-content/uploads/2018/07/20180706_085234-e1534181174564.jpg
ORGANIZER;CN="digitalHUB Aachen":MAILTO:kontakt@hubaachen.de
END:VEVENT
BEGIN:VEVENT
DTSTART;TZID=Europe/Berlin:20180928T180000
DTEND;TZID=Europe/Berlin:20180928T210000
DTSTAMP:20260426T041700
CREATED:20180823T110814Z
LAST-MODIFIED:20181018T103837Z
UID:10004796-1538157600-1538168400@www.aachen.digital
SUMMARY:"Meet the Startups" AC.E & digitalHUB Aachen
DESCRIPTION:Gemeinsam mit AC.E (Aachener Entrepreneurship Team e.V.) veranstaltet der digitalHUB Aachen regelmäßig Meet the Startups! in der DIGITAL CHURCH. Hier treffen sich unsere mittelständischen Mitgliedsunternehmen und Startups in messeähnlicher Atmosphäre zum Austausch und Networking. Auch die Vereinsarbeit der studentischen Initiativen AC.E und ENACTUS werden vorgestellt.
URL:https://www.aachen.digital/en/event/aachen2025-meet-the-startups/
LOCATION:digitalHUB Aachen\, Jülicher Str. 72a\, Aachen\, Nordrhein-Westfalen\, 52070\, Germany
ATTACH;FMTTYPE=image/jpeg:https://www.aachen.digital/wp-content/uploads/2018/08/20180418_202417-1.jpg
ORGANIZER;CN="digitalHUB Aachen":MAILTO:kontakt@hubaachen.de
END:VEVENT
BEGIN:VEVENT
DTSTART;TZID=Europe/Berlin:20180928T100000
DTEND;TZID=Europe/Berlin:20180928T130000
DTSTAMP:20260426T041700
CREATED:20180823T110034Z
LAST-MODIFIED:20181018T103851Z
UID:10004792-1538128800-1538139600@www.aachen.digital
SUMMARY:CSR Freitagswerkstatt: Auswirkungen der Digitalisierung – Mitarbeitende mitnehmen
DESCRIPTION:Auswirkungen der Digitalisierung – Mitarbeitende mitnehmen \nIm Rahmen des Events Aachen 2025 – Zuhause in der Zukunft veranstaltet der digitalHUB Aachen e.V. in Kooperation mit dem Kompetenzzentrum Rheinland diesen CSR – Workshop. \nAlle Informationen enthält der aktuelle Flyer zur Veranstaltung. Klicken Sie dafür einfach hier: CSR Freitagswerkstatt \n 
URL:https://www.aachen.digital/en/event/aachen2025-csr-freitagswerkstatt/
LOCATION:digitalHUB Aachen\, Jülicher Str. 72a\, Aachen\, Nordrhein-Westfalen\, 52070\, Germany
ATTACH;FMTTYPE=image/png:https://www.aachen.digital/wp-content/uploads/2018/08/CSR-kompetenzzentrum_Logo.png
ORGANIZER;CN="digitalHUB Aachen":MAILTO:kontakt@hubaachen.de
END:VEVENT
BEGIN:VEVENT
DTSTART;TZID=Europe/Berlin:20180920T160000
DTEND;TZID=Europe/Berlin:20180920T200000
DTSTAMP:20260426T041700
CREATED:20180821T093347Z
LAST-MODIFIED:20180927T084103Z
UID:10004635-1537459200-1537473600@www.aachen.digital
SUMMARY:Workshop-Reihe „Digital Readiness“ - #1 Grundlagen der Automatisierung und Digitalisierung
DESCRIPTION:Teil 1 unserer Workshop-Reihe Digital Readiness \nAnmeldung zum Workshop:\nDie Workshop-Reihe ist für Mitgliedsunternehmen\, User- und Enabler-IT-Mittelstand kostenfrei. Für Nicht-Mitglieder des digitalHUB Aachen e.V. kostet die Teilnahme 500 EUR pro Person und Workshop\, zuzüglich Steuern und Gebühren von eventbrite. Eine Veranstaltungsübersicht finden Sie unter diesem Link: Workshop-Tickets\nBei Fragen zur kostenlosen Anmeldung melden Sie sich per E-Mail bei: philicia.dickmeis@hubaachen.de
URL:https://www.aachen.digital/en/event/digital-readiness-1/
LOCATION:digitalHUB Aachen\, Jülicher Str. 72a\, Aachen\, Nordrhein-Westfalen\, 52070\, Germany
ATTACH;FMTTYPE=image/jpeg:https://www.aachen.digital/wp-content/uploads/2018/08/Digital-Readiness-Workshop_gross.jpg
ORGANIZER;CN="digitalHUB Aachen":MAILTO:kontakt@hubaachen.de
END:VEVENT
BEGIN:VEVENT
DTSTART;TZID=Europe/Berlin:20180905T190000
DTEND;TZID=Europe/Berlin:20180905T220000
DTSTAMP:20260426T041700
CREATED:20180821T120830Z
LAST-MODIFIED:20180827T121658Z
UID:10004643-1536174000-1536184800@www.aachen.digital
SUMMARY:Management-Treffen von REGINA e.V.
DESCRIPTION:Einladung zum nächsten Management-Treffen von REGINA e.V.\nMitglieder-Veranstaltung \nMit digitalen Geschäftsmodellen fit für die Zukunft \nDie Digitalisierung ändert die Spielregeln unseres alltäglichen Handelns. Sie sorgt für enorme Umwälzungen in Wirtschaft und Gesellschaft\, bei Arbeit\, Konsum\, Kooperation und Kommunikation. So ist es für Unternehmen zwingend notwendig\, ihre Geschäftsmodelle zu überdenken und sie digital fit zu machen. \nIris Wilhelmi\, Geschäftsführerin des digitalHUB Aachen e.V.\, gibt einen kurzen Überblick über Wesen und Kernelemente solcher digitaler Geschäftsmodelle und wie der digitalHUB Aachen seine Mitgliedsunternehmen bei der digitalen Transformation unterstützt.\nErfahren Sie von Sven Pietsch\, Gründer und Geschäftsführer der Innoloft GmbH\, wie Innoloft mit Leanstartup Ansätzen zum eigenen Geschäftsmodell gefunden hat und dieses weiterentwickelt. Gleichzeitig erhalten Sie Tipps\, wie Sie in der Zusammenarbeit mit Startups Ihr Unternehmen für die Zukunft fit machen können und tauchen ein in die Vorteile von plattformbasierten Geschäftsmodellen.\n\nWann: 5. September 2018\, 19.00 Uhr\nWo: DIGITAL CHURCH\, Jülicher Str. 72a\, 52066 Aachen \nBeim anschließenden Imbiss besteht die Gelegenheit zum Erfahrungsaustausch und zur Diskussion. \nUnserer Mitglieder melden sich bitte per E-Mail bis zum 30. August an – hier klicken: REGINA e.V.
URL:https://www.aachen.digital/en/event/management-treffen-von-regina-e-v/
LOCATION:digitalHUB Aachen\, Jülicher Str. 72a\, Aachen\, Nordrhein-Westfalen\, 52070\, Germany
ATTACH;FMTTYPE=image/jpeg:https://www.aachen.digital/wp-content/uploads/2018/08/Iris-und-Sven-Incubator-Programm.jpg
ORGANIZER;CN="REGINA e.V.":MAILTO:mail@regina.ac
END:VEVENT
BEGIN:VEVENT
DTSTART;TZID=Europe/Berlin:20180905T180000
DTEND;TZID=Europe/Berlin:20180905T210000
DTSTAMP:20260426T041700
CREATED:20180619T151451Z
LAST-MODIFIED:20180827T131022Z
UID:10004742-1536170400-1536181200@www.aachen.digital
SUMMARY:Fokusgruppe Gesundheit
DESCRIPTION:Nur für Mitglieder des digitalHUB Aachen e.V. \nMelden Sie sich gerne bei Interesse: kontakt@hubaachen.de
URL:https://www.aachen.digital/en/event/fokusgruppe-gesundheit-09/
LOCATION:digitalHUB Aachen\, Jülicher Str. 72a\, Aachen\, Nordrhein-Westfalen\, 52070\, Germany
ATTACH;FMTTYPE=image/jpeg:https://www.aachen.digital/wp-content/uploads/2018/05/Bild2.jpg
ORGANIZER;CN="digitalHUB Aachen":MAILTO:kontakt@hubaachen.de
END:VEVENT
BEGIN:VEVENT
DTSTART;TZID=Europe/Berlin:20180905T090000
DTEND;TZID=Europe/Berlin:20180905T130000
DTSTAMP:20260426T041700
CREATED:20180619T151451Z
LAST-MODIFIED:20180827T130640Z
UID:10004779-1536138000-1536152400@www.aachen.digital
SUMMARY:Sprechtag: Digital Finance im digitalHUB
DESCRIPTION:Die Umsetzung digitaler Geschäftsprojekte erfordert einen hohen finanziellen Aufwand. Die öffentliche Hand bietet auf Landes-\, Bundes- und EU-Ebene hierzu Fördermittel an. Daher bietet der digitalHUB Aachen e.V. einmal im Quartal  in Kooperation mit der NRW.Bank einen Expertensprechtag für Startups\, Mittelstand  an. In persönlichen Gesprächen informieren Experten der NRW.Bank\, Bürgschaftsbank und ZENIT über folgende Themen:
URL:https://www.aachen.digital/en/event/sprechtag-digital-finance-09/
LOCATION:digitalHUB Aachen\, Jülicher Str. 72a\, Aachen\, Nordrhein-Westfalen\, 52070\, Germany
ATTACH;FMTTYPE=image/jpeg:https://www.aachen.digital/wp-content/uploads/2018/06/money-2724241_1920_original.jpg
ORGANIZER;CN="digitalHUB Aachen":MAILTO:kontakt@hubaachen.de
END:VEVENT
BEGIN:VEVENT
DTSTART;TZID=Europe/Berlin:20180904T150000
DTEND;TZID=Europe/Berlin:20180904T190000
DTSTAMP:20260426T041700
CREATED:20180619T151452Z
LAST-MODIFIED:20181211T081226Z
UID:10004780-1536073200-1536087600@www.aachen.digital
SUMMARY:Aachener Smart Glasses Day - Der Arbeitsplatz der Zukunft
DESCRIPTION:Am 4. September in der DIGITAL CHURCH Datenbrillen hautnah erleben!\nDer Aachener Smart Glasses Day richtet sich an Mitarbeiter und Führungskräfte aus den Bereichen Produktion\, Logistik und Service sowie an interessierte Aachener und Studenten. \nDer digitalHUB Aachen e.V.\, das Fraunhofer-Institut für Produktionstechnologie IPT und die Aachener Smart Glasses Unternehmen oculavis GmbH und Picavi GmbH präsentieren verschiedene Anwendungen mit Smart Glasses und Augmented Reality. \nErfahren Sie mehr über die beeindruckenden Technologien in praxisorientierten Vorträgen und erleben Sie die Anwendungen und Geräte live an den Demoständen der Aussteller. \nAgenda\n15:00 – 16:00 Uhr\nAnkunft und Livetests von Smart Glasses an den Demoständen\n16:00 – 16:15 Uhr\n„digitalHUB Aachen – Smart Ecosystem“ (digitalHUB Aachen e.V.)\n16:15 – 16:45 Uhr\nVortrag „Von der Regelkarte zur Smart Glass – Das Qualitätsmanagement wird digital“ (Fraunhofer-Institut für Produktionstechnologie IPT)\n16:45 – 17:15 Uhr\n„Science Fiction oder Realität? Smart Glasses in Produktion und Service“ (oculavis GmbH\, Dr. Markus Große Böckmann)\n17:15 – 17:45 Uhr\nVortrag „Erfolgsfaktor Datenbrille: Die intuitive Unterstützung des Menschen “ (Picavi GmbH\, Marie-Louis Mersch)\nab 17:45 Uhr\nSnacks und Livetests von Smart Glasses an den Demoständen \nWann:\nAm 04. September 2018 ab 15:00 Uhr. \nWo:\nDIGITAL CHURCH \ndigitalHUB Aachen\nin der DIGITAL CHURCH\nJülicherstr. 72a\n52070 Aachen \nAnmeldung:\nDer Eintritt ist frei\, eine Anmeldung unter folgendem Link ist erforderlich: aachener-smart-glasses-day.eventbrite.de
URL:https://www.aachen.digital/en/event/aachener-smart-glasses-day-der-arbeitsplatz-der-zukunft/
LOCATION:digitalHUB Aachen\, Jülicher Str. 72a\, Aachen\, Nordrhein-Westfalen\, 52070\, Germany
ATTACH;FMTTYPE=image/jpeg:https://www.aachen.digital/wp-content/uploads/2018/06/1486558537015_oculavis-SHARE-BannerDE.jpg
ORGANIZER;CN="digitalHUB Aachen":MAILTO:kontakt@hubaachen.de
END:VEVENT
BEGIN:VEVENT
DTSTART;TZID=Europe/Berlin:20180507T180000
DTEND;TZID=Europe/Berlin:20180507T210000
DTSTAMP:20260426T041700
CREATED:20180820T123205Z
LAST-MODIFIED:20181105T160649Z
UID:10004788-1525716000-1525726800@www.aachen.digital
SUMMARY:Europa und Digitalisierung
DESCRIPTION:Chance oder Wagnis?\nWie gestaltet Europa die Digitalisierung in Zeiten\, in denen der digitale Wandel zur Herausforderung für unsere Volkswirtschaften und Gesellschaften wird? Wird sie zur Chance oder zum Wagnis? Der designierte Karlspreisträger Emmanuel Macron hat in seiner visionären Europarede an der Pariser Universität Sorbonne im September 2017 Lösungsansätze dazu aufgezeigt\, die in dieser Veranstaltung diskutiert werden sollen.
URL:https://www.aachen.digital/en/event/europa-und-digitalisierung/
LOCATION:digitalHUB Aachen\, Jülicher Str. 72a\, Aachen\, Nordrhein-Westfalen\, 52070\, Germany
ATTACH;FMTTYPE=image/jpeg:https://www.aachen.digital/wp-content/uploads/2018/10/AdobeStock_112078421-2.jpeg
END:VEVENT
BEGIN:VEVENT
DTSTART;VALUE=DATE:20180319
DTEND;VALUE=DATE:20180320
DTSTAMP:20260426T041700
CREATED:20181015T110244Z
LAST-MODIFIED:20181018T103745Z
UID:10004806-1521417600-1521503999@www.aachen.digital
SUMMARY:Veran­stal­tungs-Reihe „Digital. Praktisch. Nah.“ #1 Unter­neh­mens­kultur und digitale Trans­for­ma­tion
DESCRIPTION:Industrie 4.0 verändert das Verständnis von Produk­tion\, Prozessen und Dienst­leis­tungen. Viele Unter­nehmen begreifen dies als Chance\, andere halten noch an Beste­hendem fest – nicht zuletzt\, weil ihnen Methoden und Werkzeuge zur Entwick­lung eine Digi­ta­li­sie­rungs­stra­tegie für ihr Unter­nehmen fehlen. \nNach unserem erfolg­rei­chen Workshop-Formt „Start­schuss Digi­ta­li­sie­rung“ im letzten Jahr setzen wir in der ersten Veranstaltung 2018 einen thema­ti­schen Fokus auf Unternehmenskultur und digitale Transformation. \nAm 19. März 2018 startete in der DIGITAL CHURCH die Veranstaltungsreihe „Digital. Praktisch. Nah.“\, veranstaltet vom digitalHUB Aachen\, „Digital in NRW“\, AGIT mbH und der Wirtschaftsförderung der Stadt Aachen. \n  \nProgramm \nBegrüßung durch Vertreter von „Digital in NRW“\, der Wirtschaftsförderung der Stadt Aachen und des digitalHUB Aachen \nVorstellung des Unterstützungsangebotes von „Digital in NRW“ \nVorstellung des digitalHUB Aachen \nVortrag „Digital. Praktisch. Nah. – Warum Veränderung von ‚Oben‘ kommen muss“ – eine Sensibilisierung für Führungskräfte von KMU für das Thema Digitalisierung durch offene\, agile Unternehmenskultur im Unternehmen.“ Ramona Zimmermann und Christian Decker\, SOPTIM AG \nOffener Austausch und Diskussion \nReferenten: Ramona Zimmermann und Christian Decker
URL:https://www.aachen.digital/en/event/digital-praktisch-nah-1/
LOCATION:digitalHUB Aachen\, Jülicher Str. 72a\, Aachen\, Nordrhein-Westfalen\, 52070\, Germany
ATTACH;FMTTYPE=image/jpeg:https://www.aachen.digital/wp-content/uploads/2018/10/cover.jpg
ORGANIZER;CN="digitalHUB Aachen":MAILTO:kontakt@hubaachen.de
END:VEVENT
END:VCALENDAR