BEGIN:VCALENDAR
VERSION:2.0
PRODID:-//digitalHUB Aachen - ECPv6.15.20//NONSGML v1.0//EN
CALSCALE:GREGORIAN
METHOD:PUBLISH
X-WR-CALNAME:digitalHUB Aachen
X-ORIGINAL-URL:https://www.aachen.digital/en/
X-WR-CALDESC:Events for digitalHUB Aachen
REFRESH-INTERVAL;VALUE=DURATION:PT1H
X-Robots-Tag:noindex
X-PUBLISHED-TTL:PT1H
BEGIN:VTIMEZONE
TZID:Europe/Berlin
BEGIN:DAYLIGHT
TZOFFSETFROM:+0100
TZOFFSETTO:+0200
TZNAME:CEST
DTSTART:20210328T010000
END:DAYLIGHT
BEGIN:STANDARD
TZOFFSETFROM:+0200
TZOFFSETTO:+0100
TZNAME:CET
DTSTART:20211031T010000
END:STANDARD
BEGIN:DAYLIGHT
TZOFFSETFROM:+0100
TZOFFSETTO:+0200
TZNAME:CEST
DTSTART:20220327T010000
END:DAYLIGHT
BEGIN:STANDARD
TZOFFSETFROM:+0200
TZOFFSETTO:+0100
TZNAME:CET
DTSTART:20221030T010000
END:STANDARD
BEGIN:DAYLIGHT
TZOFFSETFROM:+0100
TZOFFSETTO:+0200
TZNAME:CEST
DTSTART:20230326T010000
END:DAYLIGHT
BEGIN:STANDARD
TZOFFSETFROM:+0200
TZOFFSETTO:+0100
TZNAME:CET
DTSTART:20231029T010000
END:STANDARD
BEGIN:DAYLIGHT
TZOFFSETFROM:+0100
TZOFFSETTO:+0200
TZNAME:CEST
DTSTART:20240331T010000
END:DAYLIGHT
BEGIN:STANDARD
TZOFFSETFROM:+0200
TZOFFSETTO:+0100
TZNAME:CET
DTSTART:20241027T010000
END:STANDARD
BEGIN:DAYLIGHT
TZOFFSETFROM:+0100
TZOFFSETTO:+0200
TZNAME:CEST
DTSTART:20250330T010000
END:DAYLIGHT
BEGIN:STANDARD
TZOFFSETFROM:+0200
TZOFFSETTO:+0100
TZNAME:CET
DTSTART:20251026T010000
END:STANDARD
BEGIN:DAYLIGHT
TZOFFSETFROM:+0100
TZOFFSETTO:+0200
TZNAME:CEST
DTSTART:20260329T010000
END:DAYLIGHT
BEGIN:STANDARD
TZOFFSETFROM:+0200
TZOFFSETTO:+0100
TZNAME:CET
DTSTART:20261025T010000
END:STANDARD
END:VTIMEZONE
BEGIN:VEVENT
DTSTART;TZID=Europe/Berlin:20250401T153000
DTEND;TZID=Europe/Berlin:20250401T180000
DTSTAMP:20260423T164115
CREATED:20250314T105517Z
LAST-MODIFIED:20250314T105517Z
UID:10007273-1743521400-1743530400@www.aachen.digital
SUMMARY:Workshop #GoToMarket – Rheinland Edition
DESCRIPTION:Startups aus NRW aufgepasst: Workshop zum Thema Go-to-Market-Gutschein incoming!\n\n\nDu möchtest mehr über ein gezieltes Förderprogramm für die Prototypentwicklung\, den Go-to-Market-Gutschein\, erfahren? Dann sei am 1. April 2025 dabei\, wenn der Workshop des PtJ\, des MWIKE und der DWNRW-Hubs zu genau diesem Gutschein stattfindet! \nDas erwartet Dich: \n\n30 Minuten Info-Session zum Go-To-Market-Gutschein\n45 Minuten Q&A zu Richtlinien und Voraussetzungen\n75 Minuten persönliche Beratung zur Antragstellung an verschiedenen Stationen\n\nUnser Workshop bietet allen Startups aus NRW die Chance\, von dieser einzigartigen Fördermöglichkeiten in NRW zu profitieren. \n📍 Wo? CITYHUB (Am Hauptbahnhof 6\, 53111 Bonn\, hybrider Info- & Q&A-Teil\, Beratung vor Ort) \n🗓 Wann? 1. April 2025\, 15:30-18:00 Uhr \n🚀 Melde Dich jetzt an und erfahre alles zum erfolgreichen Start mit dem Gutschein! \nANMELDUNG
URL:https://www.aachen.digital/en/event/workshop-gotomarket-rheinland-edition/
LOCATION:DIGITALHUB.DE\, Am Hauptbahnhof 6\, Bonn
ATTACH;FMTTYPE=image/jpeg:https://www.aachen.digital/wp-content/uploads/2025/03/801d232f58a18abb08982f22b60955d3.jpg
END:VEVENT
BEGIN:VEVENT
DTSTART;VALUE=DATE:20221021
DTEND;VALUE=DATE:20221024
DTSTAMP:20260423T164115
CREATED:20220928T085036Z
LAST-MODIFIED:20220928T085230Z
UID:10005722-1666310400-1666569599@www.aachen.digital
SUMMARY:Legal Tech Hackathon 2022
DESCRIPTION:Der Legal Tech Hackathon 2022 wird in Zusammenarbeit mit den Kanzleien dhpg\, Meyer-Köring\, Rickert\, WSS Redpoint und DIGITALHUB.DE in Bonn stattfinden. \nWir haben uns die Frage gestellt: Was fehlt dem Rechtsmarkt? Vor welchen Herausforderungen stehen Kanzleien? Wir wollen deshalb zu verschiedenen rechtlichen Themengebieten mit Euch digitale Produkte entwickeln. \nDu kannst Produkte zu Themen wie Datenschutz\, Arbeitsrecht\, Markenrecht\, Kapitalmarktrecht usw. entwickeln. Die genauen Themengebiete werden noch bekannt gegeben. Du hast schon eine Idee für ein Produkt? Um so besser. Dann arbeite an dem Wochenende an dieser Idee. \n\nWir suchen Personen\, die ein komplementäres Team bilden. Du solltest an einer Uni eingeschrieben sein oder bereits im Berufsleben stehen und einen Background in Jura\, Informatik\, BWL oder passende Expertise haben. Bring Deinen eigenen Laptop mit. \n\nWir sind auf Deine Ansätze und Lösungen gespannt. \nANMELDUNG
URL:https://www.aachen.digital/en/event/legal-tech-hackathon-2022/
LOCATION:DIGITALHUB.DE\, Am Hauptbahnhof 6\, Bonn
ATTACH;FMTTYPE=image/jpeg:https://www.aachen.digital/wp-content/uploads/2022/09/LegalTechHackathon_stage1.jpg
END:VEVENT
BEGIN:VEVENT
DTSTART;TZID=Europe/Berlin:20221006T160000
DTEND;TZID=Europe/Berlin:20221006T200000
DTSTAMP:20260423T164115
CREATED:20220928T084540Z
LAST-MODIFIED:20220928T084540Z
UID:10005719-1665072000-1665086400@www.aachen.digital
SUMMARY:DEMO DAY
DESCRIPTION:Auf dem DEMO DAY erwartet euch ein spannendes Programm voller Startup Pitches\, Kennenlernen & Networking Möglichkeiten sowie unser Matchmaking Format in unserer Location am Hauptbahnhof (Am Hauptbahnhof 6\, 53111 Bonn). \nDie Startups haben 120 Sekunden Zeit\, um auf der Bühne zu pitchen. Im Anschluss folgt ein Q&A unserer Jury\, welche aus Sophia Tran (Spotlight Ventures!)\, Christoph Wagner (Scanbot)\, Axel Nitsch (High- Tech Gründerfonds)\, Peter Goeke (Deep Skill) und Eiko Gerten (Digitaler Hub Region Bonn AG) besteht. \nFür euer leibliches Wohl wird ebenfalls gesorgt sein. \nProgramm: \n\n15:30 Uhr: Einlass\n16:00 Uhr: Begrüßung durch den Hub\n16:15 Uhr: Speaker Impulsvortrag von Peter Goeke (Deep Skill) mit dem Titel: „Storytelling for Startups“\n16:30 Uhr: Startup Pitches\n18:15 Uhr:  Verpflegungspause & Networking\n18:45 Uhr: 1:1 Matchmaking\n20:00 Uhr: Ende\n\nTeilnehmende Startups: \nalitiq GmbH \nalitiq kombiniert Data Science und Meteorologie\, um wetterabhängige Prognosen mit Methoden der Künstlichen Intelligenz und Machine Learning abzugeben. \nbNear GmbH \nbNear ist das erste virtuelle Büro für remote und hybride Teams – nahtlos integriert in Microsoft Teams. \nCoachinho GmbH \nMittels interaktiver Lernspiel-App werden Fußballer:innen per Smartphone von CR7 oder Lionel Messi gecoacht\, erhalten von diesen dank Künstlicher Intelligenz Echtzeit-Feedback zu ihren Bewegungen (mit Ball) und schlagen den Spiele-Highscore von echten Fußballstars. \ndoQtor GmbH \ndoQtor ist die zentrale B2B -Plattform zur schnellen Entlastung und sinnvollen Vermittlung bei psychischen\, sozialen und medizinischen Anfragen von Mitarbeitenden. \nEdurocket UG \nAls Lerncoaching-Plattform hilft Edurocket Schülern zu weniger Stress\, mehr Freizeit und besseren Noten. \nWohnsinn GmbH \nWohnsinn.com ist das erste Immobilienportal\, das den Vermietungsprozess automatisiert und Suchenden durch einen Matching-Algorithmus dabei hilft\, einfach & schnell eine Wohnung zu finden. \nRental Holidays GmbH \nRental Holidays ist die neue P2P Sharing-Plattform für Reisemobile und Wohnwagen. \nANMELDUNG
URL:https://www.aachen.digital/en/event/demo-day/
LOCATION:DIGITALHUB.DE\, Am Hauptbahnhof 6\, Bonn
ATTACH;FMTTYPE=image/jpeg:https://www.aachen.digital/wp-content/uploads/2022/09/DEMODAY_stage.jpg
END:VEVENT
END:VCALENDAR