BEGIN:VCALENDAR
VERSION:2.0
PRODID:-//digitalHUB Aachen - ECPv6.15.20//NONSGML v1.0//EN
CALSCALE:GREGORIAN
METHOD:PUBLISH
X-WR-CALNAME:digitalHUB Aachen
X-ORIGINAL-URL:https://www.aachen.digital/en/
X-WR-CALDESC:Events for digitalHUB Aachen
REFRESH-INTERVAL;VALUE=DURATION:PT1H
X-Robots-Tag:noindex
X-PUBLISHED-TTL:PT1H
BEGIN:VTIMEZONE
TZID:Europe/Berlin
BEGIN:DAYLIGHT
TZOFFSETFROM:+0100
TZOFFSETTO:+0200
TZNAME:CEST
DTSTART:20190331T010000
END:DAYLIGHT
BEGIN:STANDARD
TZOFFSETFROM:+0200
TZOFFSETTO:+0100
TZNAME:CET
DTSTART:20191027T010000
END:STANDARD
BEGIN:DAYLIGHT
TZOFFSETFROM:+0100
TZOFFSETTO:+0200
TZNAME:CEST
DTSTART:20200329T010000
END:DAYLIGHT
BEGIN:STANDARD
TZOFFSETFROM:+0200
TZOFFSETTO:+0100
TZNAME:CET
DTSTART:20201025T010000
END:STANDARD
BEGIN:DAYLIGHT
TZOFFSETFROM:+0100
TZOFFSETTO:+0200
TZNAME:CEST
DTSTART:20210328T010000
END:DAYLIGHT
BEGIN:STANDARD
TZOFFSETFROM:+0200
TZOFFSETTO:+0100
TZNAME:CET
DTSTART:20211031T010000
END:STANDARD
BEGIN:DAYLIGHT
TZOFFSETFROM:+0100
TZOFFSETTO:+0200
TZNAME:CEST
DTSTART:20220327T010000
END:DAYLIGHT
BEGIN:STANDARD
TZOFFSETFROM:+0200
TZOFFSETTO:+0100
TZNAME:CET
DTSTART:20221030T010000
END:STANDARD
BEGIN:DAYLIGHT
TZOFFSETFROM:+0100
TZOFFSETTO:+0200
TZNAME:CEST
DTSTART:20230326T010000
END:DAYLIGHT
BEGIN:STANDARD
TZOFFSETFROM:+0200
TZOFFSETTO:+0100
TZNAME:CET
DTSTART:20231029T010000
END:STANDARD
BEGIN:DAYLIGHT
TZOFFSETFROM:+0100
TZOFFSETTO:+0200
TZNAME:CEST
DTSTART:20240331T010000
END:DAYLIGHT
BEGIN:STANDARD
TZOFFSETFROM:+0200
TZOFFSETTO:+0100
TZNAME:CET
DTSTART:20241027T010000
END:STANDARD
BEGIN:DAYLIGHT
TZOFFSETFROM:+0100
TZOFFSETTO:+0200
TZNAME:CEST
DTSTART:20250330T010000
END:DAYLIGHT
BEGIN:STANDARD
TZOFFSETFROM:+0200
TZOFFSETTO:+0100
TZNAME:CET
DTSTART:20251026T010000
END:STANDARD
END:VTIMEZONE
BEGIN:VEVENT
DTSTART;TZID=Europe/Berlin:20240410T090000
DTEND;TZID=Europe/Berlin:20240410T170000
DTSTAMP:20260423T225532
CREATED:20240321T121353Z
LAST-MODIFIED:20240321T121353Z
UID:10006111-1712739600-1712768400@www.aachen.digital
SUMMARY:TAG DER OFFENEN TÜREN in den Coworking Spaces von Düren
DESCRIPTION:Wir laden Euch herzlich zum “Tag der Offenen Türen” der Coworking Spaces in Düren ein! \nNutze diese Gelegenheit\, kostenlos Coworking in Düren zu testen und entdecke die vielfältigen Möglichkeiten moderner Arbeitsplätze und kreativer Coworkingflächen an vier Standorten in Düren! \n#nicetoknow  \nUnser Inkubator CO_SPACE.DN richtet sich an Gründungsinteressierte sowie Gründer:innen und bietet kostenlose Gründungsberatung. \nMelde Dich jetzt an für diesen Termin und komm vorbei\, um inspirierende Arbeitsplätze zu entdecken und Dich mit einer lebendigen Community von anderen Gründer:innen aus Düren zu vernetzen! \nHier sind unsere teilnehmenden Coworking Spaces und ihre Kontaktdaten: \n🔹 worqs Coworking Düren Am Ellernbusch 18-20 | 52355 Düren Tel. 0241 53108088 | www.worqs.de \n🔹 hauptcwartier Coworking Space Düren Philippstraße 27 | 52349 Düren Tel. 02421 2582827 | www.hauptcwartier.com \n🔹 Inkubator CO_SPACE.DN August-Klotz-Straße 21 | 52349 Düren Tel. 0157 30 76 6050 | www.co-space-dueren.de \n🔹 PrymWorking e.V. CoWorking Spaces Prympark 4 | 52351 Düren Tel. 02421 4807035 | www.prymworking.de \nWir freuen uns darauf\, Dich am 10. April zu sehen! \nZUR ANMELDUNG
URL:https://www.aachen.digital/en/event/tag-der-offenen-tueren-in-den-coworking-spaces-von-dueren/
LOCATION:Düren.Digital Network\, Coworking Space hauptcwartier\, Philippstraße 27\, Düren\, 52349\, Deutschland
ATTACH;FMTTYPE=image/jpeg:https://www.aachen.digital/wp-content/uploads/2024/03/Coworking-Dueren_Tag-der-offenen-Tuer-1.jpg
ORGANIZER;CN="digitalHUB Aachen":MAILTO:kontakt@hubaachen.de
END:VEVENT
BEGIN:VEVENT
DTSTART;TZID=Europe/Berlin:20200117T130000
DTEND;TZID=Europe/Berlin:20200117T173000
DTSTAMP:20260423T225532
CREATED:20191205T114306Z
LAST-MODIFIED:20200113T102101Z
UID:10005474-1579266000-1579282200@www.aachen.digital
SUMMARY:Eröffnung des VR Experience Room des Düren.Digital.Network
DESCRIPTION:
URL:https://www.aachen.digital/en/event/eroeffnung-des-vr-experience-room-des-dueren-digital-network/
LOCATION:Düren.Digital Network\, Coworking Space hauptcwartier\, Philippstraße 27\, Düren\, 52349\, Deutschland
ATTACH;FMTTYPE=image/jpeg:https://www.aachen.digital/wp-content/uploads/2019/03/20190315_Auftaktveranstaltung-Düren.Digital-Network-1.jpg
END:VEVENT
END:VCALENDAR