BEGIN:VCALENDAR
VERSION:2.0
PRODID:-//digitalHUB Aachen - ECPv6.15.20//NONSGML v1.0//EN
CALSCALE:GREGORIAN
METHOD:PUBLISH
X-WR-CALNAME:digitalHUB Aachen
X-ORIGINAL-URL:https://www.aachen.digital/en/
X-WR-CALDESC:Events for digitalHUB Aachen
REFRESH-INTERVAL;VALUE=DURATION:PT1H
X-Robots-Tag:noindex
X-PUBLISHED-TTL:PT1H
BEGIN:VTIMEZONE
TZID:Europe/Berlin
BEGIN:DAYLIGHT
TZOFFSETFROM:+0100
TZOFFSETTO:+0200
TZNAME:CEST
DTSTART:20230326T010000
END:DAYLIGHT
BEGIN:STANDARD
TZOFFSETFROM:+0200
TZOFFSETTO:+0100
TZNAME:CET
DTSTART:20231029T010000
END:STANDARD
BEGIN:DAYLIGHT
TZOFFSETFROM:+0100
TZOFFSETTO:+0200
TZNAME:CEST
DTSTART:20240331T010000
END:DAYLIGHT
BEGIN:STANDARD
TZOFFSETFROM:+0200
TZOFFSETTO:+0100
TZNAME:CET
DTSTART:20241027T010000
END:STANDARD
BEGIN:DAYLIGHT
TZOFFSETFROM:+0100
TZOFFSETTO:+0200
TZNAME:CEST
DTSTART:20250330T010000
END:DAYLIGHT
BEGIN:STANDARD
TZOFFSETFROM:+0200
TZOFFSETTO:+0100
TZNAME:CET
DTSTART:20251026T010000
END:STANDARD
END:VTIMEZONE
BEGIN:VEVENT
DTSTART;TZID=Europe/Berlin:20240305T090000
DTEND;TZID=Europe/Berlin:20240305T120000
DTSTAMP:20260423T204333
CREATED:20230918T113803Z
LAST-MODIFIED:20230918T113842Z
UID:10006542-1709629200-1709640000@www.aachen.digital
SUMMARY:Digital. Praktisch. Nah. - KI und VR im mittelständischen Maschinenbau
DESCRIPTION:Erhalten Sie Einblicke in erste Ansätze zur Nutzung von Künstlicher Intelligenz bei der DYNA-MESS Prüfsysteme GmbH. Erfahren Sie auch\, wie der mittelständische Sondermaschinenbauer Virtual Reality einsetzt\, um Maschinen im Einsatz zu demonstrieren. \nDie Veranstaltung findet als Koope­ra­tion der AGIT Aachener Gesell­schaft für Inno­va­tion und Tech­no­logie mbH und dem Mittelstand-Digital Zentrum Rheinland statt. Sie richtet sich an Fach- und Führungs­kräfte des Mittel­stands. Vorkennt­nisse sind nicht erfor­der­lich. \nAgenda \n\nBegrüßung & Einleitung\, DYNA-MESS Prüfsysteme GmbH\nServices und Unterstützungsangebote im Bereich KI und Digitalisierung\, AGIT mbH\nKünstliche Intelligenz und Virtual Reality in Forschung und Praxis\, Nils Klasen\, Mittelstand-Digital Zentrum Rheinland\nVortrag und Rundgang\, DYNA-MESS Prüfsysteme GmbH\nDiskussion & Netzwerken\n\nDie Veranstaltung findet in Präsenz statt. Die Teilnahme ist kostenfrei. Wir bitten um eine verbind­liche Anmeldung. \nAnmeldung
URL:https://www.aachen.digital/en/event/digital-praktisch-nah-ki-und-vr-im-mittelstaendischen-maschinenbau/
LOCATION:DYNA-MESS Prüfsysteme GmbH\, Leimberg 19\, Stolberg\, Nordrhein-Westfalen\, 52222\, Germany
ATTACH;FMTTYPE=image/jpeg:https://www.aachen.digital/wp-content/uploads/2023/09/Digital-Praktisch-Nah-05.03.2024.jpg
END:VEVENT
END:VCALENDAR