BEGIN:VCALENDAR
VERSION:2.0
PRODID:-//digitalHUB Aachen - ECPv6.15.20//NONSGML v1.0//EN
CALSCALE:GREGORIAN
METHOD:PUBLISH
X-WR-CALNAME:digitalHUB Aachen
X-ORIGINAL-URL:https://www.aachen.digital/en/
X-WR-CALDESC:Events for digitalHUB Aachen
REFRESH-INTERVAL;VALUE=DURATION:PT1H
X-Robots-Tag:noindex
X-PUBLISHED-TTL:PT1H
BEGIN:VTIMEZONE
TZID:Europe/Berlin
BEGIN:DAYLIGHT
TZOFFSETFROM:+0100
TZOFFSETTO:+0200
TZNAME:CEST
DTSTART:20190331T010000
END:DAYLIGHT
BEGIN:STANDARD
TZOFFSETFROM:+0200
TZOFFSETTO:+0100
TZNAME:CET
DTSTART:20191027T010000
END:STANDARD
BEGIN:DAYLIGHT
TZOFFSETFROM:+0100
TZOFFSETTO:+0200
TZNAME:CEST
DTSTART:20200329T010000
END:DAYLIGHT
BEGIN:STANDARD
TZOFFSETFROM:+0200
TZOFFSETTO:+0100
TZNAME:CET
DTSTART:20201025T010000
END:STANDARD
BEGIN:DAYLIGHT
TZOFFSETFROM:+0100
TZOFFSETTO:+0200
TZNAME:CEST
DTSTART:20210328T010000
END:DAYLIGHT
BEGIN:STANDARD
TZOFFSETFROM:+0200
TZOFFSETTO:+0100
TZNAME:CET
DTSTART:20211031T010000
END:STANDARD
END:VTIMEZONE
BEGIN:VEVENT
DTSTART;TZID=Europe/Berlin:20201214T090000
DTEND;TZID=Europe/Berlin:20201214T160000
DTSTAMP:20260424T000216
CREATED:20201201T092248Z
LAST-MODIFIED:20221213T132246Z
UID:10005735-1607936400-1607961600@www.aachen.digital
SUMMARY:Deutsch-Niederländischer Sprechtag / Nederlands-Duitse Consultdag
DESCRIPTION:Ist der Entschluss einmal gefasst die eigenen Vertriebstätigkeiten auf das Nachbarland auszuweiten und im Nachbarland unternehmerisch tätig zu werden\, steht man zunächst vielen Fragen gegenüber. Gibt es für mein Produkt oder meine Dienstleistung in Deutschland oder in den Niederlanden überhaupt einen Markt? Bestehen Gesetze oder Vorschriften\, die ich einhalten muss? Wie kann ich Geschäftsbeziehungen aufbauen und Kontakte zu Kunden herstellen? \nDie Industrie- und Handelskammer Aachen berät und informiert gemeinsam mit Experten des Grenzinfopunktes Aachen-Eurode sowie dem StartersCentrum Limburg\, Existenzgründer und Unternehmer\, die im Nachbarland tätig werden möchten zu verschiedensten Themenbereichen. \nDie Kunden werden dabei in Einzelgesprächen individuell und persönlich beraten. Zu den häufigsten Beratungsthemen zählen die Firmengründung\, die Inanspruchnahme möglicher Fördermittel für Unternehmen im Nachbarland\, die Erbringung von Dienstleistungen sowie die Kundenakquise und Netzwerkveranstaltungen. \nDie Geschäftsbeziehungen sind für viele der erste und zumeist wichtigste Schritt für den Markteintritt auf der anderen Seite der Grenze. Wenn die ersten Kontakte zu Kunden erst einmal bestehen oder erste gemeinsame Projekte mit Geschäftspartnern im Nachbarland realisiert sind\, stellt sich auch der Ausbau der grenzübergreifenden Zusammenarbeit häufig gar nicht mehr so schwierig dar. \nZielgruppe\n\nExistenzgründer/Unternehmer/Führungskräfte\n\nDer Sprechtag richtet sich an Unternehmer im Kammerbezirk Aachen\, die ein Niederlande-Engagement planen und an niederländische Unternehmer\, die am deutschen Markt interessiert sind.\n\nAnmeldung\nEine Anmeldung zwecks Terminabsprache ist erforderlich. \nBitte nehmen Sie Kontakt auf mit Karin Sterk\nTel.: 0241 4460-397\nE-Mail: karin.sterk@aachen.ihk.de \noder \n\nMELDEN SIE SICH HIER ONLINE AN \n 
URL:https://www.aachen.digital/en/event/deutsch-niederlaendischer-sprechtag-nederlands-duitse-consultdag/
LOCATION:Eurode Business Center\, Eurode-Park 1-4\, Herzogenrath\, 52134\, Deutschland
ATTACH;FMTTYPE=image/jpeg:https://www.aachen.digital/wp-content/uploads/2020/07/AdobeStock_214455476-12_6.jpeg
ORGANIZER;CN="IHK Aachen":MAILTO:info@ihkaachen.de
END:VEVENT
END:VCALENDAR