BEGIN:VCALENDAR
VERSION:2.0
PRODID:-//digitalHUB Aachen - ECPv6.15.20//NONSGML v1.0//EN
CALSCALE:GREGORIAN
METHOD:PUBLISH
X-WR-CALNAME:digitalHUB Aachen
X-ORIGINAL-URL:https://www.aachen.digital/en/
X-WR-CALDESC:Events for digitalHUB Aachen
REFRESH-INTERVAL;VALUE=DURATION:PT1H
X-Robots-Tag:noindex
X-PUBLISHED-TTL:PT1H
BEGIN:VTIMEZONE
TZID:Europe/Berlin
BEGIN:DAYLIGHT
TZOFFSETFROM:+0100
TZOFFSETTO:+0200
TZNAME:CEST
DTSTART:20170326T010000
END:DAYLIGHT
BEGIN:STANDARD
TZOFFSETFROM:+0200
TZOFFSETTO:+0100
TZNAME:CET
DTSTART:20171029T010000
END:STANDARD
BEGIN:DAYLIGHT
TZOFFSETFROM:+0100
TZOFFSETTO:+0200
TZNAME:CEST
DTSTART:20180325T010000
END:DAYLIGHT
BEGIN:STANDARD
TZOFFSETFROM:+0200
TZOFFSETTO:+0100
TZNAME:CET
DTSTART:20181028T010000
END:STANDARD
BEGIN:DAYLIGHT
TZOFFSETFROM:+0100
TZOFFSETTO:+0200
TZNAME:CEST
DTSTART:20190331T010000
END:DAYLIGHT
BEGIN:STANDARD
TZOFFSETFROM:+0200
TZOFFSETTO:+0100
TZNAME:CET
DTSTART:20191027T010000
END:STANDARD
BEGIN:DAYLIGHT
TZOFFSETFROM:+0100
TZOFFSETTO:+0200
TZNAME:CEST
DTSTART:20200329T010000
END:DAYLIGHT
BEGIN:STANDARD
TZOFFSETFROM:+0200
TZOFFSETTO:+0100
TZNAME:CET
DTSTART:20201025T010000
END:STANDARD
BEGIN:DAYLIGHT
TZOFFSETFROM:+0100
TZOFFSETTO:+0200
TZNAME:CEST
DTSTART:20210328T010000
END:DAYLIGHT
BEGIN:STANDARD
TZOFFSETFROM:+0200
TZOFFSETTO:+0100
TZNAME:CET
DTSTART:20211031T010000
END:STANDARD
BEGIN:DAYLIGHT
TZOFFSETFROM:+0100
TZOFFSETTO:+0200
TZNAME:CEST
DTSTART:20220327T010000
END:DAYLIGHT
BEGIN:STANDARD
TZOFFSETFROM:+0200
TZOFFSETTO:+0100
TZNAME:CET
DTSTART:20221030T010000
END:STANDARD
BEGIN:DAYLIGHT
TZOFFSETFROM:+0100
TZOFFSETTO:+0200
TZNAME:CEST
DTSTART:20230326T010000
END:DAYLIGHT
BEGIN:STANDARD
TZOFFSETFROM:+0200
TZOFFSETTO:+0100
TZNAME:CET
DTSTART:20231029T010000
END:STANDARD
BEGIN:DAYLIGHT
TZOFFSETFROM:+0100
TZOFFSETTO:+0200
TZNAME:CEST
DTSTART:20240331T010000
END:DAYLIGHT
BEGIN:STANDARD
TZOFFSETFROM:+0200
TZOFFSETTO:+0100
TZNAME:CET
DTSTART:20241027T010000
END:STANDARD
BEGIN:DAYLIGHT
TZOFFSETFROM:+0100
TZOFFSETTO:+0200
TZNAME:CEST
DTSTART:20250330T010000
END:DAYLIGHT
BEGIN:STANDARD
TZOFFSETFROM:+0200
TZOFFSETTO:+0100
TZNAME:CET
DTSTART:20251026T010000
END:STANDARD
BEGIN:DAYLIGHT
TZOFFSETFROM:+0100
TZOFFSETTO:+0200
TZNAME:CEST
DTSTART:20260329T010000
END:DAYLIGHT
BEGIN:STANDARD
TZOFFSETFROM:+0200
TZOFFSETTO:+0100
TZNAME:CET
DTSTART:20261025T010000
END:STANDARD
END:VTIMEZONE
BEGIN:VEVENT
DTSTART;TZID=Europe/Berlin:20251029T100000
DTEND;TZID=Europe/Berlin:20251029T170000
DTSTAMP:20260423T180114
CREATED:20250317T085335Z
LAST-MODIFIED:20250317T092901Z
UID:10007274-1761732000-1761757200@www.aachen.digital
SUMMARY:FutureMatch - Deine Zukunft startet hier!
DESCRIPTION:Die FutureMatch ist eine Berufs- und Ausbildungsmesse\, die sich insbesondere an Schüler:innen und Ausbildungssuchende richtet\, aber auch an Student:innen\, Jobeinsteiger:innen\, Wiedereinsteiger:innen\, Karriereambitionierte\, Praktikainteressierte\, Trainees und Existenzgründende. Alle Interessierten bekommen die Gelegenheit\, sich mit verschiedenen Unternehmen direkt und persönlich auszutauschen. Mit kompetenter Beratung werden die Angestellten von morgen mit Tipps und Tricks rund um die Bewerbungsunterlagen versorgt. Durch ein kurzes\, individuelles Coaching wird auch das zukünftige Vorstellungsgespräch zum Kinderspiel. Abgerundet wird die Veranstaltung durch verschiedene Vorträge und ein spezielles Rahmenprogramm. \nMehr erfahren!
URL:https://www.aachen.digital/en/event/futurematch-deine-zukunft-startet-hier/
LOCATION:Eurogress Aachen\, Monheimsallee 48\, Aachen\, NRW\, 52062\, Deutschland
ATTACH;FMTTYPE=image/png:https://www.aachen.digital/wp-content/uploads/2025/03/Future-Match-1.png
END:VEVENT
BEGIN:VEVENT
DTSTART;VALUE=DATE:20251006
DTEND;VALUE=DATE:20251009
DTSTAMP:20260423T180114
CREATED:20250313T171749Z
LAST-MODIFIED:20251006T075610Z
UID:10007272-1759708800-1759967999@www.aachen.digital
SUMMARY:Aachen Colloquium Sustainable Mobility
DESCRIPTION:The Aachen Colloquium Sustainable Mobility builds on the rich legacy of the Aachen Colloquium Automotive and Engine Technology\, now with a sharp focus on sustainable and future-oriented mobility solutions. \nIn its 34th edition\, this premier event will bring together internationally renowned experts and ethusiasts from research and industry to explore the latest innovations and shape the future of mobility. Held at the Eurogress Aachen\, the Colloquium offers an exciting mix of expert lectures\, engaging plenary speeches and interactive opportunities. \nBeyond the lecture halls\, leading companies will showcase their cutting-edge technologies in our technical exhibition\, answer your questions\, and inspire with their forward-thinking solutions. At the Driving Event\, you’ll get to experience innovative mobility concepts firsthand. \nThe Aachen Colloquium is not just an event — it’s a hub for global networking and exchange.\nSee you in Aachen! \nFind out more!\nJointly organized by
URL:https://www.aachen.digital/en/event/aachen-colloquium-sustainable-mobility/
LOCATION:Eurogress Aachen\, Monheimsallee 48\, Aachen\, NRW\, 52062\, Deutschland
ATTACH;FMTTYPE=image/png:https://www.aachen.digital/wp-content/uploads/2025/03/Colloquium-Sustainable-Mobility-1.png
END:VEVENT
BEGIN:VEVENT
DTSTART;TZID=Europe/Berlin:20241007T083000
DTEND;TZID=Europe/Berlin:20241009T150000
DTSTAMP:20260423T180114
CREATED:20240124T132832Z
LAST-MODIFIED:20240131T110515Z
UID:10006712-1728289800-1728486000@www.aachen.digital
SUMMARY:33. Aachen Colloquium Sustainable Mobility
DESCRIPTION:Das Aachen Colloquium Sustainable Mobility führt die lange Tradition des Aachener Kolloquium Fahrzeug- und Motorentechnik fort\, aber legt einen klaren Schwerpunkt auf nachhaltige Lösungen im Bereich Mobilität. Bereits zum 33. Mal werden in diesem Jahr international renommierte Expert:innen aus Forschung und Industrie zusammenkommen\, um die Zukunft der Mobilität zu diskutieren und die neuesten Innovationen zu erleben. \nDie Veranstaltung findet im Eurogress Aachen statt und verspricht ein aufregendes Vortragsprogramm mit ausgewählten Fachvorträgen und Plenarreden. Außerhalb der Konferenzsäle werden namhafte Unternehmen präsent sein\, um ihre Innovationen persönlich vorzustellen und Ihre Fragen zu beantworten. Zudem haben Sie die Gelegenheit\, neue Mobilitätskonzepte hautnah im Circus Minimus zu erleben. \nJedes Jahr bietet das Aachen Colloquium zahlreiche Möglichkeiten für Diskussionen und den direkten Austausch mit Expertinnen und Experten aus der ganzen Welt. Ganz gleich\, ob Sie als Referent:in\, Aussteller:in oder Teilnehmer:in teilnehmen – wir heißen Sie herzlich willkommen und freuen uns darauf\, Sie in Aachen begrüßen zu dürfen! \nSie haben ausgewiesene Fachkenntnisse im Bereich der Sustainable Mobility? Dann nutzen Sie die Gelegenheit\, sich mit einem Vortragsvorschlag am Aachen Colloquium zu beteiligen. Ihre Kurzfassung können Sie bis zum 15. Februar einreichen. \nInfos und Anmeldung
URL:https://www.aachen.digital/en/event/33-aachen-colloquium-sustainable-mobility/
LOCATION:Eurogress Aachen\, Monheimsallee 48\, Aachen\, NRW\, 52062\, Deutschland
ATTACH;FMTTYPE=image/jpeg:https://www.aachen.digital/wp-content/uploads/2024/01/33.-Aachen-Colloquium-1632x644_Stage.jpg
ORGANIZER;CN="Aachener Kolloquium GbR":MAILTO:http://www.aachener-kolloquium.de/
END:VEVENT
BEGIN:VEVENT
DTSTART;TZID=Europe/Berlin:20240612T100000
DTEND;TZID=Europe/Berlin:20240613T160000
DTSTAMP:20260423T180114
CREATED:20240207T130532Z
LAST-MODIFIED:20240207T130532Z
UID:10006728-1718186400-1718294400@www.aachen.digital
SUMMARY:Baukongress 2024: Leitthema „Nachhaltigkeit entlang der Wertschöpfungskette Bau“
DESCRIPTION:Wo steht die Bau- und Immobilienbranche in Hinblick auf klimapositives Bauen? Welche Handlungsmöglichkeiten haben Städte und Kommunen angesichts von Starkregen\, Dürren und Hitze und was bedeutet dies für die Bauwirtschaft? Mit welchen innovativen Verbindungstechnologien arbeitet der moderne Holzbau? Unter anderem diese Schwerpunkte setzt der „Baukongress – Die Zukunft des Bauens“ in einem seiner drei Leitthemen\, Nachhaltigkeit. \nAußerdem behandeln die insgesamt zwölf Fachsessions an den zwei Veranstaltungstagen zentrale Herausforderungen der Branche bezogen auf Automatisierung und Digitalisierung entlang der gesamten Wertschöpfungskette. Hochkarätige Expert:innen präsentieren Trends und innovative Lösungsansätze für das Planen\, Bauen und Betreiben von Gebäuden und Infrastruktur. Das Konzept ist einzigartig: Die Vorträge in den Fachsessions werden vorab durch mehr als 120 Fachleute aus Praxis und Wissenschaft gemeinsam ausgearbeitet. \nZUR ANMELDUNG
URL:https://www.aachen.digital/en/event/baukongress-2024-leitthema-nachhaltigkeit-entlang-der-wertschoepfungskette-bau/
LOCATION:Eurogress Aachen\, Monheimsallee 48\, Aachen\, NRW\, 52062\, Deutschland
ATTACH;FMTTYPE=image/jpeg:https://www.aachen.digital/wp-content/uploads/2024/02/Baukongress_Stage-scaled.jpeg
ORGANIZER;CN="AACHEN BUILDING EXPERTS e.V.":MAILTO:info@aachenbuildingexperts.de
END:VEVENT
BEGIN:VEVENT
DTSTART;TZID=Europe/Berlin:20240223T120000
DTEND;TZID=Europe/Berlin:20240223T180000
DTSTAMP:20260423T180114
CREATED:20240129T104143Z
LAST-MODIFIED:20240206T112008Z
UID:10006723-1708689600-1708711200@www.aachen.digital
SUMMARY:GoDigitalAC!
DESCRIPTION:„GoDigitalAC!“ ist ein Kongress\, der den derzeitigen Stand der Digitalisierung in Aachen thematisiert.\nErstmals sind Bürger:innen\, Handwerk und Wirtschaft der Stadt Aachen zur Beteiligung an der Fortschreibung der digitalen Strategie eingeladen.\nDie Veranstaltung wird von einer Ausstellung begleitet. \n  \nZUR ANMELDUNG
URL:https://www.aachen.digital/en/event/godigitalac/
LOCATION:Eurogress Aachen\, Monheimsallee 48\, Aachen\, NRW\, 52062\, Deutschland
ATTACH;FMTTYPE=image/jpeg:https://www.aachen.digital/wp-content/uploads/2024/01/GodigitalAC-Stage.jpg
END:VEVENT
BEGIN:VEVENT
DTSTART;VALUE=DATE:20190206
DTEND;VALUE=DATE:20190208
DTSTAMP:20260423T180114
CREATED:20190205T093136Z
LAST-MODIFIED:20190205T093305Z
UID:10004910-1549411200-1549583999@www.aachen.digital
SUMMARY:ICTM Conference 2019 in Aachen
DESCRIPTION:
URL:https://www.aachen.digital/en/event/ictm-conference-2019-in-aachen/
LOCATION:Eurogress Aachen\, Monheimsallee 48\, Aachen\, NRW\, 52062\, Deutschland
ATTACH;FMTTYPE=image/jpeg:https://www.aachen.digital/wp-content/uploads/2019/01/fraunhofer-1024x281-1-1.jpg
END:VEVENT
BEGIN:VEVENT
DTSTART;TZID=Europe/Berlin:20181130T090000
DTEND;TZID=Europe/Berlin:20181130T133000
DTSTAMP:20260423T180114
CREATED:20181022T111948Z
LAST-MODIFIED:20181108T140023Z
UID:10004656-1543568400-1543584600@www.aachen.digital
SUMMARY:ABE_Award 2018
DESCRIPTION:Zum Finale des „ABE_Award 2018“ des AACHEN BUILDING EXPERTS e.V. sind Sie herzlich eingeladen: \nFreitag\, 30. November 2018\, 13:30 bis 16:00 Uhr\,\nim Eurogress Aachen\, Raum: Tagungstreff\, Monheimsallee 48\, 52062 Aachen. \nSeien Sie exklusiv dabei\, wenn die vorausgewählten Finalisten neue Produkte\, Dienstleistungen und Geschäftsideen vor ca. 50 Unternehmern aus der Bau- und Immobilienbranche präsentieren.\nBeginnen werden wir mit dem Innovations-Impuls „ABE_I2“durch Klaus Dederichs\, Associate Partner und Head of ICT bei Drees & Sommer zum Thema „Auswirkungen Künstlicher Intelligenz auf die Immobilienbranche“. \nBitte beachten Sie\, dass die Teilnehmerzahl begrenzt ist und nur ABE-Mitglieder und ausgewählte Gäste eingeladen werden. Eine formlose Anmeldung bis zum 9. November 2018 an\ninfo@aachenbuildingexperts.de ist daher zwingend notwendig. Wir freuen uns auf Ihre Zusage!
URL:https://www.aachen.digital/en/event/abe_award-2018/
LOCATION:Eurogress Aachen\, Monheimsallee 48\, Aachen\, NRW\, 52062\, Deutschland
ATTACH;FMTTYPE=image/jpeg:https://www.aachen.digital/wp-content/uploads/2018/10/AdobeStock_112078421-2.jpeg
END:VEVENT
END:VCALENDAR