BEGIN:VCALENDAR
VERSION:2.0
PRODID:-//digitalHUB Aachen - ECPv6.15.20//NONSGML v1.0//EN
CALSCALE:GREGORIAN
METHOD:PUBLISH
X-WR-CALNAME:digitalHUB Aachen
X-ORIGINAL-URL:https://www.aachen.digital/en/
X-WR-CALDESC:Events for digitalHUB Aachen
REFRESH-INTERVAL;VALUE=DURATION:PT1H
X-Robots-Tag:noindex
X-PUBLISHED-TTL:PT1H
BEGIN:VTIMEZONE
TZID:Europe/Berlin
BEGIN:DAYLIGHT
TZOFFSETFROM:+0100
TZOFFSETTO:+0200
TZNAME:CEST
DTSTART:20240331T010000
END:DAYLIGHT
BEGIN:STANDARD
TZOFFSETFROM:+0200
TZOFFSETTO:+0100
TZNAME:CET
DTSTART:20241027T010000
END:STANDARD
BEGIN:DAYLIGHT
TZOFFSETFROM:+0100
TZOFFSETTO:+0200
TZNAME:CEST
DTSTART:20250330T010000
END:DAYLIGHT
BEGIN:STANDARD
TZOFFSETFROM:+0200
TZOFFSETTO:+0100
TZNAME:CET
DTSTART:20251026T010000
END:STANDARD
BEGIN:DAYLIGHT
TZOFFSETFROM:+0100
TZOFFSETTO:+0200
TZNAME:CEST
DTSTART:20260329T010000
END:DAYLIGHT
BEGIN:STANDARD
TZOFFSETFROM:+0200
TZOFFSETTO:+0100
TZNAME:CET
DTSTART:20261025T010000
END:STANDARD
END:VTIMEZONE
BEGIN:VEVENT
DTSTART;VALUE=DATE:20250703
DTEND;VALUE=DATE:20250705
DTSTAMP:20260423T204440
CREATED:20250513T131146Z
LAST-MODIFIED:20250625T104012Z
UID:10007328-1751500800-1751673599@www.aachen.digital
SUMMARY:TechRiders Summit
DESCRIPTION:Der TechRiders Summit ist das Event für die aktuellen Herausforderungen der digitalen Transformation. Mit klarem Fokus auf Innovation\, Resilienz und Effizienz bietet die Veranstaltung eine Bühne für praxisorientierte Lösungen in den Bereichen IT-Infrastruktur\, Sicherheit\, Datenschutz und Unternehmensstrategie. In einer Zeit\, in der Unternehmen zunehmend mit Fachkräftemangel\, Kostensenkung und der Umstellung auf agile\, cloud-basierte Strukturen konfrontiert sind\, setzt der Summit entscheidende Impulse. \nEr vereint führende Experten und Entscheider\, sowie über 40 Aussteller und 500+ Teilnehmende\, um das Potenzial von Technologien wie KI\, Blockchain und Cloud sowie Strategien zur Cybersecurity für die nachhaltige Optimierung digitaler Geschäftsprozesse zu erschließen. Die Expo bietet Ausstellern zudem eine ideale Plattform\, um ihre Lösungen einem fachkundigen Publikum vorzustellen und sich als Innovationstreiber in der digitalen Transformation zu positionieren. \nUnterstützt durch Partner wie dem eco (Verband der Internetwirtschaft)\, BitMi\, VOICE\, dem KI-Bundesverband und dem BSKI fördert das Event gezielt den Austausch zwischen Branchenführern. \nFalls ihr selbst als Aussteller am Event teilnehmen möchtet\, findet ihr weitere Infos zum Event und den Ausstellerpaketen hier.
URL:https://www.aachen.digital/en/event/edihtechriders-summit/
LOCATION:Euronova Forum Köln/Hürth\, Zollstockgürtel 57-67\, Köln\, 50969\, Germany
ATTACH;FMTTYPE=image/jpeg:https://www.aachen.digital/wp-content/uploads/2025/05/events_webseite_images-3.jpg
END:VEVENT
END:VCALENDAR