BEGIN:VCALENDAR
VERSION:2.0
PRODID:-//digitalHUB Aachen - ECPv6.15.20//NONSGML v1.0//EN
CALSCALE:GREGORIAN
METHOD:PUBLISH
X-ORIGINAL-URL:https://www.aachen.digital/en/
X-WR-CALDESC:Events for digitalHUB Aachen
REFRESH-INTERVAL;VALUE=DURATION:PT1H
X-Robots-Tag:noindex
X-PUBLISHED-TTL:PT1H
BEGIN:VTIMEZONE
TZID:Europe/Berlin
BEGIN:DAYLIGHT
TZOFFSETFROM:+0100
TZOFFSETTO:+0200
TZNAME:CEST
DTSTART:20180325T010000
END:DAYLIGHT
BEGIN:STANDARD
TZOFFSETFROM:+0200
TZOFFSETTO:+0100
TZNAME:CET
DTSTART:20181028T010000
END:STANDARD
BEGIN:DAYLIGHT
TZOFFSETFROM:+0100
TZOFFSETTO:+0200
TZNAME:CEST
DTSTART:20190331T010000
END:DAYLIGHT
BEGIN:STANDARD
TZOFFSETFROM:+0200
TZOFFSETTO:+0100
TZNAME:CET
DTSTART:20191027T010000
END:STANDARD
BEGIN:DAYLIGHT
TZOFFSETFROM:+0100
TZOFFSETTO:+0200
TZNAME:CEST
DTSTART:20200329T010000
END:DAYLIGHT
BEGIN:STANDARD
TZOFFSETFROM:+0200
TZOFFSETTO:+0100
TZNAME:CET
DTSTART:20201025T010000
END:STANDARD
END:VTIMEZONE
BEGIN:VEVENT
DTSTART;TZID=Europe/Berlin:20190404T160000
DTEND;TZID=Europe/Berlin:20190404T190000
DTSTAMP:20260423T204503
CREATED:20190206T152604Z
LAST-MODIFIED:20190214T142142Z
UID:10004733-1554393600-1554404400@www.aachen.digital
SUMMARY:Zuse-Forum Mittelstand: "Innovationen rund um die Industrie 4.0"
DESCRIPTION:Agenda \n\nBegrüßung durch die IHK\nKurzvorstellung Zuse-Gemeinschaft und Aachener Zuse-Institute\nImpulsvortrag „Was bedeutet Digitalisierung für den Mittelstand?“\nDigitalisierung in Unternehmen: digitale Vernetzung; neue Technologien und Geschäftsmodelle; der Umgang mit Daten\n3 Vorträge à 15 Minuten mit Beispielprojekten\nInteraktive Führung durch die Innovation-Labs des FIR\nWorldcafé: Themen-Tische der Institute zu ihren jeweiligen Themen im Bereich der Digitalisierung\n\nWeitere Informationen folgen…\n  \nDer Eintritt ist frei. Weitere Infos zur Veranstaltung sowie zur Anmeldung finden Sie hier:\nZuse-Forum Mittelstand: “Innovationen rund um die Industrie 4.0”
URL:https://www.aachen.digital/en/event/zuse-forum-mittelstand-innovationen-rund-um-die-industrie-4-0/
LOCATION:FIR e. V. an der RWTH Aachen\, Campus-Boulevard 55\, Aachen\, 52074\, Deutschland
ATTACH;FMTTYPE=image/png:https://www.aachen.digital/wp-content/uploads/2019/02/FIR-Logo_125.png
END:VEVENT
END:VCALENDAR